{"text_format":"1","workbook":"xlsx","n_sheets":7,"sheets":["Poland","Demographics","Construction by Type","Residential","Non-residential","Civil engineering","GDP"],"not_rendered":{"charts":0,"images":2,"macros":1,"external_links":1,"defined_names":14,"comments":0,"pivot_tables":0},"unopened":[],"bounds":{"document_bytes":16777216,"sheet_cells":100000,"rows_first":2000,"rows_last":500,"rows_between":2000,"halvings":0,"cell_chars":16384,"cell_head_chars":4096},"cells_cut":0,"cells_raw":0,"read":"whole","date_system":"1900"}

{"sheet":"Poland","index":0,"n_rows":23,"n_cols":34,"rows_kept":23,"cut":false,"hidden":false,"merged":[[3,2,3,9],[4,2,5,9]]}
[]
[]
[]
[null,null,"Poland"]
[null,null,"Construction Database",null,null,null,null,null,null,null,null,null,null,null,null,null,null,null,null,null,null,null,null,null,null,null,null,null,null,2,"New Residential",null,3,"Austria"]
[null,null,null,null,null,null,null,null,null,null,null,null,null,null,null,null,null,null,null,null,null,null,null,null,null,null,null,null,null,null,"Residential R&M",null,null,"Belgium"]
[null,null,null,null,null,null,null,null,null,null,null,null,null,null,null,null,null,null,null,null,null,null,null,null,null,null,null,null,null,null,"Total Residential",null,null,"Czech Republic"]
[null,null,null,null,null,null,null,null,null,null,null,null,null,null,null,null,null,null,null,null,null,null,null,null,null,null,null,null,null,null,"New Non-Residential",null,null,"Denmark"]
[null,null,null,null,null,null,null,null,null,null,null,null,null,null,null,null,null,null,null,null,null,null,null,null,null,null,null,null,null,null,"Non-Residential R&M",null,null,"Finland"]
[null,null,null,null,null,null,null,null,null,null,null,null,null,null,null,null,null,null,null,null,null,null,null,null,null,null,null,null,null,null,"Total Non-Residential",null,null,"France"]
[null,null,null,null,null,null,null,null,null,null,null,null,null,null,null,null,null,null,null,null,null,null,null,null,null,null,null,null,null,null,"Total Building",null,null,"Germany"]
[null,null,null,null,null,null,null,null,null,null,null,null,null,null,null,null,null,null,null,null,null,null,null,null,null,null,null,null,null,null,"Total Building R&M",null,null,"Hungary"]
[null,null,null,null,null,null,null,null,null,null,null,null,null,null,null,null,null,null,null,null,null,null,null,null,null,null,null,null,null,null,"All Building",null,null,"Ireland"]
[null,null,null,null,null,null,null,null,null,null,null,null,null,null,null,null,null,null,null,null,null,null,null,null,null,null,null,null,null,null,"New Civil Engineering",null,null,"Italy"]
[null,null,null,null,null,null,null,null,null,null,null,null,null,null,null,null,null,null,null,null,null,null,null,null,null,null,null,null,null,null,"Civil Engineering R&M",null,null,"Netherlands"]
[null,null,null,null,null,null,null,null,null,null,null,null,null,null,null,null,null,null,null,null,null,null,null,null,null,null,null,null,null,null,"Total Civil Engineering",null,null,"Norway"]
[null,null,null,null,null,null,null,null,null,null,null,null,null,null,null,null,null,null,null,null,null,null,null,null,null,null,null,null,null,null,"Total New Work",null,null,"Poland"]
[null,null,null,null,null,null,null,null,null,null,null,null,null,null,null,null,null,null,null,null,null,null,null,null,null,null,null,null,null,null,"Total R&M",null,null,"Portugal"]
[null,"Construction Forecasting and Research",null,null,null,null,null,null,null,null,null,null,null,null,null,null,null,null,null,null,null,null,null,null,null,null,null,null,null,null,"Total Construction",null,null,"Slovakia"]
[null,null,null,null,null,null,null,null,null,null,null,null,null,null,null,null,null,null,null,null,null,null,null,null,null,null,null,null,null,null,null,null,null,"Spain"]
[null,null,null,null,null,null,null,null,null,null,null,null,null,null,null,null,null,null,null,null,null,null,null,null,null,null,null,null,null,null,null,null,null,"Sweden"]
[null,null,null,null,null,null,null,null,null,null,null,null,null,null,null,null,null,null,null,null,null,null,null,null,null,null,null,null,null,null,null,null,null,"Switzerland"]
[null,null,null,null,null,null,null,null,null,null,null,null,null,null,null,null,null,null,null,null,null,null,null,null,null,null,null,null,null,null,null,null,null,"UK"]

{"sheet":"Demographics","index":1,"n_rows":24,"n_cols":35,"rows_kept":24,"cut":false,"hidden":false,"merged":[]}
["POLAND"]
["Main Demographic Indicators"]
[null,1985,1986,1987,1988,1989,1990,1991,1992,1993,1994,1995,1996,1997,1998,1999,2000,2001,2002,2003,2004,2005,2006,2007,2008,2009,2010,2011,2012,2013,2014,2015,2016,2017,2018]
["Population"," -"," -"," -"," -",38,38.200000000000003,38.299999999999997,38.4,38.5,38.6,38.6,38.6,38.6,38.700000000000003,38.6,38.253999999999998,38.241999999999997,38.219000000000001,38.191000000000003,38.173999999999999,38.156999999999996,38.125,38.116,38.136000000000003,38.527000000000001,38.53,38.537999999999997,38.533000000000001,38.534999999999997,38.496000000000002,38.466999999999999,38.417999999999999,38.368000000000002,38.375]
["% Change"," -"," -"," -"," -"," -",{"$f":"G4/F4%-100","v":0.52631578947368496},{"$f":"H4/G4%-100","v":0.26178010471203095},{"$f":"I4/H4%-100","v":0.26109660574412885},{"$f":"J4/I4%-100","v":0.2604166666666714},{"$f":"K4/J4%-100","v":0.25974025974025494},0,0,0,0.25906735751296139,-0.25839793281653556,{"$f":"Q4/P4%-100","v":-0.8963730569948325},-3.1369268573229192E-2,-6.0143297944662777E-2,-7.3261990109628528E-2,-4.4513105181863466E-2,-4.4532928171008734E-2,{"$f":"W4/V4%-100","v":-8.3864035432540618E-2},-2.3606557377050308E-2,5.2471403085320389E-2,1.0252779525907272,7.7867469566825775E-3,2.0763041785599512E-2,-1.2974207275917138E-2,5.190356317953615E-3,{"$f":"AE4/AD4%-100","v":-0.10120669521212733},{"$f":"AF4/AE4%-100","v":-7.5332502078154562E-2},{"$f":"AG4/AF4%-100","v":-0.12738191176853775},-0.13014732677389418,1.8244370308579505E-2]
["Households"," -"," -"," -"," -",12.1,12.2,12.3,12.4,12.5,12.5,12.5,12.5,12.5,12.6,12.6,12.14,12.24,13.337,13.433,13.525,13.615,13.7,14.135,14.217000000000001,13.234999999999999,13.337,13.571999999999999,14.606,14.669,14.722,14.775,14.8,14.815,14.835000000000001]
["% Change"," -"," -"," -"," -"," -",{"$f":"G6/F6%-100","v":0.8264462809917319},0.81967213114755566,0.81300813008130035,0.80645161290323131,0,0,0,0,0.79999999999999716,{"$f":"P6/O6%-100","v":0},-3.6507936507936449,0.82372322899504979,8.9624183006535816,0.71980205443503564,0.68488051812700235,0.66543438077633255,0.62431142122659367,3.1751824817518326,0.58012026883622525,-6.90722374621933,0.77068379297317335,1.7620154457524251,7.6186265841438399,0.43132959057922449,0.36130615583883241,{"$f":"AF6/AE6%-100","v":0.36000543404429663},{"$f":"AG6/AF6%-100","v":0.1692047377326702},0.10135135135134021,0.13499831252109118]
["Unemployed (millions)"," -"," -"," -"," -"," -",1.1000000000000001,2.2000000000000002,2.5,2.9,2.8,2.6,2.36,1.8260000000000001,1.831,2.35,2.7029999999999998,3.1150000000000002,3.2170000000000001,3.1760000000000002,3,2.7730000000000001,2.3090000000000002,1.7470000000000001,1.19,1.5,1.667,1.6819999999999999,1.7490000000000001,1.7869999999999999,1.56,1.4219999999999999,1.37,1.3009999999999999,1.22]
[]
["Unemployed %"," -"," -"," -"," -"," -"," -",11.8,13.6,16.399999999999999,16,14.9,13.2,10.3,10.4,13,15.1,19.399999999999999,20,20,14.3,17.7,13.8,9.6,7.1,8.1999999999999993,9.5,9.8000000000000007,10.199999999999999,10.3,9,8.1999999999999993,7.9,7.5,7]
[]
["Change in GDP %"," -"," -"," -"," -",{"$f":"GDP!F19","v":0.2},{"$f":"GDP!G19","v":-12},{"$f":"GDP!H19","v":-7.6},{"$f":"GDP!I19","v":2.6},{"$f":"GDP!J19","v":3.8},{"$f":"GDP!K19","v":5.2},{"$f":"GDP!L19","v":7},6,6.8,4.8,4.0999999999999996,{"$f":"GDP!Q19","v":4},1,1.4,3.8,5.3,3.6,6.2,6.8,5.0999999999999996,1.6,3.9,4.8,1.8,1.7,3.4,3.5,3.4,3.6,4]
[]
["Change Consumer Prices %"," -"," -"," -"," -",251,586,70.3,43,35.299999999999997,32.200000000000003,27.8,19.899999999999999,14.9,11.8,7.3,10.1,5.5,1.9,0.8,3.5,2.1,1.1000000000000001,2,4.2,3.5,2.6,4.3,3.7,0.9,0,-0.8,1.4,1.5,1.7]
[]
["Change in Construction Prices % (1)"," -"," -"," -"," -"," -",650,46.3,17.399999999999999,16.3,19.7,21.9,19.2,14.2,12.9,8.6,7.9,3.8,1.2,-1.1000000000000001,2.5,2.2999999999999998,3.6,11.1,4,0.2,-0.1,1,-0.2,-2.8,-1.2,0.2,1.2,1.8,2.5]
[]
["Short Term Interest Rates % (2)"," -"," -"," -"," -",80,64,64.5,48,42,38,32,24,24,null,null,18,14,7.5,5.8,7,5.3,4.0999999999999996,4.4000000000000004,5.8,5.9,5.7,5.22,4.2,3.2,2.7,2.4,2.2999999999999998,2.7,3]
[]
["Long Term Interest Rates % (3)"," -"," -"," -"," -",83,64,64.5,52,50,43,34,27,27,23,19,21,17,12,9,12,5.2,5.3,5.5,6.1,6.2,6.1,5.7,5.2,4.5,4,3.5,3.5,3.6,4]
[]
["(1) Refers to new construction only"]
["(2) 3-month Interbank rate (or equivalent)"]
["(3) 10-year government bond (or equivalent)"]

{"sheet":"Construction by Type","index":2,"n_rows":32,"n_cols":40,"rows_kept":32,"cut":false,"hidden":false,"merged":[]}
["POLAND",null,null,null,null,null,null,null,null,null,null,null,null,null,null,null,null,null,null,null,null,null,null,null,null,null,null,null,null,null,null,null,null,null,null,null,null,null,"Volume bn Euro (1)"]
[null,null,null,null,null,null,null,null,null,null,null,null,null,null,null,null,null,null,null,null,null,null,null,null,null,null,null,null,null,null,null,null,null,null,null,null,null,null,"Annual % change"]
[null,1980,1981,1982,1983,1984,1985,1986,1987,1988,1989,1990,1991,1992,1993,1994,1995,1996,1997,1998,1999,2000,2001,2002,2003,2004,2005,2006,2007,2008,2009,2010,2011,2012,2013,2014,2015,2016,2017,2018]
["New Residential Construction"," -"," -"," -"," -",{"$f":"(G4*100/(100+G5))","v":4.6446174514197729},4.8211129145737246,4.8596818178903138,4.9471560906123395,5.090623617240098,5.0244455102159771,4.7882965712358256,{"$f":"(N4*100/(100+N5))","v":4.6829540466686375},3.8774859506416317,2.8770945753760908,2.6699437659490122,2.4483384333752443,2.4483384333752443,2.8816943360826626,3.2649596827816567,3.8004130707578483,4.4844874234942607,4.4486115241063064,4.0415635696505792,3.9243582261307117,4.1323492121156393,4.3364872631941518,4.7224346296184319,5.7660926827641044,6.9885043315100948,6.6740216365921397,6.5338671822237053,7.0631104239838249,7.4939601598468384,7.2316715542521992,7.3979999999999997,{"$f":"(AJ4*(100+AK5)/100)","v":7.8566760000000002},{"$f":"(AK4*(100+AL5)/100)","v":8.2102264199999997},{"$f":"(AL4*(100+AM5)/100)","v":8.7603115901399988},9.2421287275976987]
[null," -"," -"," -"," -"," -",3.8,0.8,1.8,2.9,-1.3,-4.7,-2.2000000000000002,-17.2,-25.8,-7.2,-8.3000000000000007,0,17.7,13.3,16.399999999999999,18,-0.8,-9.15,-2.9,5.3,4.9400000000000004,8.9,22.1,21.2,-4.5,-2.1,8.1,6.1,-3.5,2.2999999999999998,6.2,4.5,6.7,5.5]
["Residential R & M"," -"," -"," -"," -"," -"," -"," -"," -"," -"," -"," -"," -"," -",{"$f":"(P6*100/(100+P7))","v":2.0179806113040772},1.9978008051910365,1.9978008051910365,2.0177788132429471,2.0419921590018624,2.0522021197968714,2.1035071727917933,2.1455773162476293,2.1455773162476293,2.2451321037215193,2.3304471236629372,2.5052306579376578,2.6064419765183389,2.6924545617434439,2.7436111984165694,2.7628164768054853,2.8788547688313155,2.9997666691222311,3.1047585025415092,3.1513298800796323,3.2458697764820212,3.34,{"$f":"(AJ6*(100+AK7)/100)","v":3.4401999999999999},{"$f":"(AK6*(100+AL7)/100)","v":3.5330854},{"$f":"(AL6*(100+AM7)/100)","v":3.6355448766},3.744611222898]
[null," -"," -"," -"," -"," -"," -"," -"," -"," -"," -"," -"," -"," -"," -",-1,0,1,1.2,0.5,2.5,2,0,4.6399999999999997,3.8,7.5,4.04,3.3,1.9,0.7,4.2,4.2,3.5,1.5,3,2.9,3,2.7,2.9,3]
["Total Residential"," -"," -"," -"," -"," -"," -"," -"," -"," -"," -"," -"," -"," -",{"$f":"O4+O6","v":4.8950751866801685},4.6677445711400489,4.446139238566281,4.4661172466181913,4.9236864950845245,5.3171618025785286,5.9039202435496421,6.6300647397418899,6.5941888403539357,6.2866956733720984,6.2548053497936493,6.6375798700532975,6.9429292397124911,{"$f":"AB4+AB6","v":7.4148891913618762},8.5097038811806733,9.7513208083155796,9.5528764054234543,9.533633851345936,10.167868926525333,10.64529003992647,10.477541330734221,10.738,11.296876000000001,11.743311819999999,{"$f":"AM4+AM6","v":12.39585646674},12.986739950495698]
[null," -"," -"," -"," -"," -"," -"," -"," -"," -"," -"," -"," -"," -"," -",-4.5719867190565839,-4.6501646699740844,0.46118506116620539,10.0496333039915,7.8424189972332643,10.153457006000721,{"$f":"(V8-U8)/U8%","v":12.29936154685695},-0.54110933748364687,-4.6630931328519996,-0.50726685742915212,6.1196871661605945,4.6003117949184347,6.7977064918053109,14.765084973814895,{"$f":"(AD8-AC8)/AC8%","v":14.590600853700199},-2.0350515257676576,-0.2014320426734896,6.6526057646933587,4.695390124037389,-1.5758021487727172,{"$f":"(AJ8-AI8)/AI8%","v":2.4858758466718149},{"$f":"(AK8-AJ8)/AJ8%","v":5.2046563605885785},{"$f":"(AL8-AK8)/AK8%","v":3.9518519987295404},{"$f":"(AM8-AL8)/AL8%","v":5.5567343926664199},4.766782233572405]
["New Non-residential building"," -"," -"," -"," -"," -"," -",{"$f":"(I10/(1+I11/100))","v":4.0214566818507098},4.232071820088426,4.430956821408178,4.4227122893067881,3.8818961171041293,4.0304789939660033,4.1323522463401883,4.6387272516718783,5.1918067612474905,{"$f":"(R10/(1+R11/100))","v":6.0744139106595636},6.7425994408321159,8.1248323262027,10.082916916817551,10.435819008906163,10.206230990710228,8.9100396548900296,8.4600826523180839,7.8509567013511816,8.1257401858984721,8.5515289716395522,9.5777124482362996,10.966480753230563,11.646402559930859,11.436767313852103,11.448204081165954,12.570128081120219,12.808960514661502,12.463118580765641,13.348000000000001,{"$f":"(AJ10*(100+AK11)/100)","v":13.895268000000002},{"$f":"(AK10*(100+AL11)/100)","v":14.381602380000002},{"$f":"(AL10*(100+AM11)/100)","v":15.000011282340001},15.61501174491594]
[null," -"," -"," -"," -"," -"," -"," -",5.2372847676874406,4.6994713174692055,-0.18606663151300837,-12.228156317340408,3.8275850867620957,2.5275718475818447,12.253916780210597,11.923087510184455,17,11,20.5,24.1,3.5,-2.2000000000000002,-12.7,-5.05,-7.2,3.5,5.24,12,14.5,6.2,-1.8,0.1,9.8000000000000007,1.9,-2.7,7.1,4.0999999999999996,3.5,4.3,4.0999999999999996]
["Non-residential R & M"," -"," -"," -"," -"," -"," -"," -"," -"," -"," -"," -"," -"," -",{"$f":"(P12*100/(100+P13))","v":2.3946204601308065},2.2269970279216502,2.2938069387592996,2.2938069387592996,2.3052759734530963,2.7086992688073881,3.1312563547413408,3.2627691216404773,3.1289955876532178,3.0304322266421413,3.0698278455884891,3.1926209594120287,3.4173814749546358,3.7283631891755071,3.8588559007966499,4.0132101368285156,4.0252497672390009,4.1943102574630391,4.4040257703361911,4.5141264145945961,4.6360078277886503,4.7380000000000004,{"$f":"(AJ12*(100+AK13)/100)","v":4.8943539999999999},{"$f":"(AK12*(100+AL13)/100)","v":5.0313959119999998},{"$f":"(AL12*(100+AM13)/100)","v":5.18233778936},5.3222609096727203]
[null," -"," -"," -"," -"," -"," -"," -"," -"," -"," -"," -"," -"," -"," -",-7,3,0,0.5,17.5,15.6,4.2,-4.0999999999999996,-3.15,1.3,4,7.04,9.1,3.5,4,0.3,4.2,5,2.5,2.7,2.2000000000000002,3.3,2.8,3,2.7]
["Total Non-residential"," -"," -"," -"," -"," -"," -"," -"," -"," -"," -"," -"," -"," -",{"$f":"O10+O12","v":7.0333477118026853},7.4188037891691412,8.3682208494188632,9.0364063795914156,10.430108299655796,12.791616185624939,13.567075363647504,13.469000112350706,12.039035242543248,11.490514878960225,10.920784546939672,11.318361145310501,11.968910446594188,{"$f":"AB10+AB12","v":13.306075637411807},14.825336654027213,15.659612696759375,15.462017081091105,15.642514338628994,16.974153851456411,17.3230869292561,17.099126408554291,18.086000000000002,18.789622000000001,19.412998292000001,20.182349071700003,20.937272654588661]
[null," -"," -"," -"," -"," -"," -"," -"," -"," -"," -"," -"," -"," -"," -",4.7672671908445832,9.6787383604999295,7.5323741973296592,14.63685949581691,22.403764987313473,6.5,{"$f":"(V14-U14)/U14%","v":-0.72289162305081101},-10.616711395645615,-4.5561820572189653,-4.9582663442154473,3.6405497852463542,5.7477340838627287,11.17198759890559,11.417799342307969,5.6273665968019406,-1.261816747927365,1.1673590618304477,8.512950565363715,2.0556728827443145,-1.2928441773479353,5.7714854423907971,{"$f":"(AK14-AJ14)/AJ14%","v":3.8904235320137079},{"$f":"(AL14-AK14)/AK14%","v":3.3176627608580933},{"$f":"(AM14-AL14)/AL14%","v":3.963070351770686},{"$f":"(AN14-AM14)/AM14%","v":3.7405139521009638}]
["New Building"," -"," -"," -"," -"," -"," -",{"$f":"H4+H10","v":8.8811384997410237},9.1792279107007655,9.5215804386482752,9.4471577995227651,8.6701926883399558,8.7134330406346407,8.0098381969818195,7.5158218270479686,7.8617505271965022,{"$f":"Q4+Q10","v":8.5227523440348083},{"$f":"R4+R10","v":9.1909378742073606},{"$f":"S4+S10","v":11.006526662285363},{"$f":"T4+T10","v":13.347876599599207},14.236232079664012,14.69071841420449,13.358651178996336,12.501646221968663,11.775314927481894,{"$f":"Z4+Z10","v":12.258089398014111},12.888016234833703,14.300147077854731,16.732573435994667,18.634906891440956,18.110788950444242,{"$f":"AF4+AF10","v":17.98207126338966},19.633238505104043,20.302920674508339,19.69479013501784,20.746000000000002,21.751944000000002,22.591828800000002,{"$f":"AM4+AM10","v":23.76032287248},24.857140472513638]
[null," -"," -"," -"," -"," -"," -"," -",{"$f":"(I16-H16)/H16%","v":3.3564324097460503},3.7296440537053148,-0.7816206522126008,-8.224326592936329,0.49872423657707621,-8.0748292937082695,-6.1676198418090493,4.602672975876092,8.4078197921909776,7.8400204910356761,19.754118817113447,21.272377827754177,6.6554067490515987,{"$f":"(V16-U16)/U16%","v":3.1924622470133572},-9.067407036542031,-6.4153554542627225,-5.8098852070410949,4.0998858502331048,5.138866395619897,{"$f":"(AB16-AA16)/AA16%","v":10.956929424129093},17.009799583857436,11.36904291932788,-2.812560020020503,-0.7107237978797426,9.1822972867205408,3.4109613104847671,-2.9952859947586141,5.3375022418395028,{"$f":"(AK16-AJ16)/AJ16%","v":4.8488576111057524},{"$f":"(AL16-AK16)/AK16%","v":3.8611941994701717},{"$f":"(AM16-AL16)/AL16%","v":5.1721978013572665},4.6161729616225431]
["Building R&M"," -"," -"," -"," -"," -"," -",{"$f":"H28-H16-H26","v":3.3705427163682975},{"$f":"I28-I16-I26","v":3.3494562142766835},4.4328437761706772,4.8739174015128812,3.3987814767767675,3.2814490100940485,2.9134660896897815,{"$f":"O6+O12","v":4.4126010714348833},4.224797833112687,4.291607743950336,4.3115857520022463,4.3472681324549587,4.7609013886042595,5.2347635275331346,5.4083464378881061,5.2745729039008467,5.275564330363661,5.4002749692514262,5.697851617349686,6.0238234514729747,{"$f":"AB6+AB12","v":6.4208177509189515},6.6024670992132197,6.7760266136340004,6.9041045360703164,7.1940769265852698,7.5087842728777003,7.6654562946742288,7.881877604270672,8.0779999999999994,{"$f":"AK6+AK12","v":8.3345540000000007},{"$f":"AL6+AL12","v":8.5644813119999998},{"$f":"AM6+AM12","v":8.8178826659599991},9.0668721325707207]
[null," -"," -"," -"," -"," -"," -"," -",{"$f":"(I18-H18)/H18%","v":-0.62561147761789382},32.345177622450329,9.9501279001360743,-30.265919653833823,-3.4521921307512562,-11.214037435057399,51.455377738915985,-4.2560665530801494,1.5813753338446899,0.46551337502995926,0.82759296706883279,9.5147859194900111,9.9532021407357067,{"$f":"(V18-U18)/U18%","v":3.3159646933807521},-2.4734645889196472,1.879633632670322E-2,2.3639298296485478,5.510398077739163,5.7209603902411219,6.5904039626012239,2.8290687470185629,2.6287069941092596,1.8901626238983655,4.200000000000002,4.3745340716256296,2.0865164865961026,2.8233323794019585,2.4882699982940815,{"$f":"(AK18-AJ18)/AJ18%","v":3.175959395890088},{"$f":"(AL18-AK18)/AK18%","v":2.7587236461603002},{"$f":"(AM18-AL18)/AL18%","v":2.9587472344057737},2.8236876815327205]
["Total Building"," -"," -"," -"," -"," -"," -"," -"," -"," -"," -"," -"," -"," -",{"$f":"O16+O18","v":11.928422898482852},12.086548360309189,12.814360087985143,13.502523626209607,15.353794794740322,18.108777988203467,{"$f":"U16+U18","v":19.470995607197146},{"$f":"V16+V18","v":20.099064852092596},18.633224082897183,17.777210552332324,17.175589896733321,17.955941015363798,18.911839686306678,{"$f":"AB16+AB18","v":20.720964828773681},23.335040535207888,25.410933505074958,25.014893486514559,25.176148189974931,27.142022777981744,27.968376969182568,27.57666773928851,28.824000000000002,{"$f":"AK16+AK18","v":30.086498000000002},{"$f":"AL16+AL18","v":31.156310112},{"$f":"AM16+AM18","v":32.578205538440002},33.924012605084357]
[null," -"," -"," -"," -"," -"," -"," -"," -"," -"," -"," -"," -"," -","-",0.87211324303734228,4.7232289575385877,5.8755675438134318,12.824621172109538,17.229173183124786,7.5,{"$f":"(V20-U20)/U20%","v":3.2256657931928956},-7.2930794541060378,-4.5940172605478677,-3.3842241662602803,4.5433730271988786,5.3235788095147756,9.5660981294004941,12.61560804738316,8.896033271229868,{"$f":"(AE20-AD20)/AD20%","v":-1.5585417925764253},0.64463477946569714,7.8084803647192453,3.0445563986158857,-1.4005433004770695,4.5231435230095478,{"$f":"(AK20-AJ20)/AJ20%","v":4.3800235914515708},{"$f":"(AL20-AK20)/AK20%","v":3.5557880880652757},4.5637478293437344,4.1310042846172008]
["Civil Engineering New"," -"," -"," -"," -"," -"," -"," -"," -"," -"," -"," -"," -"," -",{"$f":"(P22*100/(100+P23))","v":3.0248918565241758},3.0581656669459414,3.2416556069626976,3.656587524653923,4.1538834280068562,4.091575176586753,4.2225055822375293,{"$f":"(W22*100/(100+W23))","v":3.8847051356585269},3.7293169302321858,3.5447157421856925,3.707772666326234,3.8449602549803048,4.3655678735046379,5.0116719187833239,5.8135394257886555,6.7844005098953613,8.6976014536858521,10.089217686275589,12.65187897858959,10.77940088975833,8.4726090993500467,9.125,{"$f":"(AJ22*(100+AK23)/100)","v":10.0375},{"$f":"(AK22*(100+AL23)/100)","v":12.115262499999998},{"$f":"(AL22*(100+AM23)/100)","v":14.514084474999997},16.981478835749996]
[null," -"," -"," -"," -"," -"," -"," -"," -"," -"," -"," -"," -"," -"," -",1.1000000000000001,6,12.8,13.6,-1.5,3.2,-8,-4,-4.95,4.5999999999999996,3.7,13.54,14.8,16,16.7,28.2,16,25.4,-14.8,-21.4,7.7,10,20.7,19.8,17]
["Civil Engineering R&M"," -"," -"," -"," -"," -"," -"," -"," -"," -"," -"," -"," -"," -",{"$f":"(P24*100/(100+P25))","v":1.2254544903264906},1.3479999393591395,1.3951799372367093,1.4956328927177522,1.8545847869700129,2.2255017443640157,2.28336478971748,2.5276848222172505,2.4114113203952572,2.3209833958804351,2.4008252246987221,2.520866485933658,2.6327929579091127,3.1172268621643897,3.3104949276185818,3.5422295725518826,3.9672971212581087,4.2688117024737249,4.5462844631345165,4.7781449707543766,4.9358237547892712,5.1529999999999996,{"$f":"(AJ24*(100+AK25)/100)","v":5.3797320000000006},{"$f":"(AK24*(100+AL25)/100)","v":5.5949212800000012},{"$f":"(AL24*(100+AM25)/100)","v":5.8355028950400012},6.1097715311068814]
[null," -"," -"," -"," -"," -"," -"," -"," -"," -"," -"," -"," -"," -"," -",10,3.5,7.2,24,20,2.6,10.7,-4.5999999999999996,-3.75,3.44,5,4.4400000000000004,18.399999999999999,6.2,7,12,7.6,6.5,5.0999999999999996,3.3,4.4000000000000004,4.4000000000000004,4,4.3,4.7]
["Total Civil Engineering"," -"," -"," -"," -"," -",{"$f":"'Civil engineering'!B20","v":5.8524658707681105},{"$f":"'Civil engineering'!C20","v":5.9344003929588647},{"$f":"'Civil engineering'!D20","v":6.130235605926508},{"$f":"'Civil engineering'!E20","v":5.3762166263975475},{"$f":"'Civil engineering'!F20","v":4.1396868023261115},{"$f":"'Civil engineering'!G20","v":3.8995849677911969},{"$f":"'Civil engineering'!H20","v":3.9736770821792309},{"$f":"'Civil engineering'!I20","v":4.4703867174516345},{"$f":"O22+O24","v":4.2503463468506659},4.4061656063050805,4.6368355441994069,5.1522204173716748,6.0084682149768689,6.3170769209507682,6.5058703719550088,{"$f":"V22+V24","v":6.4123899578757779},6.1407282506274434,5.8656991380661276,6.1085978910249565,6.3658267409139633,6.9983608314137502,{"$f":"AB22+AB24","v":8.1288987809477131},9.1240343534072377,10.326630082447243,12.664898574943962,14.358029388749314,17.198163441724105,15.557545860512707,13.408432854139317,14.277999999999999,15.417232,17.710183780000001,20.349587370039998,23.091250366856876]
[null," -"," -"," -"," -"," -","-",{"$f":"(H26-G26)/G26%","v":1.4000000000000101},3.3000000000000123,-12.299999999999999,-23,-5.8000000000000034,1.9000000000000319,12.499999999999995,-4.9221775320235306,3.6660367588601406,5.2351626903048132,11.115012992362962,16.619005559587364,5.13622931722686,2.9886204231280087,{"$f":"(V26-U26)/U26%","v":-1.4368625369819676},-4.2365125800665968,-4.4787702913447447,4.1410025853953121,4.2109311249139454,9.9364012915150735,16.154324945054043,12.241948131915429,13.180526096889519,22.643093379235161,13.368688298499411,19.780806795118195,-9.5394929044058845,-13.813958998688532,6.4852257927535328,{"$f":"(AK26-AJ26)/AJ26%","v":7.9789326236167648},{"$f":"(AL26-AK26)/AK26%","v":14.87265535084379},{"$f":"(AM26-AL26)/AL26%","v":14.903309998514294},13.472818622619023]
["Total Construction Output"," -"," -"," -"," -",{"$f":"(G28*100/(100+G29))","v":16.653539625071026},17.402948908199221,18.186081609068186,18.658919730903957,19.3306408412165,18.460762003361758,15.96855913290792,15.96855913290792,15.393691004123236,{"$f":"O20+O26","v":16.17876924533352},16.492713966614268,17.45119563218455,18.654744043581282,21.362263009717189,24.425854909154236,{"$f":"U20+U26","v":25.976865979152155},{"$f":"(W28*100/(100+W29))","v":26.479868989750766},24.758677505416966,23.560357514154784,23.183391793928308,24.226644424655085,25.801376312257666,28.716931835542781,32.450132974163346,35.987197468347148,37.750570144296155,39.534177578724247,44.340186219705856,43.525922829695283,40.985100593427831,43.101999999999997,{"$f":"(AJ28*(100+AK29)/100)","v":45.503729999999997},{"$f":"(AK28*(100+AL29)/100)","v":48.866493892000001},{"$f":"(AL28*(100+AM29)/100)","v":52.927792908479994},57.015262971941226]
[null," -"," -"," -"," -"," -",4.5,4.5,2.6,3.6,-4.5,-13.5,0,-3.6,5.0999999999999996,1.6,3.7,7,14.1,13.5,6.7,1,-6.5,-4.84,-1.6,4.5,6.5,11.3,13,10.9,4.9000000000000004,4.7247165476190398,12.15659192963208,-1.8364004742242011,-5.8374919383305759,5.1650462629622691,5.5722008259477418,7.3900840480549679,8.3110096366968396,7.7227290972232172]
[]
[{"$f":"GDP!$A$21","v":"(1) Billions Euro at 2014 Prices: 1 Euro = 4.1198 PLN"}]
["Building R&M 1986-1992 is derived from total construction output minus new building and total civil engineering"]

{"sheet":"Residential","index":3,"n_rows":20,"n_cols":35,"rows_kept":20,"cut":false,"hidden":false,"merged":[]}
["POLAND"]
["Residential Construction",null,null,null,null,null,null,null,null,null,null,null,null,null,null,null,null,null,null,null,null,null,null,null,null,null,null,null,null,null,null,null,null,"000's"]
[null,1985,1986,1987,1988,1989,1990,1991,1992,1993,1994,1995,1996,1997,1998,1999,2000,2001,2002,2003,2004,2005,2006,2007,2008,2009,2010,2011,2012,2013,2014,2015,2016,2017,2018]
["Building Permits"]
["1+2 family dwellings","-","-","-","-",322.89999999999998,328,55.6,69.900000000000006,75,83.3,64.2,68.5,70.7,81.900000000000006,106,81.3,91.3,45.7,67.599999999999994,59,58.9,73.7,110.5,110.5,95,98.9,96.4,88.1,78.099999999999994,75.900000000000006,82.7,83.1,85.2,86.5]
["Flats","-","-","-","-",174.5,176,131,86.4,25.9,27.2,30,42,41.1,41.1,78.7,70.7,57.7,40.299999999999997,28,46.8,56.9,86.8,137.19999999999999,109.9,73.400000000000006,76,87.7,77,60.6,80.900000000000006,87.1,83,86.2,89]
["Total","-","-","-","-",{"$f":"SUM(F5:F6)","v":497.4},504,186.6,156.30000000000001,100.9,110.5,94.2,110.5,111.80000000000001,123,184.7,152,{"$f":"SUM(R5:R6)","v":149},86,95.6,105.8,115.8,160.5,247.7,220.4,168.4,174.9,184.10000000000002,165.1,138.69999999999999,156.80000000000001,169.8,166.1,{"$f":"SUM(AH5:AH6)","v":171.4},175.5]
["Housing Starts"]
["1+2 family dwellings","-","-","-","-","-","-","-","-","-","-","-","-","-",58.3,88.9,72.2,76.5,47.8,57,61,58.8,69.400000000000006,91.6,96.3,89.8,86.477000000000004,90.5,79.7,72.7,74.7,77.2,75.5,77.8,80]
["Flats","-","-","-","-","-","-","-","-","-","-","-","-","-",37,46.7,53.6,37.9,29.2,25.4,36.200000000000003,46.9,68.599999999999994,93.5,78.400000000000006,53.1,71.599999999999994,71.7,62.1,54.7,73.400000000000006,79.900000000000006,75.599999999999994,77.2,80]
["Total","-","-","-","-",180.5,145,90.5,83.5,54.8,47,41.6,43,35.200000000000003,{"$f":"SUM(O9:O10)","v":95.3},{"$f":"SUM(P9:P10)","v":135.60000000000002},125.80000000000001,114.4,77,82.4,97.2,{"$f":"SUM(V9:V10)","v":105.69999999999999},138,185.1,174.7,142.9,158.077,162.19999999999999,141.80000000000001,127.4,148.10000000000002,157.10000000000002,151.1,{"$f":"SUM(AH9:AH10)","v":155},160]
["Housing Completions",null,null,null,null,null,null,null,null,null,null,null,null,null,null," "]
["1+2 family dwellings","-","-","-","-",55,47.4,40,36.9,33.4,36.1,31.7,30.1,35.200000000000003,37.299999999999997,33.299999999999997,35.5,39.9,52.4,117.9,64.900000000000006,63.3,57.6,71.599999999999994,83.3,72.2,70.424999999999997,73.099999999999994,81.099999999999994,81.2,76.599999999999994,78.900000000000006,80.7,81.5,82]
["Flats","-","-","-","-",95.2,86.8,96.8,96.1,61,35.5,35.4,32,38.6,43.3,48.7,52.3,66,45.2,44.7,43.2,50.8,57.6,62.2,81.900000000000006,87.8,65.400000000000006,58,71.8,63.9,66.8,71.400000000000006,74.5,76.8,81]
["Total","-","-","-","-",{"$f":"SUM(F13:F14)","v":150.19999999999999},134.19999999999999,136.80000000000001,133,94.4,71.599999999999994,67.099999999999994,62.1,73.800000000000011,80.599999999999994,82,{"$f":"SUM(Q13:Q14)","v":87.8},105.9,97.6,162.60000000000002,108.10000000000001,114.1,115.2,{"$f":"SUM(X13:X14)","v":133.80000000000001},165.2,160,135.82499999999999,131.1,152.89999999999998,145.1,{"$f":"SUM(AE13:AE14)","v":143.39999999999998},150.30000000000001,{"$f":"SUM(AG13:AG14)","v":155.19999999999999},{"$f":"SUM(AH13:AH14)","v":158.30000000000001},{"$f":"SUM(AI13:AI14)","v":163}]
["Housing Stock (millions dwellings)",null,null,null,null,11.06,11.02,11.2,11.3,11.5,11.6,11.6,11.7,11.77,11.75,11.994999999999999,12.4,12.49,12.57,12.73,12.83,12.904999999999999,13.005000000000001,13.128,13.281000000000001,13.414999999999999,13.54,13.664999999999999,13.81,13.94,14.1,14.231999999999999,14.38,14.515000000000001,14.635]
["second homes",null,null,null,null,null,null,null,null,null,null,null,null,null,null,null,0.08,0.1,0.11,0.14000000000000001,0.16,0.17,0.18,0.19,0.20499999999999999,0.22500000000000001,0.255,0.28000000000000003,0.29499999999999998,0.30499999999999999,0.32,0.33500000000000002,0.34699999999999998,0.38,0.4]
["vacancies",null,null,null,null,null,null,null,null,null,null,null,null,null,null,null,0.6,0.68,0.76,0.78,0.8,0.8,0.8,0.8,0.82,0.83499999999999996,0.86,0.89,0.9,0.90500000000000003,0.91,0.91500000000000004,0.92,0.92500000000000004,0.93500000000000005]
["share of family dwellings (%)",null,null,null,null,null,null,null,null,null,null,null,null,null,null,null,null,null,null,null,null,58.9,58.9,58.9,58.9,58.9,58.9,58.8,59.1,59.2,59.2,59.2,59.3,59.4,59.5]
["Homeownership rate (%)",null,null,null,null,null,null,null,null,null,null,null,null,null,null,null,72.599999999999994,74.7,74.900000000000006,75,75.099999999999994,75.3,75.5,75.7,76,76.2,76.5,77.3,77.5,77.7,77.900000000000006,78,78.099999999999994,78.2,78.3]

{"sheet":"Non-residential","index":4,"n_rows":25,"n_cols":35,"rows_kept":25,"cut":false,"hidden":false,"merged":[]}
["POLAND",null,null,null,null,null,null,null,null,null,null,null,null,null,null,null,null,null,null,null,null,null,null,null,null,null,null,null,null,null,null,null,null,"Volume bn Euro (1)"]
["New Non-Residential Building",null,null,null,null,null,null,null,null,null,null,null,null,null,null,null,null,null,null,null,null,null,null,null,null,null,null,null,null,null,null,null,null,"Annual % change"]
[null,1985,1986,1987,1988,1989,1990,1991,1992,1993,1994,1995,1996,1997,1998,1999,2000,2001,2002,2003,2004,2005,2006,2007,2008,2009,2010,2011,2012,2013,2014,2015,2016,2017,2018]
["Buildings for education"," -"," -"," -"," -"," -"," -"," -"," -"," -"," -"," -"," -",{"$f":"O4*100/(100+O5)","v":0.59405249033970697},0.61722053746295558,0.59253171596443732,0.67785628306331636,0.77275616269218061,0.73643662304564816,0.67015732697153985,0.6828903161839992,0.68630476776491911,0.75150372070258642,0.76653379511663822,0.88994573613041694,0.9566916663401982,1.052360832974218,1.0365754204796047,1.0054781578652165,0.89387008234217757,0.97699999999999998,{"$f":"(AE4*(100+AF5)/100)","v":0.979931},{"$f":"(AF4*(100+AG5)/100)","v":0.93093445000000008},{"$f":"(AG4*(100+AH5)/100)","v":0.96817182800000012},{"$f":"(AH4*(100+AI5)/100)","v":1.0146440757440001}]
[null," -"," -"," -"," -"," -"," -"," -"," -"," -"," -"," -"," -"," -",3.9,-4,14.4,14,-4.7,-9,1.9,0.5,9.5,2,16.100000000000001,7.5,10,-1.5,-3,-11.1,9.3000000000000007,0.3,-5,4,4.8]
["Buildings for health"," -"," -"," -"," -"," -"," -"," -"," -"," -"," -"," -"," -",{"$f":"O6*100/(100+O7)","v":0.81482719993172914},0.84986476952879342,0.62635033514272076,0.67520566128385295,0.51315630257572831,0.45157754626664087,0.45338385645170742,0.42527405735170154,0.4142169318605573,0.44818272027312306,0.448182720273123,0.51361739743299895,0.55059785004817485,0.57647594900043908,0.60414679455246012,0.62106290479992898,0.82352941176470584,0.75600000000000001,{"$f":"(AE6*(100+AF7)/100)","v":0.76507199999999997},{"$f":"(AF6*(100+AG7)/100)","v":0.73829447999999998},{"$f":"(AG6*(100+AH7)/100)","v":0.77151773159999992},{"$f":"(AH6*(100+AI7)/100)","v":0.79466326354799988}]
[null," -"," -"," -"," -"," -"," -"," -"," -"," -"," -"," -"," -"," -",4.3,-26.3,7.8,-24,-12,0.4,-6.2,-2.6,8.1999999999999993,0,14.6,7.2,4.7,4.8,2.8,32.6,-8.1999999999999993,1.2,-3.5,4.5,3]
["Industrial Buildings"," -"," -"," -"," -"," -"," -"," -"," -"," -"," -"," -"," -",{"$f":"O8*100/(100+O9)","v":2.2509511270323319},2.7934303486471235,2.5140873137824111,2.3330730271900775,2.2187524488577637,1.6196892876661675,1.8059535557477768,2.1256073351151334,2.2637718118976169,2.5354244293253307,2.9537694601640103,2.7381442895720376,2.3602803776110965,2.1195317790947645,2.4205052917262213,2.6310892521064027,2.8863049095607241,3.351,{"$f":"(AE8*(100+AF9)/100)","v":3.5855700000000001},{"$f":"(AF8*(100+AG9)/100)","v":3.8007042000000002},{"$f":"(AG8*(100+AH9)/100)","v":3.9717358890000001},{"$f":"(AH8*(100+AI9)/100)","v":4.1703226834500002}]
[null," -"," -"," -"," -"," -"," -"," -"," -"," -"," -"," -"," -"," -",24.1,-10,-7.2,-4.9000000000000004,-27,11.5,17.7,6.5,12,16.5,-7.3,-13.8,-10.199999999999999,14.2,8.6999999999999993,9.6999999999999993,16.100000000000001,7,6,4.5,5]
["Storage Buildings","-","-","-","-","-","-","-","-","-","-","-","-","-","-","-","-","-",{"$f":"T10*100/(100+T11)","v":0.82546069672838085},0.74291462705554279,0.84840850409742985,0.9086455078883473,1.0540287891504829,1.2490241151433221,1.345198972009358,1.281974620324918,1.1781346760785998,1.2570696993758661,1.3199231843446595,1.3080438756855575,1.431,{"$f":"(AE10*(100+AF11)/100)","v":1.495395},{"$f":"(AF10*(100+AG11)/100)","v":1.5432476400000001},{"$f":"(AG10*(100+AH11)/100)","v":1.61115053616},{"$f":"(AH10*(100+AI11)/100)","v":1.6675408049256}]
[null,"-","-","-","-","-","-","-","-","-","-","-","-","-","-","-","-","-","-",-10,14.2,7.1,16,18.5,7.7,-4.7,-8.1,6.7,5,-0.9,9.4,4.5,3.2,4.4000000000000004,3.5]
["Office Buildings"," -"," -"," -"," -"," -"," -"," -"," -"," -"," -"," -"," -",{"$f":"O12*100/(100+O13)","v":0.6460228607790377},0.83982971901274905,0.99855753590615859,1.0794406963145573,0.83116933616220923,0.89516937504669947,0.83161234941838391,0.74013499098236168,0.75419755581102665,0.73157162913669582,0.86691238052698449,1.0385610318713274,0.97209312583156227,0.98278615021570936,1.1252901419969872,1.2839560520185622,1.1786716557530401,1.26,{"$f":"(AE12*(100+AF13)/100)","v":1.3771799999999998},{"$f":"(AF12*(100+AG13)/100)","v":1.4212497599999998},{"$f":"(AG12*(100+AH13)/100)","v":1.4653085025599999},{"$f":"(AH12*(100+AI13)/100)","v":1.4946146726112}]
[null," -"," -"," -"," -"," -"," -"," -"," -"," -"," -"," -"," -"," -",30,18.899999999999999,8.1,-23,7.7,-7.1,-11,1.9,-3,18.5,19.8,-6.4,1.1000000000000001,14.5,14.1,-8.1999999999999993,6.9,9.3000000000000007,3.2,3.1,2]
["Commercial Buildings"," -"," -"," -"," -"," -"," -"," -"," -"," -"," -"," -"," -",{"$f":"O14*100/(100+O15)","v":2.179903652004223},2.3172375820804891,3.0657053210924876,2.9185514656800482,2.3786194445292392,1.8196438750648682,1.6558759263090299,1.6061996485197589,1.7427266186439385,2.183636453160855,2.5963437428082567,2.8092439297185336,2.6940649286000742,2.3734712020966651,2.5728427830727849,2.8687197031261551,2.6994652406417114,2.524,{"$f":"(AE14*(100+AF15)/100)","v":2.3877039999999998},{"$f":"(AF14*(100+AG15)/100)","v":2.4187441519999999},{"$f":"(AG14*(100+AH15)/100)","v":2.4671190350400001},{"$f":"(AH14*(100+AI15)/100)","v":2.5287970109160001}]
[null," -"," -"," -"," -"," -"," -"," -"," -"," -"," -"," -"," -"," -",6.3,32.299999999999997,-4.8,-18.5,-23.5,-9,-3,8.5,25.3,18.899999999999999,8.1999999999999993,-4.0999999999999996,-11.9,8.4,11.5,-5.9,-6.5,-5.4,1.3,2,2.5]
["Agricultural Buildings","-","-","-","-","-","-","-","-","-","-","-","-","-","-","-","-","-",{"$f":"T16*100/(100+T17)","v":0.14569958155863977},0.14861357318981255,0.1755126299371686,0.2000843981283722,0.22529503229254708,0.26922756358959377,0.30745787761931609,0.31821890333599212,0.33412984850279176,0.46811591775241124,0.50790577076136623,0.5785046728971962,0.61899999999999999,{"$f":"(AE16*(100+AF17)/100)","v":0.645617},{"$f":"(AF16*(100+AG17)/100)","v":0.67531538199999996},{"$f":"(AG16*(100+AH17)/100)","v":0.72596403565000001},{"$f":"(AH16*(100+AI17)/100)","v":0.75863241725425001}]
[null,"-","-","-","-","-","-","-","-","-","-","-","-","-","-","-","-","-",-1,2,18.100000000000001,14,12.6,19.5,14.2,3.5,5,40.1,8.5,13.9,7,4.3,4.5999999999999996,7.5,4.5]
["Miscellaneous"," -"," -"," -"," -"," -"," -"," -"," -"," -"," -"," -"," -","-","-","-",{"$f":"R18*100/(100+R19)","v":2.5994820039947681},2.1185778332557361,1.9384987174289983,{"$f":"U18*100/(100+U19)","v":1.3375641150260089},1.3857164231669452,1.4550022443252926,1.6587025585308337,1.8030096811230163,2.0193708428577781,2.3889157071007516,2.8308651129143909,3.0856429730766859,2.5703405965728794,2.0948275862068968,2.4300000000000002,{"$f":"(AE18*(100+AF19)/100)","v":2.6584200000000004},{"$f":"(AF18*(100+AG19)/100)","v":2.8524846600000004},{"$f":"(AG18*(100+AH19)/100)","v":3.0179287702800002},{"$f":"(AH18*(100+AI19)/100)","v":3.1839148526453998}]
[null," -"," -"," -"," -"," -"," -"," -"," -"," -"," -"," -"," -"," -","-","-","-",-18.5,-8.5,-31,3.6,5,14,8.6999999999999993,12,18.3,18.5,9,-16.7,-18.5,16,9.4,7.3,5.8,5.5]
["Total"," -",{"$f":"D20*100/(100+D21)","v":4.0214566818507125},4.2320718200884286,4.4309568214081807,4.4227122893067907,3.881896117104132,4.0304789939660068,4.1323522463401909,4.6387272516718809,5.1918067612474941,6.074413910659568,6.7425994408321204,{"$f":"O20*100/(100+O21)","v":8.1248323262027053},10.082916916817556,10.43581900890617,10.206230990710235,8.9100396548900349,8.4600826523180874,7.8509567013511852,8.1257401858984775,8.5515289716395575,9.5777124482363032,10.966480753230567,11.646402559930861,11.436767313852105,11.448204081165956,{"$f":"AC20*100/(100+AC21)","v":12.570128081120219},{"$f":"AD20*100/(100+AD21)","v":12.808960514661504},12.463118580765641,13.348000000000001,{"$f":"(AE20*(100+AF21)/100)","v":13.895268000000002},{"$f":"(AF20*(100+AG21)/100)","v":14.381602380000002},{"$f":"(AG20*(100+AH21)/100)","v":15.000011282340001},{"$f":"(AH20*(100+AI21)/100)","v":15.61501174491594}]
[null," -"," -",5.2372847676874406,4.6994713174692055,-0.18606663151300837,-12.228156317340408,3.8275850867620957,2.5275718475818447,12.253916780210597,11.923087510184455,17,11,20.5,24.1,3.5,-2.2000000000000002,-12.7,-5.05,-7.2,3.5,5.24,12,14.5,6.2,-1.8,0.1,9.8000000000000007,1.9,-2.7,7.1,4.0999999999999996,3.5,4.3,4.0999999999999996]
[]
[]
[{"$f":"GDP!$A$21","v":"(1) Billions Euro at 2014 Prices: 1 Euro = 4.1198 PLN"}]
["(2) Sum of the parts does not equal the whole pre 2002"]

{"sheet":"Civil engineering","index":5,"n_rows":25,"n_cols":16384,"rows_kept":25,"cut":false,"hidden":false,"merged":[]}
["POLAND",null,null,null,null,null,null,null,null,null,null,null,null,null,null,null,null,null,null,null,null,null,null,null,null,null,null,null,null,null,null,null,null,"Volume bn Euro (1)"]
["Civil engineering",null,null,null,null,null,null,null,null,null,null,null,null,null,null,null,null,null,null,null,null,null,null,null,null,null,null,null,null,null,null,null,null,"Annual % change"]
[null,1985,1986,1987,1988,1989,1990,1991,1992,1993,1994,1995,1996,1997,1998,1999,2000,2001,2002,2003,2004,2005,2006,2007,2008,2009,2010,2011,2012,2013,2014,2015,2016,2017,2018]
["Transport Infrastructure"," -"," -"," -"," -"," -"," -"," -"," -"," -"," -"," -"," -"," -",{"$f":"(P4*100/(100+P5))","v":2.271171818957606},2.4415097053794268,2.6490380303366781,2.5033409386681607,2.8137552150630127,3.0557381635584315,3.5629906987091311,3.9442307034710082,4.6541922300957896,5.2126952977072847,6.0467265453404506,7.8607445089425854,9.0735131162848095,11.822577911425034,10.228690421476291,7.8058071437153504,8.1430000000000007,{"$f":"(AE4*(100+AF5)/100)","v":8.7947100000000002},{"$f":"(AF4*(100+AG5)/100)","v":10.317019680000003},{"$f":"(AG4*(100+AH5)/100)","v":12.168519227640004},{"$f":"(AH4*(100+AI5)/100)","v":14.386702801230003}]
[null," -"," -"," -"," -"," -"," -"," -"," -"," -"," -"," -"," -"," -"," -",7.5,8.5,-5.5,12.4,8.6,16.600000000000001,10.7,18,12,16,30,15.428164672729764,30.297689107941046,-13.481725406169245,-23.687130785323447,4.3197692445698328,8.0033157313029477,17.309378933472534,17.946069747537784,18.228870186205885]
["     Roads"," -"," -"," -"," -"," -"," -"," -"," -"," -"," -"," -"," -"," -"," -"," -"," -"," -",{"$f":"(T6*100/(100+T7))","v":2.2701178467456078},2.4176755067840721,2.8649454755391255,3.2946872968699945,3.9865716292126936,4.2855645014036456,4.8126889350762942,6.4875046844828459,7.493067910577687,9.8533843024096583,8.3162563512337524,6.045918367346939,5.9249999999999998,{"$f":"(AE6*(100+AF7)/100)","v":6.161999999999999},{"$f":"(AF6*(100+AG7)/100)","v":7.3389419999999985},{"$f":"(AG6*(100+AH7)/100)","v":8.6379347339999981},{"$f":"(AH6*(100+AI7)/100)","v":10.365521680799997}]
[null," -"," -"," -"," -"," -"," -"," -"," -"," -"," -"," -"," -"," -"," -"," -"," -"," -",null,6.5,18.5,15,21,7.5,12.3,34.799999999999997,15.5,31.5,-15.6,-27.3,-2,4,19.100000000000001,17.7,20]
["     Railways"," -"," -"," -"," -"," -"," -"," -"," -"," -"," -"," -"," -"," -"," -"," -"," -"," -",{"$f":"(T8*100/(100+T9))","v":0.18591481949859578},0.24819628403062538,0.27549787527399416,0.22039830021919532,0.26888592626741831,0.41731095756703318,0.51537903259528595,0.59113975038679301,0.76966395500360452,0.95977095188949491,0.9837652256867323,1.0457424349049964,1.486,{"$f":"(AE8*(100+AF9)/100)","v":1.8589859999999998},{"$f":"(AF8*(100+AG9)/100)","v":2.1192440399999999},{"$f":"(AG8*(100+AH9)/100)","v":2.5558083122399999},{"$f":"(AH8*(100+AI9)/100)","v":2.9391795590759999}]
[null," -"," -"," -"," -"," -"," -"," -"," -"," -"," -"," -"," -"," -"," -"," -"," -"," -",null,33.5,11,-20,22,55.2,23.5,14.7,30.2,24.7,2.5,6.3,42.1,25.1,14,20.6,15]
["     Other transport"," -"," -"," -"," -"," -"," -"," -"," -"," -"," -"," -"," -"," -"," -"," -"," -"," -",{"$f":"(T10*100/(100+T11))","v":0.3586946983845285},0.36048817187645116,0.3785125804702737,0.41068614981024698,0.46489672158519957,0.54811323474895035,0.65389908905549776,0.77290872326359827,0.81078125070351459,1.0094226571258758,0.92866884455580578,0.71414634146341471,0.73199999999999998,{"$f":"(AE10*(100+AF11)/100)","v":0.77372399999999997},{"$f":"(AF10*(100+AG11)/100)","v":0.85883363999999995},{"$f":"(AG10*(100+AH11)/100)","v":0.97477618139999989},{"$f":"(AH10*(100+AI11)/100)","v":1.0820015613539999}]
[null," -"," -"," -"," -"," -"," -"," -"," -"," -"," -"," -"," -"," -"," -"," -"," -"," -",null,0.5,5,8.5,13.2,17.899999999999999,19.3,18.2,4.9000000000000004,24.5,-8,-23.1,2.5,5.7,11,13.5,11]
["Telecommunications"," -"," -"," -"," -"," -"," -"," -"," -"," -"," -"," -"," -"," -",{"$f":"(P12*100/(100+P13))","v":1.1558902614773781},1.3234943493915978,1.1249701969828581,1.0124731772845723,0.49104949098301759,0.4051158300609895,0.33097963315982842,0.35150037041573784,0.36028787967613124,0.38010371305831847,0.43711927001706624,0.46990321526834622,0.48541002137220163,0.51113675250492829,0.52749312858508601,0.54015296367112808,0.56499999999999995,{"$f":"(AE12*(100+AF13)/100)","v":0.60511499999999996},{"$f":"(AF12*(100+AG13)/100)","v":0.6402116699999999},{"$f":"(AG12*(100+AH13)/100)","v":0.68822754524999996},{"$f":"(AH12*(100+AI13)/100)","v":0.71988601233149996}]
[null," -"," -"," -"," -"," -"," -"," -"," -"," -"," -"," -"," -"," -"," -",14.5,-15,-10,-51.5,-17.5,-18.3,6.2,2.5,5.5,15,7.5,3.3,5.3,3.2,2.4,4.5999999999999996,7.1,5.8,7.5,4.5999999999999996]
["Energy works (3)"," -"," -"," -"," -"," -"," -"," -"," -"," -"," -"," -"," -"," -",{"$f":"(P14*100/(100+P15))","v":3.2482790139265103},2.9819201347845365,2.5644513159147015,2.4362287501189663,2.1779885026063561,2.1366067210568351,2.2434370571096771,2.508162629848619,2.6084891350425639,2.9997625052989485,{"$f":"((Z14*100/(100+Z15))+((Z16*100/(100+Z17))))","v":3.4587261686096875},1.5696147315442044,1.7265762046986248,1.9199527396248708,1.9890710382513659,2.1839999999999997,2.4569999999999999,{"$f":"(AE14*(100+AF15)/100)","v":2.707614},{"$f":"(AF14*(100+AG15)/100)","v":3.054188592},{"$f":"(AG14*(100+AH15)/100)","v":3.3779325827519999},{"$f":"(AH14*(100+AI15)/100)","v":3.6076319983791358}]
[null," -"," -"," -"," -"," -"," -"," -"," -"," -"," -"," -"," -"," -"," -",-8.1999999999999993,-14,-5,-10.6,-1.9,5,11.8,4,15,15.3,10.4,10,11.2,3.6,9.8000000000000007,12.5,10.199999999999999,12.8,10.6,6.8]
["Water works (3)"," -"," -"," -"," -"," -"," -"," -"," -"," -"," -"," -"," -"," -"," -"," -"," -"," -"," -"," -"," -"," -"," -"," -"," -",{"$f":"(AA16*100/(100+AA17))","v":2.3221500115987452},{"$f":"(AB16*100/(100+AB17))","v":2.607774463025391},{"$f":"(AC16*100/(100+AC17))","v":2.4121913782984867},{"$f":"(AD16*100/(100+AD17))","v":2.2915818093835623},2.4244935543278086,2.633,{"$f":"(AE16*(100+AF17)/100)","v":2.8094109999999999},{"$f":"(AF16*(100+AG17)/100)","v":3.1493497309999996},{"$f":"(AG16*(100+AH17)/100)","v":3.5115249500649997},{"$f":"(AH16*(100+AI17)/100)","v":3.7292394969690297}]
[null," -"," -"," -"," -"," -"," -"," -"," -"," -"," -"," -"," -"," -"," -"," -"," -"," -"," -"," -"," -"," -"," -"," -"," -",14,12.3,-7.5,-5,5.8,8.6,6.7,12.1,11.5,6.2]
["Other"," -"," -"," -"," -"," -"," -"," -"," -"," -"," -"," -"," -"," -",{"$f":"(P18*100/(100+P19))","v":0.22352742895477279},0.2358214375472853,0.20398554347840178,0.2292797508697236,0.28109697456628113,0.30808228412464411,0.25016281470921103,0.27467877055071371,0.27522812809181513,0.31403529415276105,0.36114058827567519,0.41603395769357782,0.46512596470142004,0.5330343555478273,0.52077456537022726,0.45411542100283819,0.48,{"$f":"(AE18*(100+AF19)/100)","v":0.50015999999999994},{"$f":"(AF18*(100+AG19)/100)","v":0.54917567999999983},{"$f":"(AG18*(100+AH19)/100)","v":0.60299489663999983},{"$f":"(AH18*(100+AI19)/100)","v":0.64821951388799992}]
[null," -"," -"," -"," -"," -"," -"," -"," -"," -"," -"," -"," -"," -"," -",5.5,-13.5,12.4,22.6,9.6,-18.8,9.8000000000000007,0.2,14.1,15,15.2,11.8,14.6,-2.2999999999999998,-12.8,5.7,4.2,9.8000000000000007,9.8000000000000007,7.5]
["Total",{"$f":"(C20*100/(100+C21))","v":5.8524658707681105},5.9344003929588647,6.130235605926508,5.3762166263975475,4.1396868023261115,3.8995849677911969,3.9736770821792309,4.4703867174516345,{"$f":"(K20*100/(100+K21))","v":4.2477296345644264},4.4016082225628876,4.6325954692256275,5.1488072117580153,6.0018641375338282,6.3035821759592263,6.4921778697596135,6.3923078512246487,6.121715286000442,5.8471200585857401,6.0896361338856417,6.3454008515088391,6.9799409366597231,{"$f":"(X20*100/(100+X21))","v":8.1060980124142272},9.1029188384811572,10.307594526061839,12.650513417370325,14.358029388746205,17.198163441717771,15.557545860507991,13.408432854133467,14.278,{"$f":"(AE20*(100+AF21)/100)","v":15.417231999997609},{"$f":"(AF20*(100+AG21)/100)","v":17.710183779990505},{"$f":"(AG20*(100+AH21)/100)","v":20.349587370026555},{"$f":"(AH20*(100+AI21)/100)","v":23.091250366837748}]
[null,2.6999999999999846,1.4000000000000064,3.3000000000000105,-12.3,-23.000000000000004,-5.8000000000000007,1.9000000000000281,12.500000000000005,-4.9807118927316161,3.6226078690679397,5.2477920565189464,11.143035172433841,16.56804946644224,5.0270721147875559,2.9918812595107864,-1.5383130366799791,-4.2330965829871063,-4.4855929194006254,4.1476157983757895,4.2,10,16.134192050820289,12.297172135598794,13.233949560091702,22.730025762893792,13.497602152900001,19.780806795099998,-9.5394929043999994,-13.8139589987,6.4852257927999997,7.9789326236000004,14.872655350800001,14.903309998499999,13.4728186226]
[]
[{"$f":"GDP!$A$21","v":"(1) Billions Euro at 2014 Prices: 1 Euro = 4.1198 PLN"},null,null,null,null,null,null,null,null,null,null,null,null,null,null,null,null,null,null,null,null,null,null,null,null,null,null,null,null,null,null,null,null,null,null,{"$f":"AJ6+AJ8+AJ10+AJ12+AJ14+AJ16+AJ18","v":0},0,0,0,0,0,0,0,0,0,0,0,0,0,0,0,0,0,0,0,0,0,0,0,0,0,0,0,0,0,0,0,0,0,0,0,0,0,0,0,0,0,0,0,0,0,0,0,0,0,0,0,0,0,0,{"$f":"CM6+CM8+CM10+CM12+CM14+CM16+CM18","v":0},0,0,0,0,0,0,0,0,0,0,0,0,0,0,0,0,0,0,0,0,0,0,0,0,0,0,0,0,0,0,0,0,0,0,0,0,0,0,0,0,0,0,0,0,0,0,0,0,0,0,0,0,0,0,0,0,0,0,0,0,0,0,0,{"$f":"EY6+EY8+EY10+EY12+EY14+EY16+EY18","v":0},0,0,0,0,0,0,0,0,0,0,0,0,0,0,0,0,0,0,0,0,0,0,0,0,0,0,0,0,0,0,0,0,0,0,0,0,0,0,0,0,0,0,0,0,0,0,0,0,0,0,0,0,0,0,0,0,0,0,0,0,0,0,0,{"$f":"HK6+HK8+HK10+HK12+HK14+HK16+HK18","v":0},0,0,0,0,0,0,0,0,0,0,0,0,0,0,0,0,0,0,0,0,0,0,0,0,0,0,0,0,0,0,0,0,0,0,0,0,0,0,0,0,0,0,0,0,0,0,0,0,0,0,0,0,0,0,0,0,0,0,0,0,0,0,0,{"$f":"JW6+JW8+JW10+JW12+JW14+JW16+JW18","v":0},0,0,0,0,0,0,0,0,0,0,0,0,0,0,0,0,0,0,0,0,0,0,0,0,0,0,0,0,0,0,0,0,0,0,0,0,0,0,0,0,0,0,0,0,0,0,0,0,0,0,0,0,0,0,0,0,0,0,0,0,0,0,0,{"$f":"MI6+MI8+MI10+MI12+MI14+MI16+MI18","v":0},0,0,0,0,0,0,0,0,0,0,0,0,0,0,0,0,0,0,0,0,0,0,0,0,0,0,0,0,0,0,0,0,0,0,0,0,0,0,0,0,0,0,0,0,0,0,0,0,0,0,0,0,0,0,0,0,0,0,0,0,0,0,0,{"$f":"OU6+OU8+OU10+OU12+OU14+OU16+OU18","v":0},0,0,0,0,0,0,0,0,0,0,0,0,0,0,0,0,0,0,0,0,0,0,0,0,0,0,0,0,0,0,0,0,0,0,0,0,0,0,0,0,0,0,0,0,0,0,0,0,0,0,0,0,0,0,0,0,0,0,0,0,0,0,0,{"$f":"RG6+RG8+RG10+RG12+RG14+RG16+RG18","v":0},0,0,0,0,0,0,0,0,0,0,0,0,0,0,0,0,0,0,0,0,0,0,0,0,0,0,0,0,0,0,0,0,0,0,0,0,0,0,0,0,0,0,0,0,0,0,0,0,0,0,0,0,0,0,0,0,0,0,0,0,0,0,0,{"$f":"TS6+TS8+TS10+TS12+TS14+TS16+TS18","v":0},0,0,0,0,0,0,0,0,0,0,0,0,0,0,0,0,0,0,0,0,0,0,0,0,0,0,0,0,0,0,0,0,0,0,0,0,0,0,0,0,0,0,0,0,0,0,0,0,0,0,0,0,0,0,0,0,0,0,0,0,0,0,0,{"$f":"WE6+WE8+WE10+WE12+WE14+WE16+WE18","v":0},0,0,0,0,0,0,0,0,0,0,0,0,0,0,0,0,0,0,0,0,0,0,0,0,0,0,0,0,0,0,0,0,0,0,0,0,0,0,0,0,0,0,0,0,0,0,0,0,0,0,0,0,0,0,0,0,0,0,0,0,0,0,0,{"$f":"YQ6+YQ8+YQ10+YQ12+YQ14+YQ16+YQ18","v":0},0,0,0,0,0,0,0,0,0,0,0,0,0,0,0,0,0,0,0,0,0,0,0,0,0,0,0,0,0,0,0,0,0,0,0,0,0,0,0,0,0,0,0,0,0,0,0,0,0,0,0,0,0,0,0,0,0,0,0,0,0,0,0,{"$f":"ABC6+ABC8+ABC10+ABC12+ABC14+ABC16+ABC18","v":0},0,0,0,0,0,0,0,0,0,0,0,0,0,0,0,0,0,0,0,0,0,0,0,0,0,0,0,0,0,0,0,0,0,0,0,0,0,0,0,0,0,0,0,0,0,0,0,0,0,0,0,0,0,0,0,0,0,0,0,0,0,0,0,{"$f":"ADO6+ADO8+ADO10+ADO12+ADO14+ADO16+ADO18","v":0},0,0,0,0,0,0,0,0,0,0,0,0,0,0,0,0,0,0,0,0,0,0,0,0,0,0,0,0,0,0,0,0,0,0,0,0,0,0,0,0,0,0,0,0,0,0,0,0,0,0,0,0,0,0,0,0,0,0,0,0,0,0,0,{"$f":"AGA6+AGA8+AGA10+AGA12+AGA14+AGA16+AGA18","v":0},0,0,0,0,0,0,0,0,0,0,0,0,0,0,0,0,0,0,0,0,0,0,0,0,0,0,0,0,0,0,0,0,0,0,0,0,0,0,0,0,0,0,0,0,0,0,0,0,0,0,0,0,0,0,0,0,0,0,0,0,0,0,0,{"$f":"AIM6+AIM8+AIM10+AIM12+AIM14+AIM16+AIM18","v":0},0,0,0,0,0,0,0,0,0,0,0,0,0,0,0,0,0,0,0,0,0,0,0,0,0,0,0,0,0,0,0,0,0,0,0,0,0,0,0,0,0,0,0,0,0,0,0,0,0,0,0,0,0,0,0,0,0,0,0,0,0,0,0,{"$f":"AKY6+AKY8+AKY10+AKY12+AKY14+AKY16+AKY18","v":0},0,0,0,0,0,0,0,0,0,0,0,0,0,0,0,0,0,0,0,0,0,0,0,0,0,0,0,0,0,0,0,0,0,0,0,0,0,0,0,0,0,0,0,0,0,0,0,0,0,0,0,0,0,0,0,0,0,0,0,0,0,0,0,{"$f":"ANK6+ANK8+ANK10+ANK12+ANK14+ANK16+ANK18","v":0},0,0,0,0,0,0,0,0,0,0,0,0,0,0,0,0,0,0,0,0,0,0,0,0,0,0,0,0,0,0,0,0,0,0,0,0,0,0,0,0,0,0,0,0,0,0,0,0,0,0,0,0,0,0,0,0,0,0,0,0,0,0,0,{"$f":"APW6+APW8+APW10+APW12+APW14+APW16+APW18","v":0},0,0,0,0,0,0,0,0,0,0,0,0,0,0,0,0,0,0,0,0,0,0,0,0,0,0,0,0,0,0,0,0,0,0,0,0,0,0,0,0,0,0,0,0,0,0,0,0,0,0,0,0,0,0,0,0,0,0,0,0,0,0,0,{"$f":"ASI6+ASI8+ASI10+ASI12+ASI14+ASI16+ASI18","v":0},0,0,0,0,0,0,0,0,0,0,0,0,0,0,0,0,0,0,0,0,0,0,0,0,0,0,0,0,0,0,0,0,0,0,0,0,0,0,0,0,0,0,0,0,0,0,0,0,0,0,0,0,0,0,0,0,0,0,0,0,0,0,0,{"$f":"AUU6+AUU8+AUU10+AUU12+AUU14+AUU16+AUU18","v":0},0,0,0,0,0,0,0,0,0,0,0,0,0,0,0,0,0,0,0,0,0,0,0,0,0,0,0,0,0,0,0,0,0,0,0,0,0,0,0,0,0,0,0,0,0,0,0,0,0,0,0,0,0,0,0,0,0,0,0,0,0,0,0,{"$f":"AXG6+AXG8+AXG10+AXG12+AXG14+AXG16+AXG18","v":0},0,0,0,0,0,0,0,0,0,0,0,0,0,0,0,0,0,0,0,0,0,0,0,0,0,0,0,0,0,0,0,0,0,0,0,0,0,0,0,0,0,0,0,0,0,0,0,0,0,0,0,0,0,0,0,0,0,0,0,0,0,0,0,{"$f":"AZS6+AZS8+AZS10+AZS12+AZS14+AZS16+AZS18","v":0},0,0,0,0,0,0,0,0,0,0,0,0,0,0,0,0,0,0,0,0,0,0,0,0,0,0,0,0,0,0,0,0,0,0,0,0,0,0,0,0,0,0,0,0,0,0,0,0,0,0,0,0,0,0,0,0,0,0,0,0,0,0,0,{"$f":"BCE6+BCE8+BCE10+BCE12+BCE14+BCE16+BCE18","v":0},0,0,0,0,0,0,0,0,0,0,0,0,0,0,0,0,0,0,0,0,0,0,0,0,0,0,0,0,0,0,0,0,0,0,0,0,0,0,0,0,0,0,0,0,0,0,0,0,0,0,0,0,0,0,0,0,0,0,0,0,0,0,0,{"$f":"BEQ6+BEQ8+BEQ10+BEQ12+BEQ14+BEQ16+BEQ18","v":0},0,0,0,0,0,0,0,0,0,0,0,0,0,0,0,0,0,0,0,0,0,0,0,0,0,0,0,0,0,0,0,0,0,0,0,0,0,0,0,0,0,0,0,0,0,0,0,0,0,0,0,0,0,0,0,0,0,0,0,0,0,0,0,{"$f":"BHC6+BHC8+BHC10+BHC12+BHC14+BHC16+BHC18","v":0},0,0,0,0,0,0,0,0,0,0,0,0,0,0,0,0,0,0,0,0,0,0,0,0,0,0,0,0,0,0,0,0,0,0,0,0,0,0,0,0,0,0,0,0,0,0,0,0,0,0,0,0,0,0,0,0,0,0,0,0,0,0,0,{"$f":"BJO6+BJO8+BJO10+BJO12+BJO14+BJO16+BJO18","v":0},0,0,0,0,0,0,0,0,0,0,0,0,0,0,0,0,0,0,0,0,0,0,0,0,0,0,0,0,0,0,0,0,0,0,0,0,0,0,0,0,0,0,0,0,0,0,0,0,0,0,0,0,0,0,0,0,0,0,0,0,0,0,0,{"$f":"BMA6+BMA8+BMA10+BMA12+BMA14+BMA16+BMA18","v":0},0,0,0,0,0,0,0,0,0,0,0,0,0,0,0,0,0,0,0,0,0,0,0,0,0,0,0,0,0,0,0,0,0,0,0,0,0,0,0,0,0,0,0,0,0,0,0,0,0,0,0,0,0,0,0,0,0,0,0,0,0,0,0,{"$f":"BOM6+BOM8+BOM10+BOM12+BOM14+BOM16+BOM18","v":0},0,0,0,0,0,0,0,0,0,0,0,0,0,0,0,0,0,0,0,0,0,0,0,0,0,0,0,0,0,0,0,0,0,0,0,0,0,0,0,0,0,0,0,0,0,0,0,0,0,0,0,0,0,0,0,0,0,0,0,0,0,0,0,{"$f":"BQY6+BQY8+BQY10+BQY12+BQY14+BQY16+BQY18","v":0},0,0,0,0,0,0,0,0,0,0,0,0,0,0,0,0,0,0,0,0,0,0,0,0,0,0,0,0,0,0,0,0,0,0,0,0,0,0,0,0,0,0,0,0,0,0,0,0,0,0,0,0,0,0,0,0,0,0,0,0,0,0,0,{"$f":"BTK6+BTK8+BTK10+BTK12+BTK14+BTK16+BTK18","v":0},0,0,0,0,0,0,0,0,0,0,0,0,0,0,0,0,0,0,0,0,0,0,0,0,0,0,0,0,0,0,0,0,0,0,0,0,0,0,0,0,0,0,0,0,0,0,0,0,0,0,0,0,0,0,0,0,0,0,0,0,0,0,0,{"$f":"BVW6+BVW8+BVW10+BVW12+BVW14+BVW16+BVW18","v":0},0,0,0,0,0,0,0,0,0,0,0,0,0,0,0,0,0,0,0,0,0,0,0,0,0,0,0,0,0,0,0,0,0,0,0,0,0,0,0,0,0,0,0,0,0,0,0,0,0,0,0,0,0,0,0,0,0,0,0,0,0,0,0,{"$f":"BYI6+BYI8+BYI10+BYI12+BYI14+BYI16+BYI18","v":0},0,0,0,0,0,0,0,0,0,0,0,0,0,0,0,0,0,0,0,0,0,0,0,0,0,0,0,0,0,0,0,0,0,0,0,0,0,0,0,0,0,0,0,0,0,0,0,0,0,0,0,0,0,0,0,0,0,0,0,0,0,0,0,{"$f":"CAU6+CAU8+CAU10+CAU12+CAU14+CAU16+CAU18","v":0},0,0,0,0,0,0,0,0,0,0,0,0,0,0,0,0,0,0,0,0,0,0,0,0,0,0,0,0,0,0,0,0,0,0,0,0,0,0,0,0,0,0,0,0,0,0,0,0,0,0,0,0,0,0,0,0,0,0,0,0,0,0,0,{"$f":"CDG6+CDG8+CDG10+CDG12+CDG14+CDG16+CDG18","v":0},0,0,0,0,0,0,0,0,0,0,0,0,0,0,0,0,0,0,0,0,0,0,0,0,0,0,0,0,0,0,0,0,0,0,0,0,0,0,0,0,0,0,0,0,0,0,0,0,0,0,0,0,0,0,0,0,0,0,0,0,0,0,0,{"$f":"CFS6+CFS8+CFS10+CFS12+CFS14+CFS16+CFS18","v":0},0,0,0,0,0,0,0,0,0,0,0,0,0,0,0,0,0,0,0,0,0,0,0,0,0,0,0,0,0,0,0,0,0,0,0,0,0,0,0,0,0,0,0,0,0,0,0,0,0,0,0,0,0,0,0,0,0,0,0,0,0,0,0,{"$f":"CIE6+CIE8+CIE10+CIE12+CIE14+CIE16+CIE18","v":0},0,0,0,0,0,0,0,0,0,0,0,0,0,0,0,0,0,0,0,0,0,0,0,0,0,0,0,0,0,0,0,0,0,0,0,0,0,0,0,0,0,0,0,0,0,0,0,0,0,0,0,0,0,0,0,0,0,0,0,0,0,0,0,{"$f":"CKQ6+CKQ8+CKQ10+CKQ12+CKQ14+CKQ16+CKQ18","v":0},0,0,0,0,0,0,0,0,0,0,0,0,0,0,0,0,0,0,0,0,0,0,0,0,0,0,0,0,0,0,0,0,0,0,0,0,0,0,0,0,0,0,0,0,0,0,0,0,0,0,0,0,0,0,0,0,0,0,0,0,0,0,0,{"$f":"CNC6+CNC8+CNC10+CNC12+CNC14+CNC16+CNC18","v":0},0,0,0,0,0,0,0,0,0,0,0,0,0,0,0,0,0,0,0,0,0,0,0,0,0,0,0,0,0,0,0,0,0,0,0,0,0,0,0,0,0,0,0,0,0,0,0,0,0,0,0,0,0,0,0,0,0,0,0,0,0,0,0,{"$f":"CPO6+CPO8+CPO10+CPO12+CPO14+CPO16+CPO18","v":0},0,0,0,0,0,0,0,0,0,0,0,0,0,0,0,0,0,0,0,0,0,0,0,0,0,0,0,0,0,0,0,0,0,0,0,0,0,0,0,0,0,0,0,0,0,0,0,0,0,0,0,0,0,0,0,0,0,0,0,0,0,0,0,{"$f":"CSA6+CSA8+CSA10+CSA12+CSA14+CSA16+CSA18","v":0},0,0,0,0,0,0,0,0,0,0,0,0,0,0,0,0,0,0,0,0,0,0,0,0,0,0,0,0,0,0,0,0,0,0,0,0,0,0,0,0,0,0,0,0,0,0,0,0,0,0,0,0,0,0,0,0,0,0,0,0,0,0,0,{"$f":"CUM6+CUM8+CUM10+CUM12+CUM14+CUM16+CUM18","v":0},0,0,0,0,0,0,0,0,0,0,0,0,0,0,0,0,0,0,0,0,0,0,0,0,0,0,0,0,0,0,0,0,0,0,0,0,0,0,0,0,0,0,0,0,0,0,0,0,0,0,0,0,0,0,0,0,0,0,0,0,0,0,0,{"$f":"CWY6+CWY8+CWY10+CWY12+CWY14+CWY16+CWY18","v":0},0,0,0,0,0,0,0,0,0,0,0,0,0,0,0,0,0,0,0,0,0,0,0,0,0,0,0,0,0,0,0,0,0,0,0,0,0,0,0,0,0,0,0,0,0,0,0,0,0,0,0,0,0,0,0,0,0,0,0,0,0,0,0,{"$f":"CZK6+CZK8+CZK10+CZK12+CZK14+CZK16+CZK18","v":0},0,0,0,0,0,0,0,0,0,0,0,0,0,0,0,0,0,0,0,0,0,0,0,0,0,0,0,0,0,0,0,0,0,0,0,0,0,0,0,0,0,0,0,0,0,0,0,0,0,0,0,0,0,0,0,0,0,0,0,0,0,0,0,{"$f":"DBW6+DBW8+DBW10+DBW12+DBW14+DBW16+DBW18","v":0},0,0,0,0,0,0,0,0,0,0,0,0,0,0,0,0,0,0,0,0,0,0,0,0,0,0,0,0,0,0,0,0,0,0,0,0,0,0,0,0,0,0,0,0,0,0,0,0,0,0,0,0,0,0,0,0,0,0,0,0,0,0,0,{"$f":"DEI6+DEI8+DEI10+DEI12+DEI14+DEI16+DEI18","v":0},0,0,0,0,0,0,0,0,0,0,0,0,0,0,0,0,0,0,0,0,0,0,0,0,0,0,0,0,0,0,0,0,0,0,0,0,0,0,0,0,0,0,0,0,0,0,0,0,0,0,0,0,0,0,0,0,0,0,0,0,0,0,0,{"$f":"DGU6+DGU8+DGU10+DGU12+DGU14+DGU16+DGU18","v":0},0,0,0,0,0,0,0,0,0,0,0,0,0,0,0,0,0,0,0,0,0,0,0,0,0,0,0,0,0,0,0,0,0,0,0,0,0,0,0,0,0,0,0,0,0,0,0,0,0,0,0,0,0,0,0,0,0,0,0,0,0,0,0,{"$f":"DJG6+DJG8+DJG10+DJG12+DJG14+DJG16+DJG18","v":0},0,0,0,0,0,0,0,0,0,0,0,0,0,0,0,0,0,0,0,0,0,0,0,0,0,0,0,0,0,0,0,0,0,0,0,0,0,0,0,0,0,0,0,0,0,0,0,0,0,0,0,0,0,0,0,0,0,0,0,0,0,0,0,{"$f":"DLS6+DLS8+DLS10+DLS12+DLS14+DLS16+DLS18","v":0},0,0,0,0,0,0,0,0,0,0,0,0,0,0,0,0,0,0,0,0,0,0,0,0,0,0,0,0,0,0,0,0,0,0,0,0,0,0,0,0,0,0,0,0,0,0,0,0,0,0,0,0,0,0,0,0,0,0,0,0,0,0,0,{"$f":"DOE6+DOE8+DOE10+DOE12+DOE14+DOE16+DOE18","v":0},0,0,0,0,0,0,0,0,0,0,0,0,0,0,0,0,0,0,0,0,0,0,0,0,0,0,0,0,0,0,0,0,0,0,0,0,0,0,0,0,0,0,0,0,0,0,0,0,0,0,0,0,0,0,0,0,0,0,0,0,0,0,0,{"$f":"DQQ6+DQQ8+DQQ10+DQQ12+DQQ14+DQQ16+DQQ18","v":0},0,0,0,0,0,0,0,0,0,0,0,0,0,0,0,0,0,0,0,0,0,0,0,0,0,0,0,0,0,0,0,0,0,0,0,0,0,0,0,0,0,0,0,0,0,0,0,0,0,0,0,0,0,0,0,0,0,0,0,0,0,0,0,{"$f":"DTC6+DTC8+DTC10+DTC12+DTC14+DTC16+DTC18","v":0},0,0,0,0,0,0,0,0,0,0,0,0,0,0,0,0,0,0,0,0,0,0,0,0,0,0,0,0,0,0,0,0,0,0,0,0,0,0,0,0,0,0,0,0,0,0,0,0,0,0,0,0,0,0,0,0,0,0,0,0,0,0,0,{"$f":"DVO6+DVO8+DVO10+DVO12+DVO14+DVO16+DVO18","v":0},0,0,0,0,0,0,0,0,0,0,0,0,0,0,0,0,0,0,0,0,0,0,0,0,0,0,0,0,0,0,0,0,0,0,0,0,0,0,0,0,0,0,0,0,0,0,0,0,0,0,0,0,0,0,0,0,0,0,0,0,0,0,0,{"$f":"DYA6+DYA8+DYA10+DYA12+DYA14+DYA16+DYA18","v":0},0,0,0,0,0,0,0,0,0,0,0,0,0,0,0,0,0,0,0,0,0,0,0,0,0,0,0,0,0,0,0,0,0,0,0,0,0,0,0,0,0,0,0,0,0,0,0,0,0,0,0,0,0,0,0,0,0,0,0,0,0,0,0,{"$f":"EAM6+EAM8+EAM10+EAM12+EAM14+EAM16+EAM18","v":0},0,0,0,0,0,0,0,0,0,0,0,0,0,0,0,0,0,0,0,0,0,0,0,0,0,0,0,0,0,0,0,0,0,0,0,0,0,0,0,0,0,0,0,0,0,0,0,0,0,0,0,0,0,0,0,0,0,0,0,0,0,0,0,{"$f":"ECY6+ECY8+ECY10+ECY12+ECY14+ECY16+ECY18","v":0},0,0,0,0,0,0,0,0,0,0,0,0,0,0,0,0,0,0,0,0,0,0,0,0,0,0,0,0,0,0,0,0,0,0,0,0,0,0,0,0,0,0,0,0,0,0,0,0,0,0,0,0,0,0,0,0,0,0,0,0,0,0,0,{"$f":"EFK6+EFK8+EFK10+EFK12+EFK14+EFK16+EFK18","v":0},0,0,0,0,0,0,0,0,0,0,0,0,0,0,0,0,0,0,0,0,0,0,0,0,0,0,0,0,0,0,0,0,0,0,0,0,0,0,0,0,0,0,0,0,0,0,0,0,0,0,0,0,0,0,0,0,0,0,0,0,0,0,0,{"$f":"EHW6+EHW8+EHW10+EHW12+EHW14+EHW16+EHW18","v":0},0,0,0,0,0,0,0,0,0,0,0,0,0,0,0,0,0,0,0,0,0,0,0,0,0,0,0,0,0,0,0,0,0,0,0,0,0,0,0,0,0,0,0,0,0,0,0,0,0,0,0,0,0,0,0,0,0,0,0,0,0,0,0,{"$f":"EKI6+EKI8+EKI10+EKI12+EKI14+EKI16+EKI18","v":0},0,0,0,0,0,0,0,0,0,0,0,0,0,0,0,0,0,0,0,0,0,0,0,0,0,0,0,0,0,0,0,0,0,0,0,0,0,0,0,0,0,0,0,0,0,0,0,0,0,0,0,0,0,0,0,0,0,0,0,0,0,0,0,{"$f":"EMU6+EMU8+EMU10+EMU12+EMU14+EMU16+EMU18","v":0},0,0,0,0,0,0,0,0,0,0,0,0,0,0,0,0,0,0,0,0,0,0,0,0,0,0,0,0,0,0,0,0,0,0,0,0,0,0,0,0,0,0,0,0,0,0,0,0,0,0,0,0,0,0,0,0,0,0,0,0,0,0,0,{"$f":"EPG6+EPG8+EPG10+EPG12+EPG14+EPG16+EPG18","v":0},0,0,0,0,0,0,0,0,0,0,0,0,0,0,0,0,0,0,0,0,0,0,0,0,0,0,0,0,0,0,0,0,0,0,0,0,0,0,0,0,0,0,0,0,0,0,0,0,0,0,0,0,0,0,0,0,0,0,0,0,0,0,0,{"$f":"ERS6+ERS8+ERS10+ERS12+ERS14+ERS16+ERS18","v":0},0,0,0,0,0,0,0,0,0,0,0,0,0,0,0,0,0,0,0,0,0,0,0,0,0,0,0,0,0,0,0,0,0,0,0,0,0,0,0,0,0,0,0,0,0,0,0,0,0,0,0,0,0,0,0,0,0,0,0,0,0,0,0,{"$f":"EUE6+EUE8+EUE10+EUE12+EUE14+EUE16+EUE18","v":0},0,0,0,0,0,0,0,0,0,0,0,0,0,0,0,0,0,0,0,0,0,0,0,0,0,0,0,0,0,0,0,0,0,0,0,0,0,0,0,0,0,0,0,0,0,0,0,0,0,0,0,0,0,0,0,0,0,0,0,0,0,0,0,{"$f":"EWQ6+EWQ8+EWQ10+EWQ12+EWQ14+EWQ16+EWQ18","v":0},0,0,0,0,0,0,0,0,0,0,0,0,0,0,0,0,0,0,0,0,0,0,0,0,0,0,0,0,0,0,0,0,0,0,0,0,0,0,0,0,0,0,0,0,0,0,0,0,0,0,0,0,0,0,0,0,0,0,0,0,0,0,0,{"$f":"EZC6+EZC8+EZC10+EZC12+EZC14+EZC16+EZC18","v":0},0,0,0,0,0,0,0,0,0,0,0,0,0,0,0,0,0,0,0,0,0,0,0,0,0,0,0,0,0,0,0,0,0,0,0,0,0,0,0,0,0,0,0,0,0,0,0,0,0,0,0,0,0,0,0,0,0,0,0,0,0,0,0,{"$f":"FBO6+FBO8+FBO10+FBO12+FBO14+FBO16+FBO18","v":0},0,0,0,0,0,0,0,0,0,0,0,0,0,0,0,0,0,0,0,0,0,0,0,0,0,0,0,0,0,0,0,0,0,0,0,0,0,0,0,0,0,0,0,0,0,0,0,0,0,0,0,0,0,0,0,0,0,0,0,0,0,0,0,{"$f":"FEA6+FEA8+FEA10+FEA12+FEA14+FEA16+FEA18","v":0},0,0,0,0,0,0,0,0,0,0,0,0,0,0,0,0,0,0,0,0,0,0,0,0,0,0,0,0,0,0,0,0,0,0,0,0,0,0,0,0,0,0,0,0,0,0,0,0,0,0,0,0,0,0,0,0,0,0,0,0,0,0,0,{"$f":"FGM6+FGM8+FGM10+FGM12+FGM14+FGM16+FGM18","v":0},0,0,0,0,0,0,0,0,0,0,0,0,0,0,0,0,0,0,0,0,0,0,0,0,0,0,0,0,0,0,0,0,0,0,0,0,0,0,0,0,0,0,0,0,0,0,0,0,0,0,0,0,0,0,0,0,0,0,0,0,0,0,0,{"$f":"FIY6+FIY8+FIY10+FIY12+FIY14+FIY16+FIY18","v":0},0,0,0,0,0,0,0,0,0,0,0,0,0,0,0,0,0,0,0,0,0,0,0,0,0,0,0,0,0,0,0,0,0,0,0,0,0,0,0,0,0,0,0,0,0,0,0,0,0,0,0,0,0,0,0,0,0,0,0,0,0,0,0,{"$f":"FLK6+FLK8+FLK10+FLK12+FLK14+FLK16+FLK18","v":0},0,0,0,0,0,0,0,0,0,0,0,0,0,0,0,0,0,0,0,0,0,0,0,0,0,0,0,0,0,0,0,0,0,0,0,0,0,0,0,0,0,0,0,0,0,0,0,0,0,0,0,0,0,0,0,0,0,0,0,0,0,0,0,{"$f":"FNW6+FNW8+FNW10+FNW12+FNW14+FNW16+FNW18","v":0},0,0,0,0,0,0,0,0,0,0,0,0,0,0,0,0,0,0,0,0,0,0,0,0,0,0,0,0,0,0,0,0,0,0,0,0,0,0,0,0,0,0,0,0,0,0,0,0,0,0,0,0,0,0,0,0,0,0,0,0,0,0,0,{"$f":"FQI6+FQI8+FQI10+FQI12+FQI14+FQI16+FQI18","v":0},0,0,0,0,0,0,0,0,0,0,0,0,0,0,0,0,0,0,0,0,0,0,0,0,0,0,0,0,0,0,0,0,0,0,0,0,0,0,0,0,0,0,0,0,0,0,0,0,0,0,0,0,0,0,0,0,0,0,0,0,0,0,0,{"$f":"FSU6+FSU8+FSU10+FSU12+FSU14+FSU16+FSU18","v":0},0,0,0,0,0,0,0,0,0,0,0,0,0,0,0,0,0,0,0,0,0,0,0,0,0,0,0,0,0,0,0,0,0,0,0,0,0,0,0,0,0,0,0,0,0,0,0,0,0,0,0,0,0,0,0,0,0,0,0,0,0,0,0,{"$f":"FVG6+FVG8+FVG10+FVG12+FVG14+FVG16+FVG18","v":0},0,0,0,0,0,0,0,0,0,0,0,0,0,0,0,0,0,0,0,0,0,0,0,0,0,0,0,0,0,0,0,0,0,0,0,0,0,0,0,0,0,0,0,0,0,0,0,0,0,0,0,0,0,0,0,0,0,0,0,0,0,0,0,{"$f":"FXS6+FXS8+FXS10+FXS12+FXS14+FXS16+FXS18","v":0},0,0,0,0,0,0,0,0,0,0,0,0,0,0,0,0,0,0,0,0,0,0,0,0,0,0,0,0,0,0,0,0,0,0,0,0,0,0,0,0,0,0,0,0,0,0,0,0,0,0,0,0,0,0,0,0,0,0,0,0,0,0,0,{"$f":"GAE6+GAE8+GAE10+GAE12+GAE14+GAE16+GAE18","v":0},0,0,0,0,0,0,0,0,0,0,0,0,0,0,0,0,0,0,0,0,0,0,0,0,0,0,0,0,0,0,0,0,0,0,0,0,0,0,0,0,0,0,0,0,0,0,0,0,0,0,0,0,0,0,0,0,0,0,0,0,0,0,0,{"$f":"GCQ6+GCQ8+GCQ10+GCQ12+GCQ14+GCQ16+GCQ18","v":0},0,0,0,0,0,0,0,0,0,0,0,0,0,0,0,0,0,0,0,0,0,0,0,0,0,0,0,0,0,0,0,0,0,0,0,0,0,0,0,0,0,0,0,0,0,0,0,0,0,0,0,0,0,0,0,0,0,0,0,0,0,0,0,{"$f":"GFC6+GFC8+GFC10+GFC12+GFC14+GFC16+GFC18","v":0},0,0,0,0,0,0,0,0,0,0,0,0,0,0,0,0,0,0,0,0,0,0,0,0,0,0,0,0,0,0,0,0,0,0,0,0,0,0,0,0,0,0,0,0,0,0,0,0,0,0,0,0,0,0,0,0,0,0,0,0,0,0,0,{"$f":"GHO6+GHO8+GHO10+GHO12+GHO14+GHO16+GHO18","v":0},0,0,0,0,0,0,0,0,0,0,0,0,0,0,0,0,0,0,0,0,0,0,0,0,0,0,0,0,0,0,0,0,0,0,0,0,0,0,0,0,0,0,0,0,0,0,0,0,0,0,0,0,0,0,0,0,0,0,0,0,0,0,0,{"$f":"GKA6+GKA8+GKA10+GKA12+GKA14+GKA16+GKA18","v":0},0,0,0,0,0,0,0,0,0,0,0,0,0,0,0,0,0,0,0,0,0,0,0,0,0,0,0,0,0,0,0,0,0,0,0,0,0,0,0,0,0,0,0,0,0,0,0,0,0,0,0,0,0,0,0,0,0,0,0,0,0,0,0,{"$f":"GMM6+GMM8+GMM10+GMM12+GMM14+GMM16+GMM18","v":0},0,0,0,0,0,0,0,0,0,0,0,0,0,0,0,0,0,0,0,0,0,0,0,0,0,0,0,0,0,0,0,0,0,0,0,0,0,0,0,0,0,0,0,0,0,0,0,0,0,0,0,0,0,0,0,0,0,0,0,0,0,0,0,{"$f":"GOY6+GOY8+GOY10+GOY12+GOY14+GOY16+GOY18","v":0},0,0,0,0,0,0,0,0,0,0,0,0,0,0,0,0,0,0,0,0,0,0,0,0,0,0,0,0,0,0,0,0,0,0,0,0,0,0,0,0,0,0,0,0,0,0,0,0,0,0,0,0,0,0,0,0,0,0,0,0,0,0,0,{"$f":"GRK6+GRK8+GRK10+GRK12+GRK14+GRK16+GRK18","v":0},0,0,0,0,0,0,0,0,0,0,0,0,0,0,0,0,0,0,0,0,0,0,0,0,0,0,0,0,0,0,0,0,0,0,0,0,0,0,0,0,0,0,0,0,0,0,0,0,0,0,0,0,0,0,0,0,0,0,0,0,0,0,0,{"$f":"GTW6+GTW8+GTW10+GTW12+GTW14+GTW16+GTW18","v":0},0,0,0,0,0,0,0,0,0,0,0,0,0,0,0,0,0,0,0,0,0,0,0,0,0,0,0,0,0,0,0,0,0,0,0,0,0,0,0,0,0,0,0,0,0,0,0,0,0,0,0,0,0,0,0,0,0,0,0,0,0,0,0,{"$f":"GWI6+GWI8+GWI10+GWI12+GWI14+GWI16+GWI18","v":0},0,0,0,0,0,0,0,0,0,0,0,0,0,0,0,0,0,0,0,0,0,0,0,0,0,0,0,0,0,0,0,0,0,0,0,0,0,0,0,0,0,0,0,0,0,0,0,0,0,0,0,0,0,0,0,0,0,0,0,0,0,0,0,{"$f":"GYU6+GYU8+GYU10+GYU12+GYU14+GYU16+GYU18","v":0},0,0,0,0,0,0,0,0,0,0,0,0,0,0,0,0,0,0,0,0,0,0,0,0,0,0,0,0,0,0,0,0,0,0,0,0,0,0,0,0,0,0,0,0,0,0,0,0,0,0,0,0,0,0,0,0,0,0,0,0,0,0,0,{"$f":"HBG6+HBG8+HBG10+HBG12+HBG14+HBG16+HBG18","v":0},0,0,0,0,0,0,0,0,0,0,0,0,0,0,0,0,0,0,0,0,0,0,0,0,0,0,0,0,0,0,0,0,0,0,0,0,0,0,0,0,0,0,0,0,0,0,0,0,0,0,0,0,0,0,0,0,0,0,0,0,0,0,0,{"$f":"HDS6+HDS8+HDS10+HDS12+HDS14+HDS16+HDS18","v":0},0,0,0,0,0,0,0,0,0,0,0,0,0,0,0,0,0,0,0,0,0,0,0,0,0,0,0,0,0,0,0,0,0,0,0,0,0,0,0,0,0,0,0,0,0,0,0,0,0,0,0,0,0,0,0,0,0,0,0,0,0,0,0,{"$f":"HGE6+HGE8+HGE10+HGE12+HGE14+HGE16+HGE18","v":0},0,0,0,0,0,0,0,0,0,0,0,0,0,0,0,0,0,0,0,0,0,0,0,0,0,0,0,0,0,0,0,0,0,0,0,0,0,0,0,0,0,0,0,0,0,0,0,0,0,0,0,0,0,0,0,0,0,0,0,0,0,0,0,{"$f":"HIQ6+HIQ8+HIQ10+HIQ12+HIQ14+HIQ16+HIQ18","v":0},0,0,0,0,0,0,0,0,0,0,0,0,0,0,0,0,0,0,0,0,0,0,0,0,0,0,0,0,0,0,0,0,0,0,0,0,0,0,0,0,0,0,0,0,0,0,0,0,0,0,0,0,0,0,0,0,0,0,0,0,0,0,0,{"$f":"HLC6+HLC8+HLC10+HLC12+HLC14+HLC16+HLC18","v":0},0,0,0,0,0,0,0,0,0,0,0,0,0,0,0,0,0,0,0,0,0,0,0,0,0,0,0,0,0,0,0,0,0,0,0,0,0,0,0,0,0,0,0,0,0,0,0,0,0,0,0,0,0,0,0,0,0,0,0,0,0,0,0,{"$f":"HNO6+HNO8+HNO10+HNO12+HNO14+HNO16+HNO18","v":0},0,0,0,0,0,0,0,0,0,0,0,0,0,0,0,0,0,0,0,0,0,0,0,0,0,0,0,0,0,0,0,0,0,0,0,0,0,0,0,0,0,0,0,0,0,0,0,0,0,0,0,0,0,0,0,0,0,0,0,0,0,0,0,{"$f":"HQA6+HQA8+HQA10+HQA12+HQA14+HQA16+HQA18","v":0},0,0,0,0,0,0,0,0,0,0,0,0,0,0,0,0,0,0,0,0,0,0,0,0,0,0,0,0,0,0,0,0,0,0,0,0,0,0,0,0,0,0,0,0,0,0,0,0,0,0,0,0,0,0,0,0,0,0,0,0,0,0,0,{"$f":"HSM6+HSM8+HSM10+HSM12+HSM14+HSM16+HSM18","v":0},0,0,0,0,0,0,0,0,0,0,0,0,0,0,0,0,0,0,0,0,0,0,0,0,0,0,0,0,0,0,0,0,0,0,0,0,0,0,0,0,0,0,0,0,0,0,0,0,0,0,0,0,0,0,0,0,0,0,0,0,0,0,0,{"$f":"HUY6+HUY8+HUY10+HUY12+HUY14+HUY16+HUY18","v":0},0,0,0,0,0,0,0,0,0,0,0,0,0,0,0,0,0,0,0,0,0,0,0,0,0,0,0,0,0,0,0,0,0,0,0,0,0,0,0,0,0,0,0,0,0,0,0,0,0,0,0,0,0,0,0,0,0,0,0,0,0,0,0,{"$f":"HXK6+HXK8+HXK10+HXK12+HXK14+HXK16+HXK18","v":0},0,0,0,0,0,0,0,0,0,0,0,0,0,0,0,0,0,0,0,0,0,0,0,0,0,0,0,0,0,0,0,0,0,0,0,0,0,0,0,0,0,0,0,0,0,0,0,0,0,0,0,0,0,0,0,0,0,0,0,0,0,0,0,{"$f":"HZW6+HZW8+HZW10+HZW12+HZW14+HZW16+HZW18","v":0},0,0,0,0,0,0,0,0,0,0,0,0,0,0,0,0,0,0,0,0,0,0,0,0,0,0,0,0,0,0,0,0,0,0,0,0,0,0,0,0,0,0,0,0,0,0,0,0,0,0,0,0,0,0,0,0,0,0,0,0,0,0,0,{"$f":"ICI6+ICI8+ICI10+ICI12+ICI14+ICI16+ICI18","v":0},0,0,0,0,0,0,0,0,0,0,0,0,0,0,0,0,0,0,0,0,0,0,0,0,0,0,0,0,0,0,0,0,0,0,0,0,0,0,0,0,0,0,0,0,0,0,0,0,0,0,0,0,0,0,0,0,0,0,0,0,0,0,0,{"$f":"IEU6+IEU8+IEU10+IEU12+IEU14+IEU16+IEU18","v":0},0,0,0,0,0,0,0,0,0,0,0,0,0,0,0,0,0,0,0,0,0,0,0,0,0,0,0,0,0,0,0,0,0,0,0,0,0,0,0,0,0,0,0,0,0,0,0,0,0,0,0,0,0,0,0,0,0,0,0,0,0,0,0,{"$f":"IHG6+IHG8+IHG10+IHG12+IHG14+IHG16+IHG18","v":0},0,0,0,0,0,0,0,0,0,0,0,0,0,0,0,0,0,0,0,0,0,0,0,0,0,0,0,0,0,0,0,0,0,0,0,0,0,0,0,0,0,0,0,0,0,0,0,0,0,0,0,0,0,0,0,0,0,0,0,0,0,0,0,{"$f":"IJS6+IJS8+IJS10+IJS12+IJS14+IJS16+IJS18","v":0},0,0,0,0,0,0,0,0,0,0,0,0,0,0,0,0,0,0,0,0,0,0,0,0,0,0,0,0,0,0,0,0,0,0,0,0,0,0,0,0,0,0,0,0,0,0,0,0,0,0,0,0,0,0,0,0,0,0,0,0,0,0,0,{"$f":"IME6+IME8+IME10+IME12+IME14+IME16+IME18","v":0},0,0,0,0,0,0,0,0,0,0,0,0,0,0,0,0,0,0,0,0,0,0,0,0,0,0,0,0,0,0,0,0,0,0,0,0,0,0,0,0,0,0,0,0,0,0,0,0,0,0,0,0,0,0,0,0,0,0,0,0,0,0,0,{"$f":"IOQ6+IOQ8+IOQ10+IOQ12+IOQ14+IOQ16+IOQ18","v":0},0,0,0,0,0,0,0,0,0,0,0,0,0,0,0,0,0,0,0,0,0,0,0,0,0,0,0,0,0,0,0,0,0,0,0,0,0,0,0,0,0,0,0,0,0,0,0,0,0,0,0,0,0,0,0,0,0,0,0,0,0,0,0,{"$f":"IRC6+IRC8+IRC10+IRC12+IRC14+IRC16+IRC18","v":0},0,0,0,0,0,0,0,0,0,0,0,0,0,0,0,0,0,0,0,0,0,0,0,0,0,0,0,0,0,0,0,0,0,0,0,0,0,0,0,0,0,0,0,0,0,0,0,0,0,0,0,0,0,0,0,0,0,0,0,0,0,0,0,{"$f":"ITO6+ITO8+ITO10+ITO12+ITO14+ITO16+ITO18","v":0},0,0,0,0,0,0,0,0,0,0,0,0,0,0,0,0,0,0,0,0,0,0,0,0,0,0,0,0,0,0,0,0,0,0,0,0,0,0,0,0,0,0,0,0,0,0,0,0,0,0,0,0,0,0,0,0,0,0,0,0,0,0,0,{"$f":"IWA6+IWA8+IWA10+IWA12+IWA14+IWA16+IWA18","v":0},0,0,0,0,0,0,0,0,0,0,0,0,0,0,0,0,0,0,0,0,0,0,0,0,0,0,0,0,0,0,0,0,0,0,0,0,0,0,0,0,0,0,0,0,0,0,0,0,0,0,0,0,0,0,0,0,0,0,0,0,0,0,0,{"$f":"IYM6+IYM8+IYM10+IYM12+IYM14+IYM16+IYM18","v":0},0,0,0,0,0,0,0,0,0,0,0,0,0,0,0,0,0,0,0,0,0,0,0,0,0,0,0,0,0,0,0,0,0,0,0,0,0,0,0,0,0,0,0,0,0,0,0,0,0,0,0,0,0,0,0,0,0,0,0,0,0,0,0,{"$f":"JAY6+JAY8+JAY10+JAY12+JAY14+JAY16+JAY18","v":0},0,0,0,0,0,0,0,0,0,0,0,0,0,0,0,0,0,0,0,0,0,0,0,0,0,0,0,0,0,0,0,0,0,0,0,0,0,0,0,0,0,0,0,0,0,0,0,0,0,0,0,0,0,0,0,0,0,0,0,0,0,0,0,{"$f":"JDK6+JDK8+JDK10+JDK12+JDK14+JDK16+JDK18","v":0},0,0,0,0,0,0,0,0,0,0,0,0,0,0,0,0,0,0,0,0,0,0,0,0,0,0,0,0,0,0,0,0,0,0,0,0,0,0,0,0,0,0,0,0,0,0,0,0,0,0,0,0,0,0,0,0,0,0,0,0,0,0,0,{"$f":"JFW6+JFW8+JFW10+JFW12+JFW14+JFW16+JFW18","v":0},0,0,0,0,0,0,0,0,0,0,0,0,0,0,0,0,0,0,0,0,0,0,0,0,0,0,0,0,0,0,0,0,0,0,0,0,0,0,0,0,0,0,0,0,0,0,0,0,0,0,0,0,0,0,0,0,0,0,0,0,0,0,0,{"$f":"JII6+JII8+JII10+JII12+JII14+JII16+JII18","v":0},0,0,0,0,0,0,0,0,0,0,0,0,0,0,0,0,0,0,0,0,0,0,0,0,0,0,0,0,0,0,0,0,0,0,0,0,0,0,0,0,0,0,0,0,0,0,0,0,0,0,0,0,0,0,0,0,0,0,0,0,0,0,0,{"$f":"JKU6+JKU8+JKU10+JKU12+JKU14+JKU16+JKU18","v":0},0,0,0,0,0,0,0,0,0,0,0,0,0,0,0,0,0,0,0,0,0,0,0,0,0,0,0,0,0,0,0,0,0,0,0,0,0,0,0,0,0,0,0,0,0,0,0,0,0,0,0,0,0,0,0,0,0,0,0,0,0,0,0,{"$f":"JNG6+JNG8+JNG10+JNG12+JNG14+JNG16+JNG18","v":0},0,0,0,0,0,0,0,0,0,0,0,0,0,0,0,0,0,0,0,0,0,0,0,0,0,0,0,0,0,0,0,0,0,0,0,0,0,0,0,0,0,0,0,0,0,0,0,0,0,0,0,0,0,0,0,0,0,0,0,0,0,0,0,{"$f":"JPS6+JPS8+JPS10+JPS12+JPS14+JPS16+JPS18","v":0},0,0,0,0,0,0,0,0,0,0,0,0,0,0,0,0,0,0,0,0,0,0,0,0,0,0,0,0,0,0,0,0,0,0,0,0,0,0,0,0,0,0,0,0,0,0,0,0,0,0,0,0,0,0,0,0,0,0,0,0,0,0,0,{"$f":"JSE6+JSE8+JSE10+JSE12+JSE14+JSE16+JSE18","v":0},0,0,0,0,0,0,0,0,0,0,0,0,0,0,0,0,0,0,0,0,0,0,0,0,0,0,0,0,0,0,0,0,0,0,0,0,0,0,0,0,0,0,0,0,0,0,0,0,0,0,0,0,0,0,0,0,0,0,0,0,0,0,0,{"$f":"JUQ6+JUQ8+JUQ10+JUQ12+JUQ14+JUQ16+JUQ18","v":0},0,0,0,0,0,0,0,0,0,0,0,0,0,0,0,0,0,0,0,0,0,0,0,0,0,0,0,0,0,0,0,0,0,0,0,0,0,0,0,0,0,0,0,0,0,0,0,0,0,0,0,0,0,0,0,0,0,0,0,0,0,0,0,{"$f":"JXC6+JXC8+JXC10+JXC12+JXC14+JXC16+JXC18","v":0},0,0,0,0,0,0,0,0,0,0,0,0,0,0,0,0,0,0,0,0,0,0,0,0,0,0,0,0,0,0,0,0,0,0,0,0,0,0,0,0,0,0,0,0,0,0,0,0,0,0,0,0,0,0,0,0,0,0,0,0,0,0,0,{"$f":"JZO6+JZO8+JZO10+JZO12+JZO14+JZO16+JZO18","v":0},0,0,0,0,0,0,0,0,0,0,0,0,0,0,0,0,0,0,0,0,0,0,0,0,0,0,0,0,0,0,0,0,0,0,0,0,0,0,0,0,0,0,0,0,0,0,0,0,0,0,0,0,0,0,0,0,0,0,0,0,0,0,0,{"$f":"KCA6+KCA8+KCA10+KCA12+KCA14+KCA16+KCA18","v":0},0,0,0,0,0,0,0,0,0,0,0,0,0,0,0,0,0,0,0,0,0,0,0,0,0,0,0,0,0,0,0,0,0,0,0,0,0,0,0,0,0,0,0,0,0,0,0,0,0,0,0,0,0,0,0,0,0,0,0,0,0,0,0,{"$f":"KEM6+KEM8+KEM10+KEM12+KEM14+KEM16+KEM18","v":0},0,0,0,0,0,0,0,0,0,0,0,0,0,0,0,0,0,0,0,0,0,0,0,0,0,0,0,0,0,0,0,0,0,0,0,0,0,0,0,0,0,0,0,0,0,0,0,0,0,0,0,0,0,0,0,0,0,0,0,0,0,0,0,{"$f":"KGY6+KGY8+KGY10+KGY12+KGY14+KGY16+KGY18","v":0},0,0,0,0,0,0,0,0,0,0,0,0,0,0,0,0,0,0,0,0,0,0,0,0,0,0,0,0,0,0,0,0,0,0,0,0,0,0,0,0,0,0,0,0,0,0,0,0,0,0,0,0,0,0,0,0,0,0,0,0,0,0,0,{"$f":"KJK6+KJK8+KJK10+KJK12+KJK14+KJK16+KJK18","v":0},0,0,0,0,0,0,0,0,0,0,0,0,0,0,0,0,0,0,0,0,0,0,0,0,0,0,0,0,0,0,0,0,0,0,0,0,0,0,0,0,0,0,0,0,0,0,0,0,0,0,0,0,0,0,0,0,0,0,0,0,0,0,0,{"$f":"KLW6+KLW8+KLW10+KLW12+KLW14+KLW16+KLW18","v":0},0,0,0,0,0,0,0,0,0,0,0,0,0,0,0,0,0,0,0,0,0,0,0,0,0,0,0,0,0,0,0,0,0,0,0,0,0,0,0,0,0,0,0,0,0,0,0,0,0,0,0,0,0,0,0,0,0,0,0,0,0,0,0,{"$f":"KOI6+KOI8+KOI10+KOI12+KOI14+KOI16+KOI18","v":0},0,0,0,0,0,0,0,0,0,0,0,0,0,0,0,0,0,0,0,0,0,0,0,0,0,0,0,0,0,0,0,0,0,0,0,0,0,0,0,0,0,0,0,0,0,0,0,0,0,0,0,0,0,0,0,0,0,0,0,0,0,0,0,{"$f":"KQU6+KQU8+KQU10+KQU12+KQU14+KQU16+KQU18","v":0},0,0,0,0,0,0,0,0,0,0,0,0,0,0,0,0,0,0,0,0,0,0,0,0,0,0,0,0,0,0,0,0,0,0,0,0,0,0,0,0,0,0,0,0,0,0,0,0,0,0,0,0,0,0,0,0,0,0,0,0,0,0,0,{"$f":"KTG6+KTG8+KTG10+KTG12+KTG14+KTG16+KTG18","v":0},0,0,0,0,0,0,0,0,0,0,0,0,0,0,0,0,0,0,0,0,0,0,0,0,0,0,0,0,0,0,0,0,0,0,0,0,0,0,0,0,0,0,0,0,0,0,0,0,0,0,0,0,0,0,0,0,0,0,0,0,0,0,0,{"$f":"KVS6+KVS8+KVS10+KVS12+KVS14+KVS16+KVS18","v":0},0,0,0,0,0,0,0,0,0,0,0,0,0,0,0,0,0,0,0,0,0,0,0,0,0,0,0,0,0,0,0,0,0,0,0,0,0,0,0,0,0,0,0,0,0,0,0,0,0,0,0,0,0,0,0,0,0,0,0,0,0,0,0,{"$f":"KYE6+KYE8+KYE10+KYE12+KYE14+KYE16+KYE18","v":0},0,0,0,0,0,0,0,0,0,0,0,0,0,0,0,0,0,0,0,0,0,0,0,0,0,0,0,0,0,0,0,0,0,0,0,0,0,0,0,0,0,0,0,0,0,0,0,0,0,0,0,0,0,0,0,0,0,0,0,0,0,0,0,{"$f":"LAQ6+LAQ8+LAQ10+LAQ12+LAQ14+LAQ16+LAQ18","v":0},0,0,0,0,0,0,0,0,0,0,0,0,0,0,0,0,0,0,0,0,0,0,0,0,0,0,0,0,0,0,0,0,0,0,0,0,0,0,0,0,0,0,0,0,0,0,0,0,0,0,0,0,0,0,0,0,0,0,0,0,0,0,0,{"$f":"LDC6+LDC8+LDC10+LDC12+LDC14+LDC16+LDC18","v":0},0,0,0,0,0,0,0,0,0,0,0,0,0,0,0,0,0,0,0,0,0,0,0,0,0,0,0,0,0,0,0,0,0,0,0,0,0,0,0,0,0,0,0,0,0,0,0,0,0,0,0,0,0,0,0,0,0,0,0,0,0,0,0,{"$f":"LFO6+LFO8+LFO10+LFO12+LFO14+LFO16+LFO18","v":0},0,0,0,0,0,0,0,0,0,0,0,0,0,0,0,0,0,0,0,0,0,0,0,0,0,0,0,0,0,0,0,0,0,0,0,0,0,0,0,0,0,0,0,0,0,0,0,0,0,0,0,0,0,0,0,0,0,0,0,0,0,0,0,{"$f":"LIA6+LIA8+LIA10+LIA12+LIA14+LIA16+LIA18","v":0},0,0,0,0,0,0,0,0,0,0,0,0,0,0,0,0,0,0,0,0,0,0,0,0,0,0,0,0,0,0,0,0,0,0,0,0,0,0,0,0,0,0,0,0,0,0,0,0,0,0,0,0,0,0,0,0,0,0,0,0,0,0,0,{"$f":"LKM6+LKM8+LKM10+LKM12+LKM14+LKM16+LKM18","v":0},0,0,0,0,0,0,0,0,0,0,0,0,0,0,0,0,0,0,0,0,0,0,0,0,0,0,0,0,0,0,0,0,0,0,0,0,0,0,0,0,0,0,0,0,0,0,0,0,0,0,0,0,0,0,0,0,0,0,0,0,0,0,0,{"$f":"LMY6+LMY8+LMY10+LMY12+LMY14+LMY16+LMY18","v":0},0,0,0,0,0,0,0,0,0,0,0,0,0,0,0,0,0,0,0,0,0,0,0,0,0,0,0,0,0,0,0,0,0,0,0,0,0,0,0,0,0,0,0,0,0,0,0,0,0,0,0,0,0,0,0,0,0,0,0,0,0,0,0,{"$f":"LPK6+LPK8+LPK10+LPK12+LPK14+LPK16+LPK18","v":0},0,0,0,0,0,0,0,0,0,0,0,0,0,0,0,0,0,0,0,0,0,0,0,0,0,0,0,0,0,0,0,0,0,0,0,0,0,0,0,0,0,0,0,0,0,0,0,0,0,0,0,0,0,0,0,0,0,0,0,0,0,0,0,{"$f":"LRW6+LRW8+LRW10+LRW12+LRW14+LRW16+LRW18","v":0},0,0,0,0,0,0,0,0,0,0,0,0,0,0,0,0,0,0,0,0,0,0,0,0,0,0,0,0,0,0,0,0,0,0,0,0,0,0,0,0,0,0,0,0,0,0,0,0,0,0,0,0,0,0,0,0,0,0,0,0,0,0,0,{"$f":"LUI6+LUI8+LUI10+LUI12+LUI14+LUI16+LUI18","v":0},0,0,0,0,0,0,0,0,0,0,0,0,0,0,0,0,0,0,0,0,0,0,0,0,0,0,0,0,0,0,0,0,0,0,0,0,0,0,0,0,0,0,0,0,0,0,0,0,0,0,0,0,0,0,0,0,0,0,0,0,0,0,0,{"$f":"LWU6+LWU8+LWU10+LWU12+LWU14+LWU16+LWU18","v":0},0,0,0,0,0,0,0,0,0,0,0,0,0,0,0,0,0,0,0,0,0,0,0,0,0,0,0,0,0,0,0,0,0,0,0,0,0,0,0,0,0,0,0,0,0,0,0,0,0,0,0,0,0,0,0,0,0,0,0,0,0,0,0,{"$f":"LZG6+LZG8+LZG10+LZG12+LZG14+LZG16+LZG18","v":0},0,0,0,0,0,0,0,0,0,0,0,0,0,0,0,0,0,0,0,0,0,0,0,0,0,0,0,0,0,0,0,0,0,0,0,0,0,0,0,0,0,0,0,0,0,0,0,0,0,0,0,0,0,0,0,0,0,0,0,0,0,0,0,{"$f":"MBS6+MBS8+MBS10+MBS12+MBS14+MBS16+MBS18","v":0},0,0,0,0,0,0,0,0,0,0,0,0,0,0,0,0,0,0,0,0,0,0,0,0,0,0,0,0,0,0,0,0,0,0,0,0,0,0,0,0,0,0,0,0,0,0,0,0,0,0,0,0,0,0,0,0,0,0,0,0,0,0,0,{"$f":"MEE6+MEE8+MEE10+MEE12+MEE14+MEE16+MEE18","v":0},0,0,0,0,0,0,0,0,0,0,0,0,0,0,0,0,0,0,0,0,0,0,0,0,0,0,0,0,0,0,0,0,0,0,0,0,0,0,0,0,0,0,0,0,0,0,0,0,0,0,0,0,0,0,0,0,0,0,0,0,0,0,0,{"$f":"MGQ6+MGQ8+MGQ10+MGQ12+MGQ14+MGQ16+MGQ18","v":0},0,0,0,0,0,0,0,0,0,0,0,0,0,0,0,0,0,0,0,0,0,0,0,0,0,0,0,0,0,0,0,0,0,0,0,0,0,0,0,0,0,0,0,0,0,0,0,0,0,0,0,0,0,0,0,0,0,0,0,0,0,0,0,{"$f":"MJC6+MJC8+MJC10+MJC12+MJC14+MJC16+MJC18","v":0},0,0,0,0,0,0,0,0,0,0,0,0,0,0,0,0,0,0,0,0,0,0,0,0,0,0,0,0,0,0,0,0,0,0,0,0,0,0,0,0,0,0,0,0,0,0,0,0,0,0,0,0,0,0,0,0,0,0,0,0,0,0,0,{"$f":"MLO6+MLO8+MLO10+MLO12+MLO14+MLO16+MLO18","v":0},0,0,0,0,0,0,0,0,0,0,0,0,0,0,0,0,0,0,0,0,0,0,0,0,0,0,0,0,0,0,0,0,0,0,0,0,0,0,0,0,0,0,0,0,0,0,0,0,0,0,0,0,0,0,0,0,0,0,0,0,0,0,0,{"$f":"MOA6+MOA8+MOA10+MOA12+MOA14+MOA16+MOA18","v":0},0,0,0,0,0,0,0,0,0,0,0,0,0,0,0,0,0,0,0,0,0,0,0,0,0,0,0,0,0,0,0,0,0,0,0,0,0,0,0,0,0,0,0,0,0,0,0,0,0,0,0,0,0,0,0,0,0,0,0,0,0,0,0,{"$f":"MQM6+MQM8+MQM10+MQM12+MQM14+MQM16+MQM18","v":0},0,0,0,0,0,0,0,0,0,0,0,0,0,0,0,0,0,0,0,0,0,0,0,0,0,0,0,0,0,0,0,0,0,0,0,0,0,0,0,0,0,0,0,0,0,0,0,0,0,0,0,0,0,0,0,0,0,0,0,0,0,0,0,{"$f":"MSY6+MSY8+MSY10+MSY12+MSY14+MSY16+MSY18","v":0},0,0,0,0,0,0,0,0,0,0,0,0,0,0,0,0,0,0,0,0,0,0,0,0,0,0,0,0,0,0,0,0,0,0,0,0,0,0,0,0,0,0,0,0,0,0,0,0,0,0,0,0,0,0,0,0,0,0,0,0,0,0,0,{"$f":"MVK6+MVK8+MVK10+MVK12+MVK14+MVK16+MVK18","v":0},0,0,0,0,0,0,0,0,0,0,0,0,0,0,0,0,0,0,0,0,0,0,0,0,0,0,0,0,0,0,0,0,0,0,0,0,0,0,0,0,0,0,0,0,0,0,0,0,0,0,0,0,0,0,0,0,0,0,0,0,0,0,0,{"$f":"MXW6+MXW8+MXW10+MXW12+MXW14+MXW16+MXW18","v":0},0,0,0,0,0,0,0,0,0,0,0,0,0,0,0,0,0,0,0,0,0,0,0,0,0,0,0,0,0,0,0,0,0,0,0,0,0,0,0,0,0,0,0,0,0,0,0,0,0,0,0,0,0,0,0,0,0,0,0,0,0,0,0,{"$f":"NAI6+NAI8+NAI10+NAI12+NAI14+NAI16+NAI18","v":0},0,0,0,0,0,0,0,0,0,0,0,0,0,0,0,0,0,0,0,0,0,0,0,0,0,0,0,0,0,0,0,0,0,0,0,0,0,0,0,0,0,0,0,0,0,0,0,0,0,0,0,0,0,0,0,0,0,0,0,0,0,0,0,{"$f":"NCU6+NCU8+NCU10+NCU12+NCU14+NCU16+NCU18","v":0},0,0,0,0,0,0,0,0,0,0,0,0,0,0,0,0,0,0,0,0,0,0,0,0,0,0,0,0,0,0,0,0,0,0,0,0,0,0,0,0,0,0,0,0,0,0,0,0,0,0,0,0,0,0,0,0,0,0,0,0,0,0,0,{"$f":"NFG6+NFG8+NFG10+NFG12+NFG14+NFG16+NFG18","v":0},0,0,0,0,0,0,0,0,0,0,0,0,0,0,0,0,0,0,0,0,0,0,0,0,0,0,0,0,0,0,0,0,0,0,0,0,0,0,0,0,0,0,0,0,0,0,0,0,0,0,0,0,0,0,0,0,0,0,0,0,0,0,0,{"$f":"NHS6+NHS8+NHS10+NHS12+NHS14+NHS16+NHS18","v":0},0,0,0,0,0,0,0,0,0,0,0,0,0,0,0,0,0,0,0,0,0,0,0,0,0,0,0,0,0,0,0,0,0,0,0,0,0,0,0,0,0,0,0,0,0,0,0,0,0,0,0,0,0,0,0,0,0,0,0,0,0,0,0,{"$f":"NKE6+NKE8+NKE10+NKE12+NKE14+NKE16+NKE18","v":0},0,0,0,0,0,0,0,0,0,0,0,0,0,0,0,0,0,0,0,0,0,0,0,0,0,0,0,0,0,0,0,0,0,0,0,0,0,0,0,0,0,0,0,0,0,0,0,0,0,0,0,0,0,0,0,0,0,0,0,0,0,0,0,{"$f":"NMQ6+NMQ8+NMQ10+NMQ12+NMQ14+NMQ16+NMQ18","v":0},0,0,0,0,0,0,0,0,0,0,0,0,0,0,0,0,0,0,0,0,0,0,0,0,0,0,0,0,0,0,0,0,0,0,0,0,0,0,0,0,0,0,0,0,0,0,0,0,0,0,0,0,0,0,0,0,0,0,0,0,0,0,0,{"$f":"NPC6+NPC8+NPC10+NPC12+NPC14+NPC16+NPC18","v":0},0,0,0,0,0,0,0,0,0,0,0,0,0,0,0,0,0,0,0,0,0,0,0,0,0,0,0,0,0,0,0,0,0,0,0,0,0,0,0,0,0,0,0,0,0,0,0,0,0,0,0,0,0,0,0,0,0,0,0,0,0,0,0,{"$f":"NRO6+NRO8+NRO10+NRO12+NRO14+NRO16+NRO18","v":0},0,0,0,0,0,0,0,0,0,0,0,0,0,0,0,0,0,0,0,0,0,0,0,0,0,0,0,0,0,0,0,0,0,0,0,0,0,0,0,0,0,0,0,0,0,0,0,0,0,0,0,0,0,0,0,0,0,0,0,0,0,0,0,{"$f":"NUA6+NUA8+NUA10+NUA12+NUA14+NUA16+NUA18","v":0},0,0,0,0,0,0,0,0,0,0,0,0,0,0,0,0,0,0,0,0,0,0,0,0,0,0,0,0,0,0,0,0,0,0,0,0,0,0,0,0,0,0,0,0,0,0,0,0,0,0,0,0,0,0,0,0,0,0,0,0,0,0,0,{"$f":"NWM6+NWM8+NWM10+NWM12+NWM14+NWM16+NWM18","v":0},0,0,0,0,0,0,0,0,0,0,0,0,0,0,0,0,0,0,0,0,0,0,0,0,0,0,0,0,0,0,0,0,0,0,0,0,0,0,0,0,0,0,0,0,0,0,0,0,0,0,0,0,0,0,0,0,0,0,0,0,0,0,0,{"$f":"NYY6+NYY8+NYY10+NYY12+NYY14+NYY16+NYY18","v":0},0,0,0,0,0,0,0,0,0,0,0,0,0,0,0,0,0,0,0,0,0,0,0,0,0,0,0,0,0,0,0,0,0,0,0,0,0,0,0,0,0,0,0,0,0,0,0,0,0,0,0,0,0,0,0,0,0,0,0,0,0,0,0,{"$f":"OBK6+OBK8+OBK10+OBK12+OBK14+OBK16+OBK18","v":0},0,0,0,0,0,0,0,0,0,0,0,0,0,0,0,0,0,0,0,0,0,0,0,0,0,0,0,0,0,0,0,0,0,0,0,0,0,0,0,0,0,0,0,0,0,0,0,0,0,0,0,0,0,0,0,0,0,0,0,0,0,0,0,{"$f":"ODW6+ODW8+ODW10+ODW12+ODW14+ODW16+ODW18","v":0},0,0,0,0,0,0,0,0,0,0,0,0,0,0,0,0,0,0,0,0,0,0,0,0,0,0,0,0,0,0,0,0,0,0,0,0,0,0,0,0,0,0,0,0,0,0,0,0,0,0,0,0,0,0,0,0,0,0,0,0,0,0,0,{"$f":"OGI6+OGI8+OGI10+OGI12+OGI14+OGI16+OGI18","v":0},0,0,0,0,0,0,0,0,0,0,0,0,0,0,0,0,0,0,0,0,0,0,0,0,0,0,0,0,0,0,0,0,0,0,0,0,0,0,0,0,0,0,0,0,0,0,0,0,0,0,0,0,0,0,0,0,0,0,0,0,0,0,0,{"$f":"OIU6+OIU8+OIU10+OIU12+OIU14+OIU16+OIU18","v":0},0,0,0,0,0,0,0,0,0,0,0,0,0,0,0,0,0,0,0,0,0,0,0,0,0,0,0,0,0,0,0,0,0,0,0,0,0,0,0,0,0,0,0,0,0,0,0,0,0,0,0,0,0,0,0,0,0,0,0,0,0,0,0,{"$f":"OLG6+OLG8+OLG10+OLG12+OLG14+OLG16+OLG18","v":0},0,0,0,0,0,0,0,0,0,0,0,0,0,0,0,0,0,0,0,0,0,0,0,0,0,0,0,0,0,0,0,0,0,0,0,0,0,0,0,0,0,0,0,0,0,0,0,0,0,0,0,0,0,0,0,0,0,0,0,0,0,0,0,{"$f":"ONS6+ONS8+ONS10+ONS12+ONS14+ONS16+ONS18","v":0},0,0,0,0,0,0,0,0,0,0,0,0,0,0,0,0,0,0,0,0,0,0,0,0,0,0,0,0,0,0,0,0,0,0,0,0,0,0,0,0,0,0,0,0,0,0,0,0,0,0,0,0,0,0,0,0,0,0,0,0,0,0,0,{"$f":"OQE6+OQE8+OQE10+OQE12+OQE14+OQE16+OQE18","v":0},0,0,0,0,0,0,0,0,0,0,0,0,0,0,0,0,0,0,0,0,0,0,0,0,0,0,0,0,0,0,0,0,0,0,0,0,0,0,0,0,0,0,0,0,0,0,0,0,0,0,0,0,0,0,0,0,0,0,0,0,0,0,0,{"$f":"OSQ6+OSQ8+OSQ10+OSQ12+OSQ14+OSQ16+OSQ18","v":0},0,0,0,0,0,0,0,0,0,0,0,0,0,0,0,0,0,0,0,0,0,0,0,0,0,0,0,0,0,0,0,0,0,0,0,0,0,0,0,0,0,0,0,0,0,0,0,0,0,0,0,0,0,0,0,0,0,0,0,0,0,0,0,{"$f":"OVC6+OVC8+OVC10+OVC12+OVC14+OVC16+OVC18","v":0},0,0,0,0,0,0,0,0,0,0,0,0,0,0,0,0,0,0,0,0,0,0,0,0,0,0,0,0,0,0,0,0,0,0,0,0,0,0,0,0,0,0,0,0,0,0,0,0,0,0,0,0,0,0,0,0,0,0,0,0,0,0,0,{"$f":"OXO6+OXO8+OXO10+OXO12+OXO14+OXO16+OXO18","v":0},0,0,0,0,0,0,0,0,0,0,0,0,0,0,0,0,0,0,0,0,0,0,0,0,0,0,0,0,0,0,0,0,0,0,0,0,0,0,0,0,0,0,0,0,0,0,0,0,0,0,0,0,0,0,0,0,0,0,0,0,0,0,0,{"$f":"PAA6+PAA8+PAA10+PAA12+PAA14+PAA16+PAA18","v":0},0,0,0,0,0,0,0,0,0,0,0,0,0,0,0,0,0,0,0,0,0,0,0,0,0,0,0,0,0,0,0,0,0,0,0,0,0,0,0,0,0,0,0,0,0,0,0,0,0,0,0,0,0,0,0,0,0,0,0,0,0,0,0,{"$f":"PCM6+PCM8+PCM10+PCM12+PCM14+PCM16+PCM18","v":0},0,0,0,0,0,0,0,0,0,0,0,0,0,0,0,0,0,0,0,0,0,0,0,0,0,0,0,0,0,0,0,0,0,0,0,0,0,0,0,0,0,0,0,0,0,0,0,0,0,0,0,0,0,0,0,0,0,0,0,0,0,0,0,{"$f":"PEY6+PEY8+PEY10+PEY12+PEY14+PEY16+PEY18","v":0},0,0,0,0,0,0,0,0,0,0,0,0,0,0,0,0,0,0,0,0,0,0,0,0,0,0,0,0,0,0,0,0,0,0,0,0,0,0,0,0,0,0,0,0,0,0,0,0,0,0,0,0,0,0,0,0,0,0,0,0,0,0,0,{"$f":"PHK6+PHK8+PHK10+PHK12+PHK14+PHK16+PHK18","v":0},0,0,0,0,0,0,0,0,0,0,0,0,0,0,0,0,0,0,0,0,0,0,0,0,0,0,0,0,0,0,0,0,0,0,0,0,0,0,0,0,0,0,0,0,0,0,0,0,0,0,0,0,0,0,0,0,0,0,0,0,0,0,0,{"$f":"PJW6+PJW8+PJW10+PJW12+PJW14+PJW16+PJW18","v":0},0,0,0,0,0,0,0,0,0,0,0,0,0,0,0,0,0,0,0,0,0,0,0,0,0,0,0,0,0,0,0,0,0,0,0,0,0,0,0,0,0,0,0,0,0,0,0,0,0,0,0,0,0,0,0,0,0,0,0,0,0,0,0,{"$f":"PMI6+PMI8+PMI10+PMI12+PMI14+PMI16+PMI18","v":0},0,0,0,0,0,0,0,0,0,0,0,0,0,0,0,0,0,0,0,0,0,0,0,0,0,0,0,0,0,0,0,0,0,0,0,0,0,0,0,0,0,0,0,0,0,0,0,0,0,0,0,0,0,0,0,0,0,0,0,0,0,0,0,{"$f":"POU6+POU8+POU10+POU12+POU14+POU16+POU18","v":0},0,0,0,0,0,0,0,0,0,0,0,0,0,0,0,0,0,0,0,0,0,0,0,0,0,0,0,0,0,0,0,0,0,0,0,0,0,0,0,0,0,0,0,0,0,0,0,0,0,0,0,0,0,0,0,0,0,0,0,0,0,0,0,{"$f":"PRG6+PRG8+PRG10+PRG12+PRG14+PRG16+PRG18","v":0},0,0,0,0,0,0,0,0,0,0,0,0,0,0,0,0,0,0,0,0,0,0,0,0,0,0,0,0,0,0,0,0,0,0,0,0,0,0,0,0,0,0,0,0,0,0,0,0,0,0,0,0,0,0,0,0,0,0,0,0,0,0,0,{"$f":"PTS6+PTS8+PTS10+PTS12+PTS14+PTS16+PTS18","v":0},0,0,0,0,0,0,0,0,0,0,0,0,0,0,0,0,0,0,0,0,0,0,0,0,0,0,0,0,0,0,0,0,0,0,0,0,0,0,0,0,0,0,0,0,0,0,0,0,0,0,0,0,0,0,0,0,0,0,0,0,0,0,0,{"$f":"PWE6+PWE8+PWE10+PWE12+PWE14+PWE16+PWE18","v":0},0,0,0,0,0,0,0,0,0,0,0,0,0,0,0,0,0,0,0,0,0,0,0,0,0,0,0,0,0,0,0,0,0,0,0,0,0,0,0,0,0,0,0,0,0,0,0,0,0,0,0,0,0,0,0,0,0,0,0,0,0,0,0,{"$f":"PYQ6+PYQ8+PYQ10+PYQ12+PYQ14+PYQ16+PYQ18","v":0},0,0,0,0,0,0,0,0,0,0,0,0,0,0,0,0,0,0,0,0,0,0,0,0,0,0,0,0,0,0,0,0,0,0,0,0,0,0,0,0,0,0,0,0,0,0,0,0,0,0,0,0,0,0,0,0,0,0,0,0,0,0,0,{"$f":"QBC6+QBC8+QBC10+QBC12+QBC14+QBC16+QBC18","v":0},0,0,0,0,0,0,0,0,0,0,0,0,0,0,0,0,0,0,0,0,0,0,0,0,0,0,0,0,0,0,0,0,0,0,0,0,0,0,0,0,0,0,0,0,0,0,0,0,0,0,0,0,0,0,0,0,0,0,0,0,0,0,0,{"$f":"QDO6+QDO8+QDO10+QDO12+QDO14+QDO16+QDO18","v":0},0,0,0,0,0,0,0,0,0,0,0,0,0,0,0,0,0,0,0,0,0,0,0,0,0,0,0,0,0,0,0,0,0,0,0,0,0,0,0,0,0,0,0,0,0,0,0,0,0,0,0,0,0,0,0,0,0,0,0,0,0,0,0,{"$f":"QGA6+QGA8+QGA10+QGA12+QGA14+QGA16+QGA18","v":0},0,0,0,0,0,0,0,0,0,0,0,0,0,0,0,0,0,0,0,0,0,0,0,0,0,0,0,0,0,0,0,0,0,0,0,0,0,0,0,0,0,0,0,0,0,0,0,0,0,0,0,0,0,0,0,0,0,0,0,0,0,0,0,{"$f":"QIM6+QIM8+QIM10+QIM12+QIM14+QIM16+QIM18","v":0},0,0,0,0,0,0,0,0,0,0,0,0,0,0,0,0,0,0,0,0,0,0,0,0,0,0,0,0,0,0,0,0,0,0,0,0,0,0,0,0,0,0,0,0,0,0,0,0,0,0,0,0,0,0,0,0,0,0,0,0,0,0,0,{"$f":"QKY6+QKY8+QKY10+QKY12+QKY14+QKY16+QKY18","v":0},0,0,0,0,0,0,0,0,0,0,0,0,0,0,0,0,0,0,0,0,0,0,0,0,0,0,0,0,0,0,0,0,0,0,0,0,0,0,0,0,0,0,0,0,0,0,0,0,0,0,0,0,0,0,0,0,0,0,0,0,0,0,0,{"$f":"QNK6+QNK8+QNK10+QNK12+QNK14+QNK16+QNK18","v":0},0,0,0,0,0,0,0,0,0,0,0,0,0,0,0,0,0,0,0,0,0,0,0,0,0,0,0,0,0,0,0,0,0,0,0,0,0,0,0,0,0,0,0,0,0,0,0,0,0,0,0,0,0,0,0,0,0,0,0,0,0,0,0,{"$f":"QPW6+QPW8+QPW10+QPW12+QPW14+QPW16+QPW18","v":0},0,0,0,0,0,0,0,0,0,0,0,0,0,0,0,0,0,0,0,0,0,0,0,0,0,0,0,0,0,0,0,0,0,0,0,0,0,0,0,0,0,0,0,0,0,0,0,0,0,0,0,0,0,0,0,0,0,0,0,0,0,0,0,{"$f":"QSI6+QSI8+QSI10+QSI12+QSI14+QSI16+QSI18","v":0},0,0,0,0,0,0,0,0,0,0,0,0,0,0,0,0,0,0,0,0,0,0,0,0,0,0,0,0,0,0,0,0,0,0,0,0,0,0,0,0,0,0,0,0,0,0,0,0,0,0,0,0,0,0,0,0,0,0,0,0,0,0,0,{"$f":"QUU6+QUU8+QUU10+QUU12+QUU14+QUU16+QUU18","v":0},0,0,0,0,0,0,0,0,0,0,0,0,0,0,0,0,0,0,0,0,0,0,0,0,0,0,0,0,0,0,0,0,0,0,0,0,0,0,0,0,0,0,0,0,0,0,0,0,0,0,0,0,0,0,0,0,0,0,0,0,0,0,0,{"$f":"QXG6+QXG8+QXG10+QXG12+QXG14+QXG16+QXG18","v":0},0,0,0,0,0,0,0,0,0,0,0,0,0,0,0,0,0,0,0,0,0,0,0,0,0,0,0,0,0,0,0,0,0,0,0,0,0,0,0,0,0,0,0,0,0,0,0,0,0,0,0,0,0,0,0,0,0,0,0,0,0,0,0,{"$f":"QZS6+QZS8+QZS10+QZS12+QZS14+QZS16+QZS18","v":0},0,0,0,0,0,0,0,0,0,0,0,0,0,0,0,0,0,0,0,0,0,0,0,0,0,0,0,0,0,0,0,0,0,0,0,0,0,0,0,0,0,0,0,0,0,0,0,0,0,0,0,0,0,0,0,0,0,0,0,0,0,0,0,{"$f":"RCE6+RCE8+RCE10+RCE12+RCE14+RCE16+RCE18","v":0},0,0,0,0,0,0,0,0,0,0,0,0,0,0,0,0,0,0,0,0,0,0,0,0,0,0,0,0,0,0,0,0,0,0,0,0,0,0,0,0,0,0,0,0,0,0,0,0,0,0,0,0,0,0,0,0,0,0,0,0,0,0,0,{"$f":"REQ6+REQ8+REQ10+REQ12+REQ14+REQ16+REQ18","v":0},0,0,0,0,0,0,0,0,0,0,0,0,0,0,0,0,0,0,0,0,0,0,0,0,0,0,0,0,0,0,0,0,0,0,0,0,0,0,0,0,0,0,0,0,0,0,0,0,0,0,0,0,0,0,0,0,0,0,0,0,0,0,0,{"$f":"RHC6+RHC8+RHC10+RHC12+RHC14+RHC16+RHC18","v":0},0,0,0,0,0,0,0,0,0,0,0,0,0,0,0,0,0,0,0,0,0,0,0,0,0,0,0,0,0,0,0,0,0,0,0,0,0,0,0,0,0,0,0,0,0,0,0,0,0,0,0,0,0,0,0,0,0,0,0,0,0,0,0,{"$f":"RJO6+RJO8+RJO10+RJO12+RJO14+RJO16+RJO18","v":0},0,0,0,0,0,0,0,0,0,0,0,0,0,0,0,0,0,0,0,0,0,0,0,0,0,0,0,0,0,0,0,0,0,0,0,0,0,0,0,0,0,0,0,0,0,0,0,0,0,0,0,0,0,0,0,0,0,0,0,0,0,0,0,{"$f":"RMA6+RMA8+RMA10+RMA12+RMA14+RMA16+RMA18","v":0},0,0,0,0,0,0,0,0,0,0,0,0,0,0,0,0,0,0,0,0,0,0,0,0,0,0,0,0,0,0,0,0,0,0,0,0,0,0,0,0,0,0,0,0,0,0,0,0,0,0,0,0,0,0,0,0,0,0,0,0,0,0,0,{"$f":"ROM6+ROM8+ROM10+ROM12+ROM14+ROM16+ROM18","v":0},0,0,0,0,0,0,0,0,0,0,0,0,0,0,0,0,0,0,0,0,0,0,0,0,0,0,0,0,0,0,0,0,0,0,0,0,0,0,0,0,0,0,0,0,0,0,0,0,0,0,0,0,0,0,0,0,0,0,0,0,0,0,0,{"$f":"RQY6+RQY8+RQY10+RQY12+RQY14+RQY16+RQY18","v":0},0,0,0,0,0,0,0,0,0,0,0,0,0,0,0,0,0,0,0,0,0,0,0,0,0,0,0,0,0,0,0,0,0,0,0,0,0,0,0,0,0,0,0,0,0,0,0,0,0,0,0,0,0,0,0,0,0,0,0,0,0,0,0,{"$f":"RTK6+RTK8+RTK10+RTK12+RTK14+RTK16+RTK18","v":0},0,0,0,0,0,0,0,0,0,0,0,0,0,0,0,0,0,0,0,0,0,0,0,0,0,0,0,0,0,0,0,0,0,0,0,0,0,0,0,0,0,0,0,0,0,0,0,0,0,0,0,0,0,0,0,0,0,0,0,0,0,0,0,{"$f":"RVW6+RVW8+RVW10+RVW12+RVW14+RVW16+RVW18","v":0},0,0,0,0,0,0,0,0,0,0,0,0,0,0,0,0,0,0,0,0,0,0,0,0,0,0,0,0,0,0,0,0,0,0,0,0,0,0,0,0,0,0,0,0,0,0,0,0,0,0,0,0,0,0,0,0,0,0,0,0,0,0,0,{"$f":"RYI6+RYI8+RYI10+RYI12+RYI14+RYI16+RYI18","v":0},0,0,0,0,0,0,0,0,0,0,0,0,0,0,0,0,0,0,0,0,0,0,0,0,0,0,0,0,0,0,0,0,0,0,0,0,0,0,0,0,0,0,0,0,0,0,0,0,0,0,0,0,0,0,0,0,0,0,0,0,0,0,0,{"$f":"SAU6+SAU8+SAU10+SAU12+SAU14+SAU16+SAU18","v":0},0,0,0,0,0,0,0,0,0,0,0,0,0,0,0,0,0,0,0,0,0,0,0,0,0,0,0,0,0,0,0,0,0,0,0,0,0,0,0,0,0,0,0,0,0,0,0,0,0,0,0,0,0,0,0,0,0,0,0,0,0,0,0,{"$f":"SDG6+SDG8+SDG10+SDG12+SDG14+SDG16+SDG18","v":0},0,0,0,0,0,0,0,0,0,0,0,0,0,0,0,0,0,0,0,0,0,0,0,0,0,0,0,0,0,0,0,0,0,0,0,0,0,0,0,0,0,0,0,0,0,0,0,0,0,0,0,0,0,0,0,0,0,0,0,0,0,0,0,{"$f":"SFS6+SFS8+SFS10+SFS12+SFS14+SFS16+SFS18","v":0},0,0,0,0,0,0,0,0,0,0,0,0,0,0,0,0,0,0,0,0,0,0,0,0,0,0,0,0,0,0,0,0,0,0,0,0,0,0,0,0,0,0,0,0,0,0,0,0,0,0,0,0,0,0,0,0,0,0,0,0,0,0,0,{"$f":"SIE6+SIE8+SIE10+SIE12+SIE14+SIE16+SIE18","v":0},0,0,0,0,0,0,0,0,0,0,0,0,0,0,0,0,0,0,0,0,0,0,0,0,0,0,0,0,0,0,0,0,0,0,0,0,0,0,0,0,0,0,0,0,0,0,0,0,0,0,0,0,0,0,0,0,0,0,0,0,0,0,0,{"$f":"SKQ6+SKQ8+SKQ10+SKQ12+SKQ14+SKQ16+SKQ18","v":0},0,0,0,0,0,0,0,0,0,0,0,0,0,0,0,0,0,0,0,0,0,0,0,0,0,0,0,0,0,0,0,0,0,0,0,0,0,0,0,0,0,0,0,0,0,0,0,0,0,0,0,0,0,0,0,0,0,0,0,0,0,0,0,{"$f":"SNC6+SNC8+SNC10+SNC12+SNC14+SNC16+SNC18","v":0},0,0,0,0,0,0,0,0,0,0,0,0,0,0,0,0,0,0,0,0,0,0,0,0,0,0,0,0,0,0,0,0,0,0,0,0,0,0,0,0,0,0,0,0,0,0,0,0,0,0,0,0,0,0,0,0,0,0,0,0,0,0,0,{"$f":"SPO6+SPO8+SPO10+SPO12+SPO14+SPO16+SPO18","v":0},0,0,0,0,0,0,0,0,0,0,0,0,0,0,0,0,0,0,0,0,0,0,0,0,0,0,0,0,0,0,0,0,0,0,0,0,0,0,0,0,0,0,0,0,0,0,0,0,0,0,0,0,0,0,0,0,0,0,0,0,0,0,0,{"$f":"SSA6+SSA8+SSA10+SSA12+SSA14+SSA16+SSA18","v":0},0,0,0,0,0,0,0,0,0,0,0,0,0,0,0,0,0,0,0,0,0,0,0,0,0,0,0,0,0,0,0,0,0,0,0,0,0,0,0,0,0,0,0,0,0,0,0,0,0,0,0,0,0,0,0,0,0,0,0,0,0,0,0,{"$f":"SUM6+SUM8+SUM10+SUM12+SUM14+SUM16+SUM18","v":0},0,0,0,0,0,0,0,0,0,0,0,0,0,0,0,0,0,0,0,0,0,0,0,0,0,0,0,0,0,0,0,0,0,0,0,0,0,0,0,0,0,0,0,0,0,0,0,0,0,0,0,0,0,0,0,0,0,0,0,0,0,0,0,{"$f":"SWY6+SWY8+SWY10+SWY12+SWY14+SWY16+SWY18","v":0},0,0,0,0,0,0,0,0,0,0,0,0,0,0,0,0,0,0,0,0,0,0,0,0,0,0,0,0,0,0,0,0,0,0,0,0,0,0,0,0,0,0,0,0,0,0,0,0,0,0,0,0,0,0,0,0,0,0,0,0,0,0,0,{"$f":"SZK6+SZK8+SZK10+SZK12+SZK14+SZK16+SZK18","v":0},0,0,0,0,0,0,0,0,0,0,0,0,0,0,0,0,0,0,0,0,0,0,0,0,0,0,0,0,0,0,0,0,0,0,0,0,0,0,0,0,0,0,0,0,0,0,0,0,0,0,0,0,0,0,0,0,0,0,0,0,0,0,0,{"$f":"TBW6+TBW8+TBW10+TBW12+TBW14+TBW16+TBW18","v":0},0,0,0,0,0,0,0,0,0,0,0,0,0,0,0,0,0,0,0,0,0,0,0,0,0,0,0,0,0,0,0,0,0,0,0,0,0,0,0,0,0,0,0,0,0,0,0,0,0,0,0,0,0,0,0,0,0,0,0,0,0,0,0,{"$f":"TEI6+TEI8+TEI10+TEI12+TEI14+TEI16+TEI18","v":0},0,0,0,0,0,0,0,0,0,0,0,0,0,0,0,0,0,0,0,0,0,0,0,0,0,0,0,0,0,0,0,0,0,0,0,0,0,0,0,0,0,0,0,0,0,0,0,0,0,0,0,0,0,0,0,0,0,0,0,0,0,0,0,{"$f":"TGU6+TGU8+TGU10+TGU12+TGU14+TGU16+TGU18","v":0},0,0,0,0,0,0,0,0,0,0,0,0,0,0,0,0,0,0,0,0,0,0,0,0,0,0,0,0,0,0,0,0,0,0,0,0,0,0,0,0,0,0,0,0,0,0,0,0,0,0,0,0,0,0,0,0,0,0,0,0,0,0,0,{"$f":"TJG6+TJG8+TJG10+TJG12+TJG14+TJG16+TJG18","v":0},0,0,0,0,0,0,0,0,0,0,0,0,0,0,0,0,0,0,0,0,0,0,0,0,0,0,0,0,0,0,0,0,0,0,0,0,0,0,0,0,0,0,0,0,0,0,0,0,0,0,0,0,0,0,0,0,0,0,0,0,0,0,0,{"$f":"TLS6+TLS8+TLS10+TLS12+TLS14+TLS16+TLS18","v":0},0,0,0,0,0,0,0,0,0,0,0,0,0,0,0,0,0,0,0,0,0,0,0,0,0,0,0,0,0,0,0,0,0,0,0,0,0,0,0,0,0,0,0,0,0,0,0,0,0,0,0,0,0,0,0,0,0,0,0,0,0,0,0,{"$f":"TOE6+TOE8+TOE10+TOE12+TOE14+TOE16+TOE18","v":0},0,0,0,0,0,0,0,0,0,0,0,0,0,0,0,0,0,0,0,0,0,0,0,0,0,0,0,0,0,0,0,0,0,0,0,0,0,0,0,0,0,0,0,0,0,0,0,0,0,0,0,0,0,0,0,0,0,0,0,0,0,0,0,{"$f":"TQQ6+TQQ8+TQQ10+TQQ12+TQQ14+TQQ16+TQQ18","v":0},0,0,0,0,0,0,0,0,0,0,0,0,0,0,0,0,0,0,0,0,0,0,0,0,0,0,0,0,0,0,0,0,0,0,0,0,0,0,0,0,0,0,0,0,0,0,0,0,0,0,0,0,0,0,0,0,0,0,0,0,0,0,0,{"$f":"TTC6+TTC8+TTC10+TTC12+TTC14+TTC16+TTC18","v":0},0,0,0,0,0,0,0,0,0,0,0,0,0,0,0,0,0,0,0,0,0,0,0,0,0,0,0,0,0,0,0,0,0,0,0,0,0,0,0,0,0,0,0,0,0,0,0,0,0,0,0,0,0,0,0,0,0,0,0,0,0,0,0,{"$f":"TVO6+TVO8+TVO10+TVO12+TVO14+TVO16+TVO18","v":0},0,0,0,0,0,0,0,0,0,0,0,0,0,0,0,0,0,0,0,0,0,0,0,0,0,0,0,0,0,0,0,0,0,0,0,0,0,0,0,0,0,0,0,0,0,0,0,0,0,0,0,0,0,0,0,0,0,0,0,0,0,0,0,{"$f":"TYA6+TYA8+TYA10+TYA12+TYA14+TYA16+TYA18","v":0},0,0,0,0,0,0,0,0,0,0,0,0,0,0,0,0,0,0,0,0,0,0,0,0,0,0,0,0,0,0,0,0,0,0,0,0,0,0,0,0,0,0,0,0,0,0,0,0,0,0,0,0,0,0,0,0,0,0,0,0,0,0,0,{"$f":"UAM6+UAM8+UAM10+UAM12+UAM14+UAM16+UAM18","v":0},0,0,0,0,0,0,0,0,0,0,0,0,0,0,0,0,0,0,0,0,0,0,0,0,0,0,0,0,0,0,0,0,0,0,0,0,0,0,0,0,0,0,0,0,0,0,0,0,0,0,0,0,0,0,0,0,0,0,0,0,0,0,0,{"$f":"UCY6+UCY8+UCY10+UCY12+UCY14+UCY16+UCY18","v":0},0,0,0,0,0,0,0,0,0,0,0,0,0,0,0,0,0,0,0,0,0,0,0,0,0,0,0,0,0,0,0,0,0,0,0,0,0,0,0,0,0,0,0,0,0,0,0,0,0,0,0,0,0,0,0,0,0,0,0,0,0,0,0,{"$f":"UFK6+UFK8+UFK10+UFK12+UFK14+UFK16+UFK18","v":0},0,0,0,0,0,0,0,0,0,0,0,0,0,0,0,0,0,0,0,0,0,0,0,0,0,0,0,0,0,0,0,0,0,0,0,0,0,0,0,0,0,0,0,0,0,0,0,0,0,0,0,0,0,0,0,0,0,0,0,0,0,0,0,{"$f":"UHW6+UHW8+UHW10+UHW12+UHW14+UHW16+UHW18","v":0},0,0,0,0,0,0,0,0,0,0,0,0,0,0,0,0,0,0,0,0,0,0,0,0,0,0,0,0,0,0,0,0,0,0,0,0,0,0,0,0,0,0,0,0,0,0,0,0,0,0,0,0,0,0,0,0,0,0,0,0,0,0,0,{"$f":"UKI6+UKI8+UKI10+UKI12+UKI14+UKI16+UKI18","v":0},0,0,0,0,0,0,0,0,0,0,0,0,0,0,0,0,0,0,0,0,0,0,0,0,0,0,0,0,0,0,0,0,0,0,0,0,0,0,0,0,0,0,0,0,0,0,0,0,0,0,0,0,0,0,0,0,0,0,0,0,0,0,0,{"$f":"UMU6+UMU8+UMU10+UMU12+UMU14+UMU16+UMU18","v":0},0,0,0,0,0,0,0,0,0,0,0,0,0,0,0,0,0,0,0,0,0,0,0,0,0,0,0,0,0,0,0,0,0,0,0,0,0,0,0,0,0,0,0,0,0,0,0,0,0,0,0,0,0,0,0,0,0,0,0,0,0,0,0,{"$f":"UPG6+UPG8+UPG10+UPG12+UPG14+UPG16+UPG18","v":0},0,0,0,0,0,0,0,0,0,0,0,0,0,0,0,0,0,0,0,0,0,0,0,0,0,0,0,0,0,0,0,0,0,0,0,0,0,0,0,0,0,0,0,0,0,0,0,0,0,0,0,0,0,0,0,0,0,0,0,0,0,0,0,{"$f":"URS6+URS8+URS10+URS12+URS14+URS16+URS18","v":0},0,0,0,0,0,0,0,0,0,0,0,0,0,0,0,0,0,0,0,0,0,0,0,0,0,0,0,0,0,0,0,0,0,0,0,0,0,0,0,0,0,0,0,0,0,0,0,0,0,0,0,0,0,0,0,0,0,0,0,0,0,0,0,{"$f":"UUE6+UUE8+UUE10+UUE12+UUE14+UUE16+UUE18","v":0},0,0,0,0,0,0,0,0,0,0,0,0,0,0,0,0,0,0,0,0,0,0,0,0,0,0,0,0,0,0,0,0,0,0,0,0,0,0,0,0,0,0,0,0,0,0,0,0,0,0,0,0,0,0,0,0,0,0,0,0,0,0,0,{"$f":"UWQ6+UWQ8+UWQ10+UWQ12+UWQ14+UWQ16+UWQ18","v":0},0,0,0,0,0,0,0,0,0,0,0,0,0,0,0,0,0,0,0,0,0,0,0,0,0,0,0,0,0,0,0,0,0,0,0,0,0,0,0,0,0,0,0,0,0,0,0,0,0,0,0,0,0,0,0,0,0,0,0,0,0,0,0,{"$f":"UZC6+UZC8+UZC10+UZC12+UZC14+UZC16+UZC18","v":0},0,0,0,0,0,0,0,0,0,0,0,0,0,0,0,0,0,0,0,0,0,0,0,0,0,0,0,0,0,0,0,0,0,0,0,0,0,0,0,0,0,0,0,0,0,0,0,0,0,0,0,0,0,0,0,0,0,0,0,0,0,0,0,{"$f":"VBO6+VBO8+VBO10+VBO12+VBO14+VBO16+VBO18","v":0},0,0,0,0,0,0,0,0,0,0,0,0,0,0,0,0,0,0,0,0,0,0,0,0,0,0,0,0,0,0,0,0,0,0,0,0,0,0,0,0,0,0,0,0,0,0,0,0,0,0,0,0,0,0,0,0,0,0,0,0,0,0,0,{"$f":"VEA6+VEA8+VEA10+VEA12+VEA14+VEA16+VEA18","v":0},0,0,0,0,0,0,0,0,0,0,0,0,0,0,0,0,0,0,0,0,0,0,0,0,0,0,0,0,0,0,0,0,0,0,0,0,0,0,0,0,0,0,0,0,0,0,0,0,0,0,0,0,0,0,0,0,0,0,0,0,0,0,0,{"$f":"VGM6+VGM8+VGM10+VGM12+VGM14+VGM16+VGM18","v":0},0,0,0,0,0,0,0,0,0,0,0,0,0,0,0,0,0,0,0,0,0,0,0,0,0,0,0,0,0,0,0,0,0,0,0,0,0,0,0,0,0,0,0,0,0,0,0,0,0,0,0,0,0,0,0,0,0,0,0,0,0,0,0,{"$f":"VIY6+VIY8+VIY10+VIY12+VIY14+VIY16+VIY18","v":0},0,0,0,0,0,0,0,0,0,0,0,0,0,0,0,0,0,0,0,0,0,0,0,0,0,0,0,0,0,0,0,0,0,0,0,0,0,0,0,0,0,0,0,0,0,0,0,0,0,0,0,0,0,0,0,0,0,0,0,0,0,0,0,{"$f":"VLK6+VLK8+VLK10+VLK12+VLK14+VLK16+VLK18","v":0},0,0,0,0,0,0,0,0,0,0,0,0,0,0,0,0,0,0,0,0,0,0,0,0,0,0,0,0,0,0,0,0,0,0,0,0,0,0,0,0,0,0,0,0,0,0,0,0,0,0,0,0,0,0,0,0,0,0,0,0,0,0,0,{"$f":"VNW6+VNW8+VNW10+VNW12+VNW14+VNW16+VNW18","v":0},0,0,0,0,0,0,0,0,0,0,0,0,0,0,0,0,0,0,0,0,0,0,0,0,0,0,0,0,0,0,0,0,0,0,0,0,0,0,0,0,0,0,0,0,0,0,0,0,0,0,0,0,0,0,0,0,0,0,0,0,0,0,0,{"$f":"VQI6+VQI8+VQI10+VQI12+VQI14+VQI16+VQI18","v":0},0,0,0,0,0,0,0,0,0,0,0,0,0,0,0,0,0,0,0,0,0,0,0,0,0,0,0,0,0,0,0,0,0,0,0,0,0,0,0,0,0,0,0,0,0,0,0,0,0,0,0,0,0,0,0,0,0,0,0,0,0,0,0,{"$f":"VSU6+VSU8+VSU10+VSU12+VSU14+VSU16+VSU18","v":0},0,0,0,0,0,0,0,0,0,0,0,0,0,0,0,0,0,0,0,0,0,0,0,0,0,0,0,0,0,0,0,0,0,0,0,0,0,0,0,0,0,0,0,0,0,0,0,0,0,0,0,0,0,0,0,0,0,0,0,0,0,0,0,{"$f":"VVG6+VVG8+VVG10+VVG12+VVG14+VVG16+VVG18","v":0},0,0,0,0,0,0,0,0,0,0,0,0,0,0,0,0,0,0,0,0,0,0,0,0,0,0,0,0,0,0,0,0,0,0,0,0,0,0,0,0,0,0,0,0,0,0,0,0,0,0,0,0,0,0,0,0,0,0,0,0,0,0,0,{"$f":"VXS6+VXS8+VXS10+VXS12+VXS14+VXS16+VXS18","v":0},0,0,0,0,0,0,0,0,0,0,0,0,0,0,0,0,0,0,0,0,0,0,0,0,0,0,0,0,0,0,0,0,0,0,0,0,0,0,0,0,0,0,0,0,0,0,0,0,0,0,0,0,0,0,0,0,0,0,0,0,0,0,0,{"$f":"WAE6+WAE8+WAE10+WAE12+WAE14+WAE16+WAE18","v":0},0,0,0,0,0,0,0,0,0,0,0,0,0,0,0,0,0,0,0,0,0,0,0,0,0,0,0,0,0,0,0,0,0,0,0,0,0,0,0,0,0,0,0,0,0,0,0,0,0,0,0,0,0,0,0,0,0,0,0,0,0,0,0,{"$f":"WCQ6+WCQ8+WCQ10+WCQ12+WCQ14+WCQ16+WCQ18","v":0},0,0,0,0,0,0,0,0,0,0,0,0,0,0,0,0,0,0,0,0,0,0,0,0,0,0,0,0,0,0,0,0,0,0,0,0,0,0,0,0,0,0,0,0,0,0,0,0,0,0,0,0,0,0,0,0,0,0,0,0,0,0,0,{"$f":"WFC6+WFC8+WFC10+WFC12+WFC14+WFC16+WFC18","v":0},0,0,0,0,0,0,0,0,0,0,0,0,0,0,0,0,0,0,0,0,0,0,0,0,0,0,0,0,0,0,0,0,0,0,0,0,0,0,0,0,0,0,0,0,0,0,0,0,0,0,0,0,0,0,0,0,0,0,0,0,0,0,0,{"$f":"WHO6+WHO8+WHO10+WHO12+WHO14+WHO16+WHO18","v":0},0,0,0,0,0,0,0,0,0,0,0,0,0,0,0,0,0,0,0,0,0,0,0,0,0,0,0,0,0,0,0,0,0,0,0,0,0,0,0,0,0,0,0,0,0,0,0,0,0,0,0,0,0,0,0,0,0,0,0,0,0,0,0,{"$f":"WKA6+WKA8+WKA10+WKA12+WKA14+WKA16+WKA18","v":0},0,0,0,0,0,0,0,0,0,0,0,0,0,0,0,0,0,0,0,0,0,0,0,0,0,0,0,0,0,0,0,0,0,0,0,0,0,0,0,0,0,0,0,0,0,0,0,0,0,0,0,0,0,0,0,0,0,0,0,0,0,0,0,{"$f":"WMM6+WMM8+WMM10+WMM12+WMM14+WMM16+WMM18","v":0},0,0,0,0,0,0,0,0,0,0,0,0,0,0,0,0,0,0,0,0,0,0,0,0,0,0,0,0,0,0,0,0,0,0,0,0,0,0,0,0,0,0,0,0,0,0,0,0,0,0,0,0,0,0,0,0,0,0,0,0,0,0,0,{"$f":"WOY6+WOY8+WOY10+WOY12+WOY14+WOY16+WOY18","v":0},0,0,0,0,0,0,0,0,0,0,0,0,0,0,0,0,0,0,0,0,0,0,0,0,0,0,0,0,0,0,0,0,0,0,0,0,0,0,0,0,0,0,0,0,0,0,0,0,0,0,0,0,0,0,0,0,0,0,0,0,0,0,0,{"$f":"WRK6+WRK8+WRK10+WRK12+WRK14+WRK16+WRK18","v":0},0,0,0,0,0,0,0,0,0,0,0,0,0,0,0,0,0,0,0,0,0,0,0,0,0,0,0,0,0,0,0,0,0,0,0,0,0,0,0,0,0,0,0,0,0,0,0,0,0,0,0,0,0,0,0,0,0,0,0,0,0,0,0,{"$f":"WTW6+WTW8+WTW10+WTW12+WTW14+WTW16+WTW18","v":0},0,0,0,0,0,0,0,0,0,0,0,0,0,0,0,0,0,0,0,0,0,0,0,0,0,0,0,0,0,0,0,0,0,0,0,0,0,0,0,0,0,0,0,0,0,0,0,0,0,0,0,0,0,0,0,0,0,0,0,0,0,0,0,{"$f":"WWI6+WWI8+WWI10+WWI12+WWI14+WWI16+WWI18","v":0},0,0,0,0,0,0,0,0,0,0,0,0,0,0,0,0,0,0,0,0,0,0,0,0,0,0,0,0,0,0,0,0,0,0,0,0,0,0,0,0,0,0,0,0,0,0,0,0,0,0,0,0,0,0,0,0,0,0,0,0,0,0,0,{"$f":"WYU6+WYU8+WYU10+WYU12+WYU14+WYU16+WYU18","v":0},0,0,0,0,0,0,0,0,0,0,0,0,0,0,0,0,0,0,0,0,0,0,0,0,0,0,0,0,0,0,0,0,0,0,0,0,0,0,0,0,0,0,0,0,0,0,0,0,0,0,0,0,0,0,0,0,0,0,0,0,0,0,0,{"$f":"XBG6+XBG8+XBG10+XBG12+XBG14+XBG16+XBG18","v":0},0,0,0,0,0,0,0,0,0,0,0,0,0,0,0,0,0,0,0,0,0,0,0,0,0,0,0,0,0,0,0,0,0,0,0,0,0,0,0,0,0,0,0,0,0,0,0,0,0,0,0,0,0,0,0,0,0,0,0,0,0,0,0,{"$f":"XDS6+XDS8+XDS10+XDS12+XDS14+XDS16+XDS18","v":0},0,0,0,0,0,0,0,0,0,0,0,0,0,0,0,0,0,0,0,0,0,0,0,0,0,0,0,0,0,0,0,0,0,0,0,0,0]
["(2) Sum of the parts do not equal the whole prior to 2000",null,null,null,null,null,null,null,null,null,null,null,null,null,null,null,null,null,null,null,null,null,null,null,null,null,null,null,null,null,null,null,null,null,null,{"$f":"AJ20-AJ23","v":0},0,0,0,0,0,0,0,0,0,0,0,0,0,0,0,0,0,0,0,0,0,0,0,0,0,0,0,0,0,0,0,0,0,0,0,0,0,0,0,0,0,0,0,0,0,0,0,0,0,0,0,0,0,0,{"$f":"CM20-CM23","v":0},0,0,0,0,0,0,0,0,0,0,0,0,0,0,0,0,0,0,0,0,0,0,0,0,0,0,0,0,0,0,0,0,0,0,0,0,0,0,0,0,0,0,0,0,0,0,0,0,0,0,0,0,0,0,0,0,0,0,0,0,0,0,0,{"$f":"EY20-EY23","v":0},0,0,0,0,0,0,0,0,0,0,0,0,0,0,0,0,0,0,0,0,0,0,0,0,0,0,0,0,0,0,0,0,0,0,0,0,0,0,0,0,0,0,0,0,0,0,0,0,0,0,0,0,0,0,0,0,0,0,0,0,0,0,0,{"$f":"HK20-HK23","v":0},0,0,0,0,0,0,0,0,0,0,0,0,0,0,0,0,0,0,0,0,0,0,0,0,0,0,0,0,0,0,0,0,0,0,0,0,0,0,0,0,0,0,0,0,0,0,0,0,0,0,0,0,0,0,0,0,0,0,0,0,0,0,0,{"$f":"JW20-JW23","v":0},0,0,0,0,0,0,0,0,0,0,0,0,0,0,0,0,0,0,0,0,0,0,0,0,0,0,0,0,0,0,0,0,0,0,0,0,0,0,0,0,0,0,0,0,0,0,0,0,0,0,0,0,0,0,0,0,0,0,0,0,0,0,0,{"$f":"MI20-MI23","v":0},0,0,0,0,0,0,0,0,0,0,0,0,0,0,0,0,0,0,0,0,0,0,0,0,0,0,0,0,0,0,0,0,0,0,0,0,0,0,0,0,0,0,0,0,0,0,0,0,0,0,0,0,0,0,0,0,0,0,0,0,0,0,0,{"$f":"OU20-OU23","v":0},0,0,0,0,0,0,0,0,0,0,0,0,0,0,0,0,0,0,0,0,0,0,0,0,0,0,0,0,0,0,0,0,0,0,0,0,0,0,0,0,0,0,0,0,0,0,0,0,0,0,0,0,0,0,0,0,0,0,0,0,0,0,0,{"$f":"RG20-RG23","v":0},0,0,0,0,0,0,0,0,0,0,0,0,0,0,0,0,0,0,0,0,0,0,0,0,0,0,0,0,0,0,0,0,0,0,0,0,0,0,0,0,0,0,0,0,0,0,0,0,0,0,0,0,0,0,0,0,0,0,0,0,0,0,0,{"$f":"TS20-TS23","v":0},0,0,0,0,0,0,0,0,0,0,0,0,0,0,0,0,0,0,0,0,0,0,0,0,0,0,0,0,0,0,0,0,0,0,0,0,0,0,0,0,0,0,0,0,0,0,0,0,0,0,0,0,0,0,0,0,0,0,0,0,0,0,0,{"$f":"WE20-WE23","v":0},0,0,0,0,0,0,0,0,0,0,0,0,0,0,0,0,0,0,0,0,0,0,0,0,0,0,0,0,0,0,0,0,0,0,0,0,0,0,0,0,0,0,0,0,0,0,0,0,0,0,0,0,0,0,0,0,0,0,0,0,0,0,0,{"$f":"YQ20-YQ23","v":0},0,0,0,0,0,0,0,0,0,0,0,0,0,0,0,0,0,0,0,0,0,0,0,0,0,0,0,0,0,0,0,0,0,0,0,0,0,0,0,0,0,0,0,0,0,0,0,0,0,0,0,0,0,0,0,0,0,0,0,0,0,0,0,{"$f":"ABC20-ABC23","v":0},0,0,0,0,0,0,0,0,0,0,0,0,0,0,0,0,0,0,0,0,0,0,0,0,0,0,0,0,0,0,0,0,0,0,0,0,0,0,0,0,0,0,0,0,0,0,0,0,0,0,0,0,0,0,0,0,0,0,0,0,0,0,0,{"$f":"ADO20-ADO23","v":0},0,0,0,0,0,0,0,0,0,0,0,0,0,0,0,0,0,0,0,0,0,0,0,0,0,0,0,0,0,0,0,0,0,0,0,0,0,0,0,0,0,0,0,0,0,0,0,0,0,0,0,0,0,0,0,0,0,0,0,0,0,0,0,{"$f":"AGA20-AGA23","v":0},0,0,0,0,0,0,0,0,0,0,0,0,0,0,0,0,0,0,0,0,0,0,0,0,0,0,0,0,0,0,0,0,0,0,0,0,0,0,0,0,0,0,0,0,0,0,0,0,0,0,0,0,0,0,0,0,0,0,0,0,0,0,0,{"$f":"AIM20-AIM23","v":0},0,0,0,0,0,0,0,0,0,0,0,0,0,0,0,0,0,0,0,0,0,0,0,0,0,0,0,0,0,0,0,0,0,0,0,0,0,0,0,0,0,0,0,0,0,0,0,0,0,0,0,0,0,0,0,0,0,0,0,0,0,0,0,{"$f":"AKY20-AKY23","v":0},0,0,0,0,0,0,0,0,0,0,0,0,0,0,0,0,0,0,0,0,0,0,0,0,0,0,0,0,0,0,0,0,0,0,0,0,0,0,0,0,0,0,0,0,0,0,0,0,0,0,0,0,0,0,0,0,0,0,0,0,0,0,0,{"$f":"ANK20-ANK23","v":0},0,0,0,0,0,0,0,0,0,0,0,0,0,0,0,0,0,0,0,0,0,0,0,0,0,0,0,0,0,0,0,0,0,0,0,0,0,0,0,0,0,0,0,0,0,0,0,0,0,0,0,0,0,0,0,0,0,0,0,0,0,0,0,{"$f":"APW20-APW23","v":0},0,0,0,0,0,0,0,0,0,0,0,0,0,0,0,0,0,0,0,0,0,0,0,0,0,0,0,0,0,0,0,0,0,0,0,0,0,0,0,0,0,0,0,0,0,0,0,0,0,0,0,0,0,0,0,0,0,0,0,0,0,0,0,{"$f":"ASI20-ASI23","v":0},0,0,0,0,0,0,0,0,0,0,0,0,0,0,0,0,0,0,0,0,0,0,0,0,0,0,0,0,0,0,0,0,0,0,0,0,0,0,0,0,0,0,0,0,0,0,0,0,0,0,0,0,0,0,0,0,0,0,0,0,0,0,0,{"$f":"AUU20-AUU23","v":0},0,0,0,0,0,0,0,0,0,0,0,0,0,0,0,0,0,0,0,0,0,0,0,0,0,0,0,0,0,0,0,0,0,0,0,0,0,0,0,0,0,0,0,0,0,0,0,0,0,0,0,0,0,0,0,0,0,0,0,0,0,0,0,{"$f":"AXG20-AXG23","v":0},0,0,0,0,0,0,0,0,0,0,0,0,0,0,0,0,0,0,0,0,0,0,0,0,0,0,0,0,0,0,0,0,0,0,0,0,0,0,0,0,0,0,0,0,0,0,0,0,0,0,0,0,0,0,0,0,0,0,0,0,0,0,0,{"$f":"AZS20-AZS23","v":0},0,0,0,0,0,0,0,0,0,0,0,0,0,0,0,0,0,0,0,0,0,0,0,0,0,0,0,0,0,0,0,0,0,0,0,0,0,0,0,0,0,0,0,0,0,0,0,0,0,0,0,0,0,0,0,0,0,0,0,0,0,0,0,{"$f":"BCE20-BCE23","v":0},0,0,0,0,0,0,0,0,0,0,0,0,0,0,0,0,0,0,0,0,0,0,0,0,0,0,0,0,0,0,0,0,0,0,0,0,0,0,0,0,0,0,0,0,0,0,0,0,0,0,0,0,0,0,0,0,0,0,0,0,0,0,0,{"$f":"BEQ20-BEQ23","v":0},0,0,0,0,0,0,0,0,0,0,0,0,0,0,0,0,0,0,0,0,0,0,0,0,0,0,0,0,0,0,0,0,0,0,0,0,0,0,0,0,0,0,0,0,0,0,0,0,0,0,0,0,0,0,0,0,0,0,0,0,0,0,0,{"$f":"BHC20-BHC23","v":0},0,0,0,0,0,0,0,0,0,0,0,0,0,0,0,0,0,0,0,0,0,0,0,0,0,0,0,0,0,0,0,0,0,0,0,0,0,0,0,0,0,0,0,0,0,0,0,0,0,0,0,0,0,0,0,0,0,0,0,0,0,0,0,{"$f":"BJO20-BJO23","v":0},0,0,0,0,0,0,0,0,0,0,0,0,0,0,0,0,0,0,0,0,0,0,0,0,0,0,0,0,0,0,0,0,0,0,0,0,0,0,0,0,0,0,0,0,0,0,0,0,0,0,0,0,0,0,0,0,0,0,0,0,0,0,0,{"$f":"BMA20-BMA23","v":0},0,0,0,0,0,0,0,0,0,0,0,0,0,0,0,0,0,0,0,0,0,0,0,0,0,0,0,0,0,0,0,0,0,0,0,0,0,0,0,0,0,0,0,0,0,0,0,0,0,0,0,0,0,0,0,0,0,0,0,0,0,0,0,{"$f":"BOM20-BOM23","v":0},0,0,0,0,0,0,0,0,0,0,0,0,0,0,0,0,0,0,0,0,0,0,0,0,0,0,0,0,0,0,0,0,0,0,0,0,0,0,0,0,0,0,0,0,0,0,0,0,0,0,0,0,0,0,0,0,0,0,0,0,0,0,0,{"$f":"BQY20-BQY23","v":0},0,0,0,0,0,0,0,0,0,0,0,0,0,0,0,0,0,0,0,0,0,0,0,0,0,0,0,0,0,0,0,0,0,0,0,0,0,0,0,0,0,0,0,0,0,0,0,0,0,0,0,0,0,0,0,0,0,0,0,0,0,0,0,{"$f":"BTK20-BTK23","v":0},0,0,0,0,0,0,0,0,0,0,0,0,0,0,0,0,0,0,0,0,0,0,0,0,0,0,0,0,0,0,0,0,0,0,0,0,0,0,0,0,0,0,0,0,0,0,0,0,0,0,0,0,0,0,0,0,0,0,0,0,0,0,0,{"$f":"BVW20-BVW23","v":0},0,0,0,0,0,0,0,0,0,0,0,0,0,0,0,0,0,0,0,0,0,0,0,0,0,0,0,0,0,0,0,0,0,0,0,0,0,0,0,0,0,0,0,0,0,0,0,0,0,0,0,0,0,0,0,0,0,0,0,0,0,0,0,{"$f":"BYI20-BYI23","v":0},0,0,0,0,0,0,0,0,0,0,0,0,0,0,0,0,0,0,0,0,0,0,0,0,0,0,0,0,0,0,0,0,0,0,0,0,0,0,0,0,0,0,0,0,0,0,0,0,0,0,0,0,0,0,0,0,0,0,0,0,0,0,0,{"$f":"CAU20-CAU23","v":0},0,0,0,0,0,0,0,0,0,0,0,0,0,0,0,0,0,0,0,0,0,0,0,0,0,0,0,0,0,0,0,0,0,0,0,0,0,0,0,0,0,0,0,0,0,0,0,0,0,0,0,0,0,0,0,0,0,0,0,0,0,0,0,{"$f":"CDG20-CDG23","v":0},0,0,0,0,0,0,0,0,0,0,0,0,0,0,0,0,0,0,0,0,0,0,0,0,0,0,0,0,0,0,0,0,0,0,0,0,0,0,0,0,0,0,0,0,0,0,0,0,0,0,0,0,0,0,0,0,0,0,0,0,0,0,0,{"$f":"CFS20-CFS23","v":0},0,0,0,0,0,0,0,0,0,0,0,0,0,0,0,0,0,0,0,0,0,0,0,0,0,0,0,0,0,0,0,0,0,0,0,0,0,0,0,0,0,0,0,0,0,0,0,0,0,0,0,0,0,0,0,0,0,0,0,0,0,0,0,{"$f":"CIE20-CIE23","v":0},0,0,0,0,0,0,0,0,0,0,0,0,0,0,0,0,0,0,0,0,0,0,0,0,0,0,0,0,0,0,0,0,0,0,0,0,0,0,0,0,0,0,0,0,0,0,0,0,0,0,0,0,0,0,0,0,0,0,0,0,0,0,0,{"$f":"CKQ20-CKQ23","v":0},0,0,0,0,0,0,0,0,0,0,0,0,0,0,0,0,0,0,0,0,0,0,0,0,0,0,0,0,0,0,0,0,0,0,0,0,0,0,0,0,0,0,0,0,0,0,0,0,0,0,0,0,0,0,0,0,0,0,0,0,0,0,0,{"$f":"CNC20-CNC23","v":0},0,0,0,0,0,0,0,0,0,0,0,0,0,0,0,0,0,0,0,0,0,0,0,0,0,0,0,0,0,0,0,0,0,0,0,0,0,0,0,0,0,0,0,0,0,0,0,0,0,0,0,0,0,0,0,0,0,0,0,0,0,0,0,{"$f":"CPO20-CPO23","v":0},0,0,0,0,0,0,0,0,0,0,0,0,0,0,0,0,0,0,0,0,0,0,0,0,0,0,0,0,0,0,0,0,0,0,0,0,0,0,0,0,0,0,0,0,0,0,0,0,0,0,0,0,0,0,0,0,0,0,0,0,0,0,0,{"$f":"CSA20-CSA23","v":0},0,0,0,0,0,0,0,0,0,0,0,0,0,0,0,0,0,0,0,0,0,0,0,0,0,0,0,0,0,0,0,0,0,0,0,0,0,0,0,0,0,0,0,0,0,0,0,0,0,0,0,0,0,0,0,0,0,0,0,0,0,0,0,{"$f":"CUM20-CUM23","v":0},0,0,0,0,0,0,0,0,0,0,0,0,0,0,0,0,0,0,0,0,0,0,0,0,0,0,0,0,0,0,0,0,0,0,0,0,0,0,0,0,0,0,0,0,0,0,0,0,0,0,0,0,0,0,0,0,0,0,0,0,0,0,0,{"$f":"CWY20-CWY23","v":0},0,0,0,0,0,0,0,0,0,0,0,0,0,0,0,0,0,0,0,0,0,0,0,0,0,0,0,0,0,0,0,0,0,0,0,0,0,0,0,0,0,0,0,0,0,0,0,0,0,0,0,0,0,0,0,0,0,0,0,0,0,0,0,{"$f":"CZK20-CZK23","v":0},0,0,0,0,0,0,0,0,0,0,0,0,0,0,0,0,0,0,0,0,0,0,0,0,0,0,0,0,0,0,0,0,0,0,0,0,0,0,0,0,0,0,0,0,0,0,0,0,0,0,0,0,0,0,0,0,0,0,0,0,0,0,0,{"$f":"DBW20-DBW23","v":0},0,0,0,0,0,0,0,0,0,0,0,0,0,0,0,0,0,0,0,0,0,0,0,0,0,0,0,0,0,0,0,0,0,0,0,0,0,0,0,0,0,0,0,0,0,0,0,0,0,0,0,0,0,0,0,0,0,0,0,0,0,0,0,{"$f":"DEI20-DEI23","v":0},0,0,0,0,0,0,0,0,0,0,0,0,0,0,0,0,0,0,0,0,0,0,0,0,0,0,0,0,0,0,0,0,0,0,0,0,0,0,0,0,0,0,0,0,0,0,0,0,0,0,0,0,0,0,0,0,0,0,0,0,0,0,0,{"$f":"DGU20-DGU23","v":0},0,0,0,0,0,0,0,0,0,0,0,0,0,0,0,0,0,0,0,0,0,0,0,0,0,0,0,0,0,0,0,0,0,0,0,0,0,0,0,0,0,0,0,0,0,0,0,0,0,0,0,0,0,0,0,0,0,0,0,0,0,0,0,{"$f":"DJG20-DJG23","v":0},0,0,0,0,0,0,0,0,0,0,0,0,0,0,0,0,0,0,0,0,0,0,0,0,0,0,0,0,0,0,0,0,0,0,0,0,0,0,0,0,0,0,0,0,0,0,0,0,0,0,0,0,0,0,0,0,0,0,0,0,0,0,0,{"$f":"DLS20-DLS23","v":0},0,0,0,0,0,0,0,0,0,0,0,0,0,0,0,0,0,0,0,0,0,0,0,0,0,0,0,0,0,0,0,0,0,0,0,0,0,0,0,0,0,0,0,0,0,0,0,0,0,0,0,0,0,0,0,0,0,0,0,0,0,0,0,{"$f":"DOE20-DOE23","v":0},0,0,0,0,0,0,0,0,0,0,0,0,0,0,0,0,0,0,0,0,0,0,0,0,0,0,0,0,0,0,0,0,0,0,0,0,0,0,0,0,0,0,0,0,0,0,0,0,0,0,0,0,0,0,0,0,0,0,0,0,0,0,0,{"$f":"DQQ20-DQQ23","v":0},0,0,0,0,0,0,0,0,0,0,0,0,0,0,0,0,0,0,0,0,0,0,0,0,0,0,0,0,0,0,0,0,0,0,0,0,0,0,0,0,0,0,0,0,0,0,0,0,0,0,0,0,0,0,0,0,0,0,0,0,0,0,0,{"$f":"DTC20-DTC23","v":0},0,0,0,0,0,0,0,0,0,0,0,0,0,0,0,0,0,0,0,0,0,0,0,0,0,0,0,0,0,0,0,0,0,0,0,0,0,0,0,0,0,0,0,0,0,0,0,0,0,0,0,0,0,0,0,0,0,0,0,0,0,0,0,{"$f":"DVO20-DVO23","v":0},0,0,0,0,0,0,0,0,0,0,0,0,0,0,0,0,0,0,0,0,0,0,0,0,0,0,0,0,0,0,0,0,0,0,0,0,0,0,0,0,0,0,0,0,0,0,0,0,0,0,0,0,0,0,0,0,0,0,0,0,0,0,0,{"$f":"DYA20-DYA23","v":0},0,0,0,0,0,0,0,0,0,0,0,0,0,0,0,0,0,0,0,0,0,0,0,0,0,0,0,0,0,0,0,0,0,0,0,0,0,0,0,0,0,0,0,0,0,0,0,0,0,0,0,0,0,0,0,0,0,0,0,0,0,0,0,{"$f":"EAM20-EAM23","v":0},0,0,0,0,0,0,0,0,0,0,0,0,0,0,0,0,0,0,0,0,0,0,0,0,0,0,0,0,0,0,0,0,0,0,0,0,0,0,0,0,0,0,0,0,0,0,0,0,0,0,0,0,0,0,0,0,0,0,0,0,0,0,0,{"$f":"ECY20-ECY23","v":0},0,0,0,0,0,0,0,0,0,0,0,0,0,0,0,0,0,0,0,0,0,0,0,0,0,0,0,0,0,0,0,0,0,0,0,0,0,0,0,0,0,0,0,0,0,0,0,0,0,0,0,0,0,0,0,0,0,0,0,0,0,0,0,{"$f":"EFK20-EFK23","v":0},0,0,0,0,0,0,0,0,0,0,0,0,0,0,0,0,0,0,0,0,0,0,0,0,0,0,0,0,0,0,0,0,0,0,0,0,0,0,0,0,0,0,0,0,0,0,0,0,0,0,0,0,0,0,0,0,0,0,0,0,0,0,0,{"$f":"EHW20-EHW23","v":0},0,0,0,0,0,0,0,0,0,0,0,0,0,0,0,0,0,0,0,0,0,0,0,0,0,0,0,0,0,0,0,0,0,0,0,0,0,0,0,0,0,0,0,0,0,0,0,0,0,0,0,0,0,0,0,0,0,0,0,0,0,0,0,{"$f":"EKI20-EKI23","v":0},0,0,0,0,0,0,0,0,0,0,0,0,0,0,0,0,0,0,0,0,0,0,0,0,0,0,0,0,0,0,0,0,0,0,0,0,0,0,0,0,0,0,0,0,0,0,0,0,0,0,0,0,0,0,0,0,0,0,0,0,0,0,0,{"$f":"EMU20-EMU23","v":0},0,0,0,0,0,0,0,0,0,0,0,0,0,0,0,0,0,0,0,0,0,0,0,0,0,0,0,0,0,0,0,0,0,0,0,0,0,0,0,0,0,0,0,0,0,0,0,0,0,0,0,0,0,0,0,0,0,0,0,0,0,0,0,{"$f":"EPG20-EPG23","v":0},0,0,0,0,0,0,0,0,0,0,0,0,0,0,0,0,0,0,0,0,0,0,0,0,0,0,0,0,0,0,0,0,0,0,0,0,0,0,0,0,0,0,0,0,0,0,0,0,0,0,0,0,0,0,0,0,0,0,0,0,0,0,0,{"$f":"ERS20-ERS23","v":0},0,0,0,0,0,0,0,0,0,0,0,0,0,0,0,0,0,0,0,0,0,0,0,0,0,0,0,0,0,0,0,0,0,0,0,0,0,0,0,0,0,0,0,0,0,0,0,0,0,0,0,0,0,0,0,0,0,0,0,0,0,0,0,{"$f":"EUE20-EUE23","v":0},0,0,0,0,0,0,0,0,0,0,0,0,0,0,0,0,0,0,0,0,0,0,0,0,0,0,0,0,0,0,0,0,0,0,0,0,0,0,0,0,0,0,0,0,0,0,0,0,0,0,0,0,0,0,0,0,0,0,0,0,0,0,0,{"$f":"EWQ20-EWQ23","v":0},0,0,0,0,0,0,0,0,0,0,0,0,0,0,0,0,0,0,0,0,0,0,0,0,0,0,0,0,0,0,0,0,0,0,0,0,0,0,0,0,0,0,0,0,0,0,0,0,0,0,0,0,0,0,0,0,0,0,0,0,0,0,0,{"$f":"EZC20-EZC23","v":0},0,0,0,0,0,0,0,0,0,0,0,0,0,0,0,0,0,0,0,0,0,0,0,0,0,0,0,0,0,0,0,0,0,0,0,0,0,0,0,0,0,0,0,0,0,0,0,0,0,0,0,0,0,0,0,0,0,0,0,0,0,0,0,{"$f":"FBO20-FBO23","v":0},0,0,0,0,0,0,0,0,0,0,0,0,0,0,0,0,0,0,0,0,0,0,0,0,0,0,0,0,0,0,0,0,0,0,0,0,0,0,0,0,0,0,0,0,0,0,0,0,0,0,0,0,0,0,0,0,0,0,0,0,0,0,0,{"$f":"FEA20-FEA23","v":0},0,0,0,0,0,0,0,0,0,0,0,0,0,0,0,0,0,0,0,0,0,0,0,0,0,0,0,0,0,0,0,0,0,0,0,0,0,0,0,0,0,0,0,0,0,0,0,0,0,0,0,0,0,0,0,0,0,0,0,0,0,0,0,{"$f":"FGM20-FGM23","v":0},0,0,0,0,0,0,0,0,0,0,0,0,0,0,0,0,0,0,0,0,0,0,0,0,0,0,0,0,0,0,0,0,0,0,0,0,0,0,0,0,0,0,0,0,0,0,0,0,0,0,0,0,0,0,0,0,0,0,0,0,0,0,0,{"$f":"FIY20-FIY23","v":0},0,0,0,0,0,0,0,0,0,0,0,0,0,0,0,0,0,0,0,0,0,0,0,0,0,0,0,0,0,0,0,0,0,0,0,0,0,0,0,0,0,0,0,0,0,0,0,0,0,0,0,0,0,0,0,0,0,0,0,0,0,0,0,{"$f":"FLK20-FLK23","v":0},0,0,0,0,0,0,0,0,0,0,0,0,0,0,0,0,0,0,0,0,0,0,0,0,0,0,0,0,0,0,0,0,0,0,0,0,0,0,0,0,0,0,0,0,0,0,0,0,0,0,0,0,0,0,0,0,0,0,0,0,0,0,0,{"$f":"FNW20-FNW23","v":0},0,0,0,0,0,0,0,0,0,0,0,0,0,0,0,0,0,0,0,0,0,0,0,0,0,0,0,0,0,0,0,0,0,0,0,0,0,0,0,0,0,0,0,0,0,0,0,0,0,0,0,0,0,0,0,0,0,0,0,0,0,0,0,{"$f":"FQI20-FQI23","v":0},0,0,0,0,0,0,0,0,0,0,0,0,0,0,0,0,0,0,0,0,0,0,0,0,0,0,0,0,0,0,0,0,0,0,0,0,0,0,0,0,0,0,0,0,0,0,0,0,0,0,0,0,0,0,0,0,0,0,0,0,0,0,0,{"$f":"FSU20-FSU23","v":0},0,0,0,0,0,0,0,0,0,0,0,0,0,0,0,0,0,0,0,0,0,0,0,0,0,0,0,0,0,0,0,0,0,0,0,0,0,0,0,0,0,0,0,0,0,0,0,0,0,0,0,0,0,0,0,0,0,0,0,0,0,0,0,{"$f":"FVG20-FVG23","v":0},0,0,0,0,0,0,0,0,0,0,0,0,0,0,0,0,0,0,0,0,0,0,0,0,0,0,0,0,0,0,0,0,0,0,0,0,0,0,0,0,0,0,0,0,0,0,0,0,0,0,0,0,0,0,0,0,0,0,0,0,0,0,0,{"$f":"FXS20-FXS23","v":0},0,0,0,0,0,0,0,0,0,0,0,0,0,0,0,0,0,0,0,0,0,0,0,0,0,0,0,0,0,0,0,0,0,0,0,0,0,0,0,0,0,0,0,0,0,0,0,0,0,0,0,0,0,0,0,0,0,0,0,0,0,0,0,{"$f":"GAE20-GAE23","v":0},0,0,0,0,0,0,0,0,0,0,0,0,0,0,0,0,0,0,0,0,0,0,0,0,0,0,0,0,0,0,0,0,0,0,0,0,0,0,0,0,0,0,0,0,0,0,0,0,0,0,0,0,0,0,0,0,0,0,0,0,0,0,0,{"$f":"GCQ20-GCQ23","v":0},0,0,0,0,0,0,0,0,0,0,0,0,0,0,0,0,0,0,0,0,0,0,0,0,0,0,0,0,0,0,0,0,0,0,0,0,0,0,0,0,0,0,0,0,0,0,0,0,0,0,0,0,0,0,0,0,0,0,0,0,0,0,0,{"$f":"GFC20-GFC23","v":0},0,0,0,0,0,0,0,0,0,0,0,0,0,0,0,0,0,0,0,0,0,0,0,0,0,0,0,0,0,0,0,0,0,0,0,0,0,0,0,0,0,0,0,0,0,0,0,0,0,0,0,0,0,0,0,0,0,0,0,0,0,0,0,{"$f":"GHO20-GHO23","v":0},0,0,0,0,0,0,0,0,0,0,0,0,0,0,0,0,0,0,0,0,0,0,0,0,0,0,0,0,0,0,0,0,0,0,0,0,0,0,0,0,0,0,0,0,0,0,0,0,0,0,0,0,0,0,0,0,0,0,0,0,0,0,0,{"$f":"GKA20-GKA23","v":0},0,0,0,0,0,0,0,0,0,0,0,0,0,0,0,0,0,0,0,0,0,0,0,0,0,0,0,0,0,0,0,0,0,0,0,0,0,0,0,0,0,0,0,0,0,0,0,0,0,0,0,0,0,0,0,0,0,0,0,0,0,0,0,{"$f":"GMM20-GMM23","v":0},0,0,0,0,0,0,0,0,0,0,0,0,0,0,0,0,0,0,0,0,0,0,0,0,0,0,0,0,0,0,0,0,0,0,0,0,0,0,0,0,0,0,0,0,0,0,0,0,0,0,0,0,0,0,0,0,0,0,0,0,0,0,0,{"$f":"GOY20-GOY23","v":0},0,0,0,0,0,0,0,0,0,0,0,0,0,0,0,0,0,0,0,0,0,0,0,0,0,0,0,0,0,0,0,0,0,0,0,0,0,0,0,0,0,0,0,0,0,0,0,0,0,0,0,0,0,0,0,0,0,0,0,0,0,0,0,{"$f":"GRK20-GRK23","v":0},0,0,0,0,0,0,0,0,0,0,0,0,0,0,0,0,0,0,0,0,0,0,0,0,0,0,0,0,0,0,0,0,0,0,0,0,0,0,0,0,0,0,0,0,0,0,0,0,0,0,0,0,0,0,0,0,0,0,0,0,0,0,0,{"$f":"GTW20-GTW23","v":0},0,0,0,0,0,0,0,0,0,0,0,0,0,0,0,0,0,0,0,0,0,0,0,0,0,0,0,0,0,0,0,0,0,0,0,0,0,0,0,0,0,0,0,0,0,0,0,0,0,0,0,0,0,0,0,0,0,0,0,0,0,0,0,{"$f":"GWI20-GWI23","v":0},0,0,0,0,0,0,0,0,0,0,0,0,0,0,0,0,0,0,0,0,0,0,0,0,0,0,0,0,0,0,0,0,0,0,0,0,0,0,0,0,0,0,0,0,0,0,0,0,0,0,0,0,0,0,0,0,0,0,0,0,0,0,0,{"$f":"GYU20-GYU23","v":0},0,0,0,0,0,0,0,0,0,0,0,0,0,0,0,0,0,0,0,0,0,0,0,0,0,0,0,0,0,0,0,0,0,0,0,0,0,0,0,0,0,0,0,0,0,0,0,0,0,0,0,0,0,0,0,0,0,0,0,0,0,0,0,{"$f":"HBG20-HBG23","v":0},0,0,0,0,0,0,0,0,0,0,0,0,0,0,0,0,0,0,0,0,0,0,0,0,0,0,0,0,0,0,0,0,0,0,0,0,0,0,0,0,0,0,0,0,0,0,0,0,0,0,0,0,0,0,0,0,0,0,0,0,0,0,0,{"$f":"HDS20-HDS23","v":0},0,0,0,0,0,0,0,0,0,0,0,0,0,0,0,0,0,0,0,0,0,0,0,0,0,0,0,0,0,0,0,0,0,0,0,0,0,0,0,0,0,0,0,0,0,0,0,0,0,0,0,0,0,0,0,0,0,0,0,0,0,0,0,{"$f":"HGE20-HGE23","v":0},0,0,0,0,0,0,0,0,0,0,0,0,0,0,0,0,0,0,0,0,0,0,0,0,0,0,0,0,0,0,0,0,0,0,0,0,0,0,0,0,0,0,0,0,0,0,0,0,0,0,0,0,0,0,0,0,0,0,0,0,0,0,0,{"$f":"HIQ20-HIQ23","v":0},0,0,0,0,0,0,0,0,0,0,0,0,0,0,0,0,0,0,0,0,0,0,0,0,0,0,0,0,0,0,0,0,0,0,0,0,0,0,0,0,0,0,0,0,0,0,0,0,0,0,0,0,0,0,0,0,0,0,0,0,0,0,0,{"$f":"HLC20-HLC23","v":0},0,0,0,0,0,0,0,0,0,0,0,0,0,0,0,0,0,0,0,0,0,0,0,0,0,0,0,0,0,0,0,0,0,0,0,0,0,0,0,0,0,0,0,0,0,0,0,0,0,0,0,0,0,0,0,0,0,0,0,0,0,0,0,{"$f":"HNO20-HNO23","v":0},0,0,0,0,0,0,0,0,0,0,0,0,0,0,0,0,0,0,0,0,0,0,0,0,0,0,0,0,0,0,0,0,0,0,0,0,0,0,0,0,0,0,0,0,0,0,0,0,0,0,0,0,0,0,0,0,0,0,0,0,0,0,0,{"$f":"HQA20-HQA23","v":0},0,0,0,0,0,0,0,0,0,0,0,0,0,0,0,0,0,0,0,0,0,0,0,0,0,0,0,0,0,0,0,0,0,0,0,0,0,0,0,0,0,0,0,0,0,0,0,0,0,0,0,0,0,0,0,0,0,0,0,0,0,0,0,{"$f":"HSM20-HSM23","v":0},0,0,0,0,0,0,0,0,0,0,0,0,0,0,0,0,0,0,0,0,0,0,0,0,0,0,0,0,0,0,0,0,0,0,0,0,0,0,0,0,0,0,0,0,0,0,0,0,0,0,0,0,0,0,0,0,0,0,0,0,0,0,0,{"$f":"HUY20-HUY23","v":0},0,0,0,0,0,0,0,0,0,0,0,0,0,0,0,0,0,0,0,0,0,0,0,0,0,0,0,0,0,0,0,0,0,0,0,0,0,0,0,0,0,0,0,0,0,0,0,0,0,0,0,0,0,0,0,0,0,0,0,0,0,0,0,{"$f":"HXK20-HXK23","v":0},0,0,0,0,0,0,0,0,0,0,0,0,0,0,0,0,0,0,0,0,0,0,0,0,0,0,0,0,0,0,0,0,0,0,0,0,0,0,0,0,0,0,0,0,0,0,0,0,0,0,0,0,0,0,0,0,0,0,0,0,0,0,0,{"$f":"HZW20-HZW23","v":0},0,0,0,0,0,0,0,0,0,0,0,0,0,0,0,0,0,0,0,0,0,0,0,0,0,0,0,0,0,0,0,0,0,0,0,0,0,0,0,0,0,0,0,0,0,0,0,0,0,0,0,0,0,0,0,0,0,0,0,0,0,0,0,{"$f":"ICI20-ICI23","v":0},0,0,0,0,0,0,0,0,0,0,0,0,0,0,0,0,0,0,0,0,0,0,0,0,0,0,0,0,0,0,0,0,0,0,0,0,0,0,0,0,0,0,0,0,0,0,0,0,0,0,0,0,0,0,0,0,0,0,0,0,0,0,0,{"$f":"IEU20-IEU23","v":0},0,0,0,0,0,0,0,0,0,0,0,0,0,0,0,0,0,0,0,0,0,0,0,0,0,0,0,0,0,0,0,0,0,0,0,0,0,0,0,0,0,0,0,0,0,0,0,0,0,0,0,0,0,0,0,0,0,0,0,0,0,0,0,{"$f":"IHG20-IHG23","v":0},0,0,0,0,0,0,0,0,0,0,0,0,0,0,0,0,0,0,0,0,0,0,0,0,0,0,0,0,0,0,0,0,0,0,0,0,0,0,0,0,0,0,0,0,0,0,0,0,0,0,0,0,0,0,0,0,0,0,0,0,0,0,0,{"$f":"IJS20-IJS23","v":0},0,0,0,0,0,0,0,0,0,0,0,0,0,0,0,0,0,0,0,0,0,0,0,0,0,0,0,0,0,0,0,0,0,0,0,0,0,0,0,0,0,0,0,0,0,0,0,0,0,0,0,0,0,0,0,0,0,0,0,0,0,0,0,{"$f":"IME20-IME23","v":0},0,0,0,0,0,0,0,0,0,0,0,0,0,0,0,0,0,0,0,0,0,0,0,0,0,0,0,0,0,0,0,0,0,0,0,0,0,0,0,0,0,0,0,0,0,0,0,0,0,0,0,0,0,0,0,0,0,0,0,0,0,0,0,{"$f":"IOQ20-IOQ23","v":0},0,0,0,0,0,0,0,0,0,0,0,0,0,0,0,0,0,0,0,0,0,0,0,0,0,0,0,0,0,0,0,0,0,0,0,0,0,0,0,0,0,0,0,0,0,0,0,0,0,0,0,0,0,0,0,0,0,0,0,0,0,0,0,{"$f":"IRC20-IRC23","v":0},0,0,0,0,0,0,0,0,0,0,0,0,0,0,0,0,0,0,0,0,0,0,0,0,0,0,0,0,0,0,0,0,0,0,0,0,0,0,0,0,0,0,0,0,0,0,0,0,0,0,0,0,0,0,0,0,0,0,0,0,0,0,0,{"$f":"ITO20-ITO23","v":0},0,0,0,0,0,0,0,0,0,0,0,0,0,0,0,0,0,0,0,0,0,0,0,0,0,0,0,0,0,0,0,0,0,0,0,0,0,0,0,0,0,0,0,0,0,0,0,0,0,0,0,0,0,0,0,0,0,0,0,0,0,0,0,{"$f":"IWA20-IWA23","v":0},0,0,0,0,0,0,0,0,0,0,0,0,0,0,0,0,0,0,0,0,0,0,0,0,0,0,0,0,0,0,0,0,0,0,0,0,0,0,0,0,0,0,0,0,0,0,0,0,0,0,0,0,0,0,0,0,0,0,0,0,0,0,0,{"$f":"IYM20-IYM23","v":0},0,0,0,0,0,0,0,0,0,0,0,0,0,0,0,0,0,0,0,0,0,0,0,0,0,0,0,0,0,0,0,0,0,0,0,0,0,0,0,0,0,0,0,0,0,0,0,0,0,0,0,0,0,0,0,0,0,0,0,0,0,0,0,{"$f":"JAY20-JAY23","v":0},0,0,0,0,0,0,0,0,0,0,0,0,0,0,0,0,0,0,0,0,0,0,0,0,0,0,0,0,0,0,0,0,0,0,0,0,0,0,0,0,0,0,0,0,0,0,0,0,0,0,0,0,0,0,0,0,0,0,0,0,0,0,0,{"$f":"JDK20-JDK23","v":0},0,0,0,0,0,0,0,0,0,0,0,0,0,0,0,0,0,0,0,0,0,0,0,0,0,0,0,0,0,0,0,0,0,0,0,0,0,0,0,0,0,0,0,0,0,0,0,0,0,0,0,0,0,0,0,0,0,0,0,0,0,0,0,{"$f":"JFW20-JFW23","v":0},0,0,0,0,0,0,0,0,0,0,0,0,0,0,0,0,0,0,0,0,0,0,0,0,0,0,0,0,0,0,0,0,0,0,0,0,0,0,0,0,0,0,0,0,0,0,0,0,0,0,0,0,0,0,0,0,0,0,0,0,0,0,0,{"$f":"JII20-JII23","v":0},0,0,0,0,0,0,0,0,0,0,0,0,0,0,0,0,0,0,0,0,0,0,0,0,0,0,0,0,0,0,0,0,0,0,0,0,0,0,0,0,0,0,0,0,0,0,0,0,0,0,0,0,0,0,0,0,0,0,0,0,0,0,0,{"$f":"JKU20-JKU23","v":0},0,0,0,0,0,0,0,0,0,0,0,0,0,0,0,0,0,0,0,0,0,0,0,0,0,0,0,0,0,0,0,0,0,0,0,0,0,0,0,0,0,0,0,0,0,0,0,0,0,0,0,0,0,0,0,0,0,0,0,0,0,0,0,{"$f":"JNG20-JNG23","v":0},0,0,0,0,0,0,0,0,0,0,0,0,0,0,0,0,0,0,0,0,0,0,0,0,0,0,0,0,0,0,0,0,0,0,0,0,0,0,0,0,0,0,0,0,0,0,0,0,0,0,0,0,0,0,0,0,0,0,0,0,0,0,0,{"$f":"JPS20-JPS23","v":0},0,0,0,0,0,0,0,0,0,0,0,0,0,0,0,0,0,0,0,0,0,0,0,0,0,0,0,0,0,0,0,0,0,0,0,0,0,0,0,0,0,0,0,0,0,0,0,0,0,0,0,0,0,0,0,0,0,0,0,0,0,0,0,{"$f":"JSE20-JSE23","v":0},0,0,0,0,0,0,0,0,0,0,0,0,0,0,0,0,0,0,0,0,0,0,0,0,0,0,0,0,0,0,0,0,0,0,0,0,0,0,0,0,0,0,0,0,0,0,0,0,0,0,0,0,0,0,0,0,0,0,0,0,0,0,0,{"$f":"JUQ20-JUQ23","v":0},0,0,0,0,0,0,0,0,0,0,0,0,0,0,0,0,0,0,0,0,0,0,0,0,0,0,0,0,0,0,0,0,0,0,0,0,0,0,0,0,0,0,0,0,0,0,0,0,0,0,0,0,0,0,0,0,0,0,0,0,0,0,0,{"$f":"JXC20-JXC23","v":0},0,0,0,0,0,0,0,0,0,0,0,0,0,0,0,0,0,0,0,0,0,0,0,0,0,0,0,0,0,0,0,0,0,0,0,0,0,0,0,0,0,0,0,0,0,0,0,0,0,0,0,0,0,0,0,0,0,0,0,0,0,0,0,{"$f":"JZO20-JZO23","v":0},0,0,0,0,0,0,0,0,0,0,0,0,0,0,0,0,0,0,0,0,0,0,0,0,0,0,0,0,0,0,0,0,0,0,0,0,0,0,0,0,0,0,0,0,0,0,0,0,0,0,0,0,0,0,0,0,0,0,0,0,0,0,0,{"$f":"KCA20-KCA23","v":0},0,0,0,0,0,0,0,0,0,0,0,0,0,0,0,0,0,0,0,0,0,0,0,0,0,0,0,0,0,0,0,0,0,0,0,0,0,0,0,0,0,0,0,0,0,0,0,0,0,0,0,0,0,0,0,0,0,0,0,0,0,0,0,{"$f":"KEM20-KEM23","v":0},0,0,0,0,0,0,0,0,0,0,0,0,0,0,0,0,0,0,0,0,0,0,0,0,0,0,0,0,0,0,0,0,0,0,0,0,0,0,0,0,0,0,0,0,0,0,0,0,0,0,0,0,0,0,0,0,0,0,0,0,0,0,0,{"$f":"KGY20-KGY23","v":0},0,0,0,0,0,0,0,0,0,0,0,0,0,0,0,0,0,0,0,0,0,0,0,0,0,0,0,0,0,0,0,0,0,0,0,0,0,0,0,0,0,0,0,0,0,0,0,0,0,0,0,0,0,0,0,0,0,0,0,0,0,0,0,{"$f":"KJK20-KJK23","v":0},0,0,0,0,0,0,0,0,0,0,0,0,0,0,0,0,0,0,0,0,0,0,0,0,0,0,0,0,0,0,0,0,0,0,0,0,0,0,0,0,0,0,0,0,0,0,0,0,0,0,0,0,0,0,0,0,0,0,0,0,0,0,0,{"$f":"KLW20-KLW23","v":0},0,0,0,0,0,0,0,0,0,0,0,0,0,0,0,0,0,0,0,0,0,0,0,0,0,0,0,0,0,0,0,0,0,0,0,0,0,0,0,0,0,0,0,0,0,0,0,0,0,0,0,0,0,0,0,0,0,0,0,0,0,0,0,{"$f":"KOI20-KOI23","v":0},0,0,0,0,0,0,0,0,0,0,0,0,0,0,0,0,0,0,0,0,0,0,0,0,0,0,0,0,0,0,0,0,0,0,0,0,0,0,0,0,0,0,0,0,0,0,0,0,0,0,0,0,0,0,0,0,0,0,0,0,0,0,0,{"$f":"KQU20-KQU23","v":0},0,0,0,0,0,0,0,0,0,0,0,0,0,0,0,0,0,0,0,0,0,0,0,0,0,0,0,0,0,0,0,0,0,0,0,0,0,0,0,0,0,0,0,0,0,0,0,0,0,0,0,0,0,0,0,0,0,0,0,0,0,0,0,{"$f":"KTG20-KTG23","v":0},0,0,0,0,0,0,0,0,0,0,0,0,0,0,0,0,0,0,0,0,0,0,0,0,0,0,0,0,0,0,0,0,0,0,0,0,0,0,0,0,0,0,0,0,0,0,0,0,0,0,0,0,0,0,0,0,0,0,0,0,0,0,0,{"$f":"KVS20-KVS23","v":0},0,0,0,0,0,0,0,0,0,0,0,0,0,0,0,0,0,0,0,0,0,0,0,0,0,0,0,0,0,0,0,0,0,0,0,0,0,0,0,0,0,0,0,0,0,0,0,0,0,0,0,0,0,0,0,0,0,0,0,0,0,0,0,{"$f":"KYE20-KYE23","v":0},0,0,0,0,0,0,0,0,0,0,0,0,0,0,0,0,0,0,0,0,0,0,0,0,0,0,0,0,0,0,0,0,0,0,0,0,0,0,0,0,0,0,0,0,0,0,0,0,0,0,0,0,0,0,0,0,0,0,0,0,0,0,0,{"$f":"LAQ20-LAQ23","v":0},0,0,0,0,0,0,0,0,0,0,0,0,0,0,0,0,0,0,0,0,0,0,0,0,0,0,0,0,0,0,0,0,0,0,0,0,0,0,0,0,0,0,0,0,0,0,0,0,0,0,0,0,0,0,0,0,0,0,0,0,0,0,0,{"$f":"LDC20-LDC23","v":0},0,0,0,0,0,0,0,0,0,0,0,0,0,0,0,0,0,0,0,0,0,0,0,0,0,0,0,0,0,0,0,0,0,0,0,0,0,0,0,0,0,0,0,0,0,0,0,0,0,0,0,0,0,0,0,0,0,0,0,0,0,0,0,{"$f":"LFO20-LFO23","v":0},0,0,0,0,0,0,0,0,0,0,0,0,0,0,0,0,0,0,0,0,0,0,0,0,0,0,0,0,0,0,0,0,0,0,0,0,0,0,0,0,0,0,0,0,0,0,0,0,0,0,0,0,0,0,0,0,0,0,0,0,0,0,0,{"$f":"LIA20-LIA23","v":0},0,0,0,0,0,0,0,0,0,0,0,0,0,0,0,0,0,0,0,0,0,0,0,0,0,0,0,0,0,0,0,0,0,0,0,0,0,0,0,0,0,0,0,0,0,0,0,0,0,0,0,0,0,0,0,0,0,0,0,0,0,0,0,{"$f":"LKM20-LKM23","v":0},0,0,0,0,0,0,0,0,0,0,0,0,0,0,0,0,0,0,0,0,0,0,0,0,0,0,0,0,0,0,0,0,0,0,0,0,0,0,0,0,0,0,0,0,0,0,0,0,0,0,0,0,0,0,0,0,0,0,0,0,0,0,0,{"$f":"LMY20-LMY23","v":0},0,0,0,0,0,0,0,0,0,0,0,0,0,0,0,0,0,0,0,0,0,0,0,0,0,0,0,0,0,0,0,0,0,0,0,0,0,0,0,0,0,0,0,0,0,0,0,0,0,0,0,0,0,0,0,0,0,0,0,0,0,0,0,{"$f":"LPK20-LPK23","v":0},0,0,0,0,0,0,0,0,0,0,0,0,0,0,0,0,0,0,0,0,0,0,0,0,0,0,0,0,0,0,0,0,0,0,0,0,0,0,0,0,0,0,0,0,0,0,0,0,0,0,0,0,0,0,0,0,0,0,0,0,0,0,0,{"$f":"LRW20-LRW23","v":0},0,0,0,0,0,0,0,0,0,0,0,0,0,0,0,0,0,0,0,0,0,0,0,0,0,0,0,0,0,0,0,0,0,0,0,0,0,0,0,0,0,0,0,0,0,0,0,0,0,0,0,0,0,0,0,0,0,0,0,0,0,0,0,{"$f":"LUI20-LUI23","v":0},0,0,0,0,0,0,0,0,0,0,0,0,0,0,0,0,0,0,0,0,0,0,0,0,0,0,0,0,0,0,0,0,0,0,0,0,0,0,0,0,0,0,0,0,0,0,0,0,0,0,0,0,0,0,0,0,0,0,0,0,0,0,0,{"$f":"LWU20-LWU23","v":0},0,0,0,0,0,0,0,0,0,0,0,0,0,0,0,0,0,0,0,0,0,0,0,0,0,0,0,0,0,0,0,0,0,0,0,0,0,0,0,0,0,0,0,0,0,0,0,0,0,0,0,0,0,0,0,0,0,0,0,0,0,0,0,{"$f":"LZG20-LZG23","v":0},0,0,0,0,0,0,0,0,0,0,0,0,0,0,0,0,0,0,0,0,0,0,0,0,0,0,0,0,0,0,0,0,0,0,0,0,0,0,0,0,0,0,0,0,0,0,0,0,0,0,0,0,0,0,0,0,0,0,0,0,0,0,0,{"$f":"MBS20-MBS23","v":0},0,0,0,0,0,0,0,0,0,0,0,0,0,0,0,0,0,0,0,0,0,0,0,0,0,0,0,0,0,0,0,0,0,0,0,0,0,0,0,0,0,0,0,0,0,0,0,0,0,0,0,0,0,0,0,0,0,0,0,0,0,0,0,{"$f":"MEE20-MEE23","v":0},0,0,0,0,0,0,0,0,0,0,0,0,0,0,0,0,0,0,0,0,0,0,0,0,0,0,0,0,0,0,0,0,0,0,0,0,0,0,0,0,0,0,0,0,0,0,0,0,0,0,0,0,0,0,0,0,0,0,0,0,0,0,0,{"$f":"MGQ20-MGQ23","v":0},0,0,0,0,0,0,0,0,0,0,0,0,0,0,0,0,0,0,0,0,0,0,0,0,0,0,0,0,0,0,0,0,0,0,0,0,0,0,0,0,0,0,0,0,0,0,0,0,0,0,0,0,0,0,0,0,0,0,0,0,0,0,0,{"$f":"MJC20-MJC23","v":0},0,0,0,0,0,0,0,0,0,0,0,0,0,0,0,0,0,0,0,0,0,0,0,0,0,0,0,0,0,0,0,0,0,0,0,0,0,0,0,0,0,0,0,0,0,0,0,0,0,0,0,0,0,0,0,0,0,0,0,0,0,0,0,{"$f":"MLO20-MLO23","v":0},0,0,0,0,0,0,0,0,0,0,0,0,0,0,0,0,0,0,0,0,0,0,0,0,0,0,0,0,0,0,0,0,0,0,0,0,0,0,0,0,0,0,0,0,0,0,0,0,0,0,0,0,0,0,0,0,0,0,0,0,0,0,0,{"$f":"MOA20-MOA23","v":0},0,0,0,0,0,0,0,0,0,0,0,0,0,0,0,0,0,0,0,0,0,0,0,0,0,0,0,0,0,0,0,0,0,0,0,0,0,0,0,0,0,0,0,0,0,0,0,0,0,0,0,0,0,0,0,0,0,0,0,0,0,0,0,{"$f":"MQM20-MQM23","v":0},0,0,0,0,0,0,0,0,0,0,0,0,0,0,0,0,0,0,0,0,0,0,0,0,0,0,0,0,0,0,0,0,0,0,0,0,0,0,0,0,0,0,0,0,0,0,0,0,0,0,0,0,0,0,0,0,0,0,0,0,0,0,0,{"$f":"MSY20-MSY23","v":0},0,0,0,0,0,0,0,0,0,0,0,0,0,0,0,0,0,0,0,0,0,0,0,0,0,0,0,0,0,0,0,0,0,0,0,0,0,0,0,0,0,0,0,0,0,0,0,0,0,0,0,0,0,0,0,0,0,0,0,0,0,0,0,{"$f":"MVK20-MVK23","v":0},0,0,0,0,0,0,0,0,0,0,0,0,0,0,0,0,0,0,0,0,0,0,0,0,0,0,0,0,0,0,0,0,0,0,0,0,0,0,0,0,0,0,0,0,0,0,0,0,0,0,0,0,0,0,0,0,0,0,0,0,0,0,0,{"$f":"MXW20-MXW23","v":0},0,0,0,0,0,0,0,0,0,0,0,0,0,0,0,0,0,0,0,0,0,0,0,0,0,0,0,0,0,0,0,0,0,0,0,0,0,0,0,0,0,0,0,0,0,0,0,0,0,0,0,0,0,0,0,0,0,0,0,0,0,0,0,{"$f":"NAI20-NAI23","v":0},0,0,0,0,0,0,0,0,0,0,0,0,0,0,0,0,0,0,0,0,0,0,0,0,0,0,0,0,0,0,0,0,0,0,0,0,0,0,0,0,0,0,0,0,0,0,0,0,0,0,0,0,0,0,0,0,0,0,0,0,0,0,0,{"$f":"NCU20-NCU23","v":0},0,0,0,0,0,0,0,0,0,0,0,0,0,0,0,0,0,0,0,0,0,0,0,0,0,0,0,0,0,0,0,0,0,0,0,0,0,0,0,0,0,0,0,0,0,0,0,0,0,0,0,0,0,0,0,0,0,0,0,0,0,0,0,{"$f":"NFG20-NFG23","v":0},0,0,0,0,0,0,0,0,0,0,0,0,0,0,0,0,0,0,0,0,0,0,0,0,0,0,0,0,0,0,0,0,0,0,0,0,0,0,0,0,0,0,0,0,0,0,0,0,0,0,0,0,0,0,0,0,0,0,0,0,0,0,0,{"$f":"NHS20-NHS23","v":0},0,0,0,0,0,0,0,0,0,0,0,0,0,0,0,0,0,0,0,0,0,0,0,0,0,0,0,0,0,0,0,0,0,0,0,0,0,0,0,0,0,0,0,0,0,0,0,0,0,0,0,0,0,0,0,0,0,0,0,0,0,0,0,{"$f":"NKE20-NKE23","v":0},0,0,0,0,0,0,0,0,0,0,0,0,0,0,0,0,0,0,0,0,0,0,0,0,0,0,0,0,0,0,0,0,0,0,0,0,0,0,0,0,0,0,0,0,0,0,0,0,0,0,0,0,0,0,0,0,0,0,0,0,0,0,0,{"$f":"NMQ20-NMQ23","v":0},0,0,0,0,0,0,0,0,0,0,0,0,0,0,0,0,0,0,0,0,0,0,0,0,0,0,0,0,0,0,0,0,0,0,0,0,0,0,0,0,0,0,0,0,0,0,0,0,0,0,0,0,0,0,0,0,0,0,0,0,0,0,0,{"$f":"NPC20-NPC23","v":0},0,0,0,0,0,0,0,0,0,0,0,0,0,0,0,0,0,0,0,0,0,0,0,0,0,0,0,0,0,0,0,0,0,0,0,0,0,0,0,0,0,0,0,0,0,0,0,0,0,0,0,0,0,0,0,0,0,0,0,0,0,0,0,{"$f":"NRO20-NRO23","v":0},0,0,0,0,0,0,0,0,0,0,0,0,0,0,0,0,0,0,0,0,0,0,0,0,0,0,0,0,0,0,0,0,0,0,0,0,0,0,0,0,0,0,0,0,0,0,0,0,0,0,0,0,0,0,0,0,0,0,0,0,0,0,0,{"$f":"NUA20-NUA23","v":0},0,0,0,0,0,0,0,0,0,0,0,0,0,0,0,0,0,0,0,0,0,0,0,0,0,0,0,0,0,0,0,0,0,0,0,0,0,0,0,0,0,0,0,0,0,0,0,0,0,0,0,0,0,0,0,0,0,0,0,0,0,0,0,{"$f":"NWM20-NWM23","v":0},0,0,0,0,0,0,0,0,0,0,0,0,0,0,0,0,0,0,0,0,0,0,0,0,0,0,0,0,0,0,0,0,0,0,0,0,0,0,0,0,0,0,0,0,0,0,0,0,0,0,0,0,0,0,0,0,0,0,0,0,0,0,0,{"$f":"NYY20-NYY23","v":0},0,0,0,0,0,0,0,0,0,0,0,0,0,0,0,0,0,0,0,0,0,0,0,0,0,0,0,0,0,0,0,0,0,0,0,0,0,0,0,0,0,0,0,0,0,0,0,0,0,0,0,0,0,0,0,0,0,0,0,0,0,0,0,{"$f":"OBK20-OBK23","v":0},0,0,0,0,0,0,0,0,0,0,0,0,0,0,0,0,0,0,0,0,0,0,0,0,0,0,0,0,0,0,0,0,0,0,0,0,0,0,0,0,0,0,0,0,0,0,0,0,0,0,0,0,0,0,0,0,0,0,0,0,0,0,0,{"$f":"ODW20-ODW23","v":0},0,0,0,0,0,0,0,0,0,0,0,0,0,0,0,0,0,0,0,0,0,0,0,0,0,0,0,0,0,0,0,0,0,0,0,0,0,0,0,0,0,0,0,0,0,0,0,0,0,0,0,0,0,0,0,0,0,0,0,0,0,0,0,{"$f":"OGI20-OGI23","v":0},0,0,0,0,0,0,0,0,0,0,0,0,0,0,0,0,0,0,0,0,0,0,0,0,0,0,0,0,0,0,0,0,0,0,0,0,0,0,0,0,0,0,0,0,0,0,0,0,0,0,0,0,0,0,0,0,0,0,0,0,0,0,0,{"$f":"OIU20-OIU23","v":0},0,0,0,0,0,0,0,0,0,0,0,0,0,0,0,0,0,0,0,0,0,0,0,0,0,0,0,0,0,0,0,0,0,0,0,0,0,0,0,0,0,0,0,0,0,0,0,0,0,0,0,0,0,0,0,0,0,0,0,0,0,0,0,{"$f":"OLG20-OLG23","v":0},0,0,0,0,0,0,0,0,0,0,0,0,0,0,0,0,0,0,0,0,0,0,0,0,0,0,0,0,0,0,0,0,0,0,0,0,0,0,0,0,0,0,0,0,0,0,0,0,0,0,0,0,0,0,0,0,0,0,0,0,0,0,0,{"$f":"ONS20-ONS23","v":0},0,0,0,0,0,0,0,0,0,0,0,0,0,0,0,0,0,0,0,0,0,0,0,0,0,0,0,0,0,0,0,0,0,0,0,0,0,0,0,0,0,0,0,0,0,0,0,0,0,0,0,0,0,0,0,0,0,0,0,0,0,0,0,{"$f":"OQE20-OQE23","v":0},0,0,0,0,0,0,0,0,0,0,0,0,0,0,0,0,0,0,0,0,0,0,0,0,0,0,0,0,0,0,0,0,0,0,0,0,0,0,0,0,0,0,0,0,0,0,0,0,0,0,0,0,0,0,0,0,0,0,0,0,0,0,0,{"$f":"OSQ20-OSQ23","v":0},0,0,0,0,0,0,0,0,0,0,0,0,0,0,0,0,0,0,0,0,0,0,0,0,0,0,0,0,0,0,0,0,0,0,0,0,0,0,0,0,0,0,0,0,0,0,0,0,0,0,0,0,0,0,0,0,0,0,0,0,0,0,0,{"$f":"OVC20-OVC23","v":0},0,0,0,0,0,0,0,0,0,0,0,0,0,0,0,0,0,0,0,0,0,0,0,0,0,0,0,0,0,0,0,0,0,0,0,0,0,0,0,0,0,0,0,0,0,0,0,0,0,0,0,0,0,0,0,0,0,0,0,0,0,0,0,{"$f":"OXO20-OXO23","v":0},0,0,0,0,0,0,0,0,0,0,0,0,0,0,0,0,0,0,0,0,0,0,0,0,0,0,0,0,0,0,0,0,0,0,0,0,0,0,0,0,0,0,0,0,0,0,0,0,0,0,0,0,0,0,0,0,0,0,0,0,0,0,0,{"$f":"PAA20-PAA23","v":0},0,0,0,0,0,0,0,0,0,0,0,0,0,0,0,0,0,0,0,0,0,0,0,0,0,0,0,0,0,0,0,0,0,0,0,0,0,0,0,0,0,0,0,0,0,0,0,0,0,0,0,0,0,0,0,0,0,0,0,0,0,0,0,{"$f":"PCM20-PCM23","v":0},0,0,0,0,0,0,0,0,0,0,0,0,0,0,0,0,0,0,0,0,0,0,0,0,0,0,0,0,0,0,0,0,0,0,0,0,0,0,0,0,0,0,0,0,0,0,0,0,0,0,0,0,0,0,0,0,0,0,0,0,0,0,0,{"$f":"PEY20-PEY23","v":0},0,0,0,0,0,0,0,0,0,0,0,0,0,0,0,0,0,0,0,0,0,0,0,0,0,0,0,0,0,0,0,0,0,0,0,0,0,0,0,0,0,0,0,0,0,0,0,0,0,0,0,0,0,0,0,0,0,0,0,0,0,0,0,{"$f":"PHK20-PHK23","v":0},0,0,0,0,0,0,0,0,0,0,0,0,0,0,0,0,0,0,0,0,0,0,0,0,0,0,0,0,0,0,0,0,0,0,0,0,0,0,0,0,0,0,0,0,0,0,0,0,0,0,0,0,0,0,0,0,0,0,0,0,0,0,0,{"$f":"PJW20-PJW23","v":0},0,0,0,0,0,0,0,0,0,0,0,0,0,0,0,0,0,0,0,0,0,0,0,0,0,0,0,0,0,0,0,0,0,0,0,0,0,0,0,0,0,0,0,0,0,0,0,0,0,0,0,0,0,0,0,0,0,0,0,0,0,0,0,{"$f":"PMI20-PMI23","v":0},0,0,0,0,0,0,0,0,0,0,0,0,0,0,0,0,0,0,0,0,0,0,0,0,0,0,0,0,0,0,0,0,0,0,0,0,0,0,0,0,0,0,0,0,0,0,0,0,0,0,0,0,0,0,0,0,0,0,0,0,0,0,0,{"$f":"POU20-POU23","v":0},0,0,0,0,0,0,0,0,0,0,0,0,0,0,0,0,0,0,0,0,0,0,0,0,0,0,0,0,0,0,0,0,0,0,0,0,0,0,0,0,0,0,0,0,0,0,0,0,0,0,0,0,0,0,0,0,0,0,0,0,0,0,0,{"$f":"PRG20-PRG23","v":0},0,0,0,0,0,0,0,0,0,0,0,0,0,0,0,0,0,0,0,0,0,0,0,0,0,0,0,0,0,0,0,0,0,0,0,0,0,0,0,0,0,0,0,0,0,0,0,0,0,0,0,0,0,0,0,0,0,0,0,0,0,0,0,{"$f":"PTS20-PTS23","v":0},0,0,0,0,0,0,0,0,0,0,0,0,0,0,0,0,0,0,0,0,0,0,0,0,0,0,0,0,0,0,0,0,0,0,0,0,0,0,0,0,0,0,0,0,0,0,0,0,0,0,0,0,0,0,0,0,0,0,0,0,0,0,0,{"$f":"PWE20-PWE23","v":0},0,0,0,0,0,0,0,0,0,0,0,0,0,0,0,0,0,0,0,0,0,0,0,0,0,0,0,0,0,0,0,0,0,0,0,0,0,0,0,0,0,0,0,0,0,0,0,0,0,0,0,0,0,0,0,0,0,0,0,0,0,0,0,{"$f":"PYQ20-PYQ23","v":0},0,0,0,0,0,0,0,0,0,0,0,0,0,0,0,0,0,0,0,0,0,0,0,0,0,0,0,0,0,0,0,0,0,0,0,0,0,0,0,0,0,0,0,0,0,0,0,0,0,0,0,0,0,0,0,0,0,0,0,0,0,0,0,{"$f":"QBC20-QBC23","v":0},0,0,0,0,0,0,0,0,0,0,0,0,0,0,0,0,0,0,0,0,0,0,0,0,0,0,0,0,0,0,0,0,0,0,0,0,0,0,0,0,0,0,0,0,0,0,0,0,0,0,0,0,0,0,0,0,0,0,0,0,0,0,0,{"$f":"QDO20-QDO23","v":0},0,0,0,0,0,0,0,0,0,0,0,0,0,0,0,0,0,0,0,0,0,0,0,0,0,0,0,0,0,0,0,0,0,0,0,0,0,0,0,0,0,0,0,0,0,0,0,0,0,0,0,0,0,0,0,0,0,0,0,0,0,0,0,{"$f":"QGA20-QGA23","v":0},0,0,0,0,0,0,0,0,0,0,0,0,0,0,0,0,0,0,0,0,0,0,0,0,0,0,0,0,0,0,0,0,0,0,0,0,0,0,0,0,0,0,0,0,0,0,0,0,0,0,0,0,0,0,0,0,0,0,0,0,0,0,0,{"$f":"QIM20-QIM23","v":0},0,0,0,0,0,0,0,0,0,0,0,0,0,0,0,0,0,0,0,0,0,0,0,0,0,0,0,0,0,0,0,0,0,0,0,0,0,0,0,0,0,0,0,0,0,0,0,0,0,0,0,0,0,0,0,0,0,0,0,0,0,0,0,{"$f":"QKY20-QKY23","v":0},0,0,0,0,0,0,0,0,0,0,0,0,0,0,0,0,0,0,0,0,0,0,0,0,0,0,0,0,0,0,0,0,0,0,0,0,0,0,0,0,0,0,0,0,0,0,0,0,0,0,0,0,0,0,0,0,0,0,0,0,0,0,0,{"$f":"QNK20-QNK23","v":0},0,0,0,0,0,0,0,0,0,0,0,0,0,0,0,0,0,0,0,0,0,0,0,0,0,0,0,0,0,0,0,0,0,0,0,0,0,0,0,0,0,0,0,0,0,0,0,0,0,0,0,0,0,0,0,0,0,0,0,0,0,0,0,{"$f":"QPW20-QPW23","v":0},0,0,0,0,0,0,0,0,0,0,0,0,0,0,0,0,0,0,0,0,0,0,0,0,0,0,0,0,0,0,0,0,0,0,0,0,0,0,0,0,0,0,0,0,0,0,0,0,0,0,0,0,0,0,0,0,0,0,0,0,0,0,0,{"$f":"QSI20-QSI23","v":0},0,0,0,0,0,0,0,0,0,0,0,0,0,0,0,0,0,0,0,0,0,0,0,0,0,0,0,0,0,0,0,0,0,0,0,0,0,0,0,0,0,0,0,0,0,0,0,0,0,0,0,0,0,0,0,0,0,0,0,0,0,0,0,{"$f":"QUU20-QUU23","v":0},0,0,0,0,0,0,0,0,0,0,0,0,0,0,0,0,0,0,0,0,0,0,0,0,0,0,0,0,0,0,0,0,0,0,0,0,0,0,0,0,0,0,0,0,0,0,0,0,0,0,0,0,0,0,0,0,0,0,0,0,0,0,0,{"$f":"QXG20-QXG23","v":0},0,0,0,0,0,0,0,0,0,0,0,0,0,0,0,0,0,0,0,0,0,0,0,0,0,0,0,0,0,0,0,0,0,0,0,0,0,0,0,0,0,0,0,0,0,0,0,0,0,0,0,0,0,0,0,0,0,0,0,0,0,0,0,{"$f":"QZS20-QZS23","v":0},0,0,0,0,0,0,0,0,0,0,0,0,0,0,0,0,0,0,0,0,0,0,0,0,0,0,0,0,0,0,0,0,0,0,0,0,0,0,0,0,0,0,0,0,0,0,0,0,0,0,0,0,0,0,0,0,0,0,0,0,0,0,0,{"$f":"RCE20-RCE23","v":0},0,0,0,0,0,0,0,0,0,0,0,0,0,0,0,0,0,0,0,0,0,0,0,0,0,0,0,0,0,0,0,0,0,0,0,0,0,0,0,0,0,0,0,0,0,0,0,0,0,0,0,0,0,0,0,0,0,0,0,0,0,0,0,{"$f":"REQ20-REQ23","v":0},0,0,0,0,0,0,0,0,0,0,0,0,0,0,0,0,0,0,0,0,0,0,0,0,0,0,0,0,0,0,0,0,0,0,0,0,0,0,0,0,0,0,0,0,0,0,0,0,0,0,0,0,0,0,0,0,0,0,0,0,0,0,0,{"$f":"RHC20-RHC23","v":0},0,0,0,0,0,0,0,0,0,0,0,0,0,0,0,0,0,0,0,0,0,0,0,0,0,0,0,0,0,0,0,0,0,0,0,0,0,0,0,0,0,0,0,0,0,0,0,0,0,0,0,0,0,0,0,0,0,0,0,0,0,0,0,{"$f":"RJO20-RJO23","v":0},0,0,0,0,0,0,0,0,0,0,0,0,0,0,0,0,0,0,0,0,0,0,0,0,0,0,0,0,0,0,0,0,0,0,0,0,0,0,0,0,0,0,0,0,0,0,0,0,0,0,0,0,0,0,0,0,0,0,0,0,0,0,0,{"$f":"RMA20-RMA23","v":0},0,0,0,0,0,0,0,0,0,0,0,0,0,0,0,0,0,0,0,0,0,0,0,0,0,0,0,0,0,0,0,0,0,0,0,0,0,0,0,0,0,0,0,0,0,0,0,0,0,0,0,0,0,0,0,0,0,0,0,0,0,0,0,{"$f":"ROM20-ROM23","v":0},0,0,0,0,0,0,0,0,0,0,0,0,0,0,0,0,0,0,0,0,0,0,0,0,0,0,0,0,0,0,0,0,0,0,0,0,0,0,0,0,0,0,0,0,0,0,0,0,0,0,0,0,0,0,0,0,0,0,0,0,0,0,0,{"$f":"RQY20-RQY23","v":0},0,0,0,0,0,0,0,0,0,0,0,0,0,0,0,0,0,0,0,0,0,0,0,0,0,0,0,0,0,0,0,0,0,0,0,0,0,0,0,0,0,0,0,0,0,0,0,0,0,0,0,0,0,0,0,0,0,0,0,0,0,0,0,{"$f":"RTK20-RTK23","v":0},0,0,0,0,0,0,0,0,0,0,0,0,0,0,0,0,0,0,0,0,0,0,0,0,0,0,0,0,0,0,0,0,0,0,0,0,0,0,0,0,0,0,0,0,0,0,0,0,0,0,0,0,0,0,0,0,0,0,0,0,0,0,0,{"$f":"RVW20-RVW23","v":0},0,0,0,0,0,0,0,0,0,0,0,0,0,0,0,0,0,0,0,0,0,0,0,0,0,0,0,0,0,0,0,0,0,0,0,0,0,0,0,0,0,0,0,0,0,0,0,0,0,0,0,0,0,0,0,0,0,0,0,0,0,0,0,{"$f":"RYI20-RYI23","v":0},0,0,0,0,0,0,0,0,0,0,0,0,0,0,0,0,0,0,0,0,0,0,0,0,0,0,0,0,0,0,0,0,0,0,0,0,0,0,0,0,0,0,0,0,0,0,0,0,0,0,0,0,0,0,0,0,0,0,0,0,0,0,0,{"$f":"SAU20-SAU23","v":0},0,0,0,0,0,0,0,0,0,0,0,0,0,0,0,0,0,0,0,0,0,0,0,0,0,0,0,0,0,0,0,0,0,0,0,0,0,0,0,0,0,0,0,0,0,0,0,0,0,0,0,0,0,0,0,0,0,0,0,0,0,0,0,{"$f":"SDG20-SDG23","v":0},0,0,0,0,0,0,0,0,0,0,0,0,0,0,0,0,0,0,0,0,0,0,0,0,0,0,0,0,0,0,0,0,0,0,0,0,0,0,0,0,0,0,0,0,0,0,0,0,0,0,0,0,0,0,0,0,0,0,0,0,0,0,0,{"$f":"SFS20-SFS23","v":0},0,0,0,0,0,0,0,0,0,0,0,0,0,0,0,0,0,0,0,0,0,0,0,0,0,0,0,0,0,0,0,0,0,0,0,0,0,0,0,0,0,0,0,0,0,0,0,0,0,0,0,0,0,0,0,0,0,0,0,0,0,0,0,{"$f":"SIE20-SIE23","v":0},0,0,0,0,0,0,0,0,0,0,0,0,0,0,0,0,0,0,0,0,0,0,0,0,0,0,0,0,0,0,0,0,0,0,0,0,0,0,0,0,0,0,0,0,0,0,0,0,0,0,0,0,0,0,0,0,0,0,0,0,0,0,0,{"$f":"SKQ20-SKQ23","v":0},0,0,0,0,0,0,0,0,0,0,0,0,0,0,0,0,0,0,0,0,0,0,0,0,0,0,0,0,0,0,0,0,0,0,0,0,0,0,0,0,0,0,0,0,0,0,0,0,0,0,0,0,0,0,0,0,0,0,0,0,0,0,0,{"$f":"SNC20-SNC23","v":0},0,0,0,0,0,0,0,0,0,0,0,0,0,0,0,0,0,0,0,0,0,0,0,0,0,0,0,0,0,0,0,0,0,0,0,0,0,0,0,0,0,0,0,0,0,0,0,0,0,0,0,0,0,0,0,0,0,0,0,0,0,0,0,{"$f":"SPO20-SPO23","v":0},0,0,0,0,0,0,0,0,0,0,0,0,0,0,0,0,0,0,0,0,0,0,0,0,0,0,0,0,0,0,0,0,0,0,0,0,0,0,0,0,0,0,0,0,0,0,0,0,0,0,0,0,0,0,0,0,0,0,0,0,0,0,0,{"$f":"SSA20-SSA23","v":0},0,0,0,0,0,0,0,0,0,0,0,0,0,0,0,0,0,0,0,0,0,0,0,0,0,0,0,0,0,0,0,0,0,0,0,0,0,0,0,0,0,0,0,0,0,0,0,0,0,0,0,0,0,0,0,0,0,0,0,0,0,0,0,{"$f":"SUM20-SUM23","v":0},0,0,0,0,0,0,0,0,0,0,0,0,0,0,0,0,0,0,0,0,0,0,0,0,0,0,0,0,0,0,0,0,0,0,0,0,0,0,0,0,0,0,0,0,0,0,0,0,0,0,0,0,0,0,0,0,0,0,0,0,0,0,0,{"$f":"SWY20-SWY23","v":0},0,0,0,0,0,0,0,0,0,0,0,0,0,0,0,0,0,0,0,0,0,0,0,0,0,0,0,0,0,0,0,0,0,0,0,0,0,0,0,0,0,0,0,0,0,0,0,0,0,0,0,0,0,0,0,0,0,0,0,0,0,0,0,{"$f":"SZK20-SZK23","v":0},0,0,0,0,0,0,0,0,0,0,0,0,0,0,0,0,0,0,0,0,0,0,0,0,0,0,0,0,0,0,0,0,0,0,0,0,0,0,0,0,0,0,0,0,0,0,0,0,0,0,0,0,0,0,0,0,0,0,0,0,0,0,0,{"$f":"TBW20-TBW23","v":0},0,0,0,0,0,0,0,0,0,0,0,0,0,0,0,0,0,0,0,0,0,0,0,0,0,0,0,0,0,0,0,0,0,0,0,0,0,0,0,0,0,0,0,0,0,0,0,0,0,0,0,0,0,0,0,0,0,0,0,0,0,0,0,{"$f":"TEI20-TEI23","v":0},0,0,0,0,0,0,0,0,0,0,0,0,0,0,0,0,0,0,0,0,0,0,0,0,0,0,0,0,0,0,0,0,0,0,0,0,0,0,0,0,0,0,0,0,0,0,0,0,0,0,0,0,0,0,0,0,0,0,0,0,0,0,0,{"$f":"TGU20-TGU23","v":0},0,0,0,0,0,0,0,0,0,0,0,0,0,0,0,0,0,0,0,0,0,0,0,0,0,0,0,0,0,0,0,0,0,0,0,0,0,0,0,0,0,0,0,0,0,0,0,0,0,0,0,0,0,0,0,0,0,0,0,0,0,0,0,{"$f":"TJG20-TJG23","v":0},0,0,0,0,0,0,0,0,0,0,0,0,0,0,0,0,0,0,0,0,0,0,0,0,0,0,0,0,0,0,0,0,0,0,0,0,0,0,0,0,0,0,0,0,0,0,0,0,0,0,0,0,0,0,0,0,0,0,0,0,0,0,0,{"$f":"TLS20-TLS23","v":0},0,0,0,0,0,0,0,0,0,0,0,0,0,0,0,0,0,0,0,0,0,0,0,0,0,0,0,0,0,0,0,0,0,0,0,0,0,0,0,0,0,0,0,0,0,0,0,0,0,0,0,0,0,0,0,0,0,0,0,0,0,0,0,{"$f":"TOE20-TOE23","v":0},0,0,0,0,0,0,0,0,0,0,0,0,0,0,0,0,0,0,0,0,0,0,0,0,0,0,0,0,0,0,0,0,0,0,0,0,0,0,0,0,0,0,0,0,0,0,0,0,0,0,0,0,0,0,0,0,0,0,0,0,0,0,0,{"$f":"TQQ20-TQQ23","v":0},0,0,0,0,0,0,0,0,0,0,0,0,0,0,0,0,0,0,0,0,0,0,0,0,0,0,0,0,0,0,0,0,0,0,0,0,0,0,0,0,0,0,0,0,0,0,0,0,0,0,0,0,0,0,0,0,0,0,0,0,0,0,0,{"$f":"TTC20-TTC23","v":0},0,0,0,0,0,0,0,0,0,0,0,0,0,0,0,0,0,0,0,0,0,0,0,0,0,0,0,0,0,0,0,0,0,0,0,0,0,0,0,0,0,0,0,0,0,0,0,0,0,0,0,0,0,0,0,0,0,0,0,0,0,0,0,{"$f":"TVO20-TVO23","v":0},0,0,0,0,0,0,0,0,0,0,0,0,0,0,0,0,0,0,0,0,0,0,0,0,0,0,0,0,0,0,0,0,0,0,0,0,0,0,0,0,0,0,0,0,0,0,0,0,0,0,0,0,0,0,0,0,0,0,0,0,0,0,0,{"$f":"TYA20-TYA23","v":0},0,0,0,0,0,0,0,0,0,0,0,0,0,0,0,0,0,0,0,0,0,0,0,0,0,0,0,0,0,0,0,0,0,0,0,0,0,0,0,0,0,0,0,0,0,0,0,0,0,0,0,0,0,0,0,0,0,0,0,0,0,0,0,{"$f":"UAM20-UAM23","v":0},0,0,0,0,0,0,0,0,0,0,0,0,0,0,0,0,0,0,0,0,0,0,0,0,0,0,0,0,0,0,0,0,0,0,0,0,0,0,0,0,0,0,0,0,0,0,0,0,0,0,0,0,0,0,0,0,0,0,0,0,0,0,0,{"$f":"UCY20-UCY23","v":0},0,0,0,0,0,0,0,0,0,0,0,0,0,0,0,0,0,0,0,0,0,0,0,0,0,0,0,0,0,0,0,0,0,0,0,0,0,0,0,0,0,0,0,0,0,0,0,0,0,0,0,0,0,0,0,0,0,0,0,0,0,0,0,{"$f":"UFK20-UFK23","v":0},0,0,0,0,0,0,0,0,0,0,0,0,0,0,0,0,0,0,0,0,0,0,0,0,0,0,0,0,0,0,0,0,0,0,0,0,0,0,0,0,0,0,0,0,0,0,0,0,0,0,0,0,0,0,0,0,0,0,0,0,0,0,0,{"$f":"UHW20-UHW23","v":0},0,0,0,0,0,0,0,0,0,0,0,0,0,0,0,0,0,0,0,0,0,0,0,0,0,0,0,0,0,0,0,0,0,0,0,0,0,0,0,0,0,0,0,0,0,0,0,0,0,0,0,0,0,0,0,0,0,0,0,0,0,0,0,{"$f":"UKI20-UKI23","v":0},0,0,0,0,0,0,0,0,0,0,0,0,0,0,0,0,0,0,0,0,0,0,0,0,0,0,0,0,0,0,0,0,0,0,0,0,0,0,0,0,0,0,0,0,0,0,0,0,0,0,0,0,0,0,0,0,0,0,0,0,0,0,0,{"$f":"UMU20-UMU23","v":0},0,0,0,0,0,0,0,0,0,0,0,0,0,0,0,0,0,0,0,0,0,0,0,0,0,0,0,0,0,0,0,0,0,0,0,0,0,0,0,0,0,0,0,0,0,0,0,0,0,0,0,0,0,0,0,0,0,0,0,0,0,0,0,{"$f":"UPG20-UPG23","v":0},0,0,0,0,0,0,0,0,0,0,0,0,0,0,0,0,0,0,0,0,0,0,0,0,0,0,0,0,0,0,0,0,0,0,0,0,0,0,0,0,0,0,0,0,0,0,0,0,0,0,0,0,0,0,0,0,0,0,0,0,0,0,0,{"$f":"URS20-URS23","v":0},0,0,0,0,0,0,0,0,0,0,0,0,0,0,0,0,0,0,0,0,0,0,0,0,0,0,0,0,0,0,0,0,0,0,0,0,0,0,0,0,0,0,0,0,0,0,0,0,0,0,0,0,0,0,0,0,0,0,0,0,0,0,0,{"$f":"UUE20-UUE23","v":0},0,0,0,0,0,0,0,0,0,0,0,0,0,0,0,0,0,0,0,0,0,0,0,0,0,0,0,0,0,0,0,0,0,0,0,0,0,0,0,0,0,0,0,0,0,0,0,0,0,0,0,0,0,0,0,0,0,0,0,0,0,0,0,{"$f":"UWQ20-UWQ23","v":0},0,0,0,0,0,0,0,0,0,0,0,0,0,0,0,0,0,0,0,0,0,0,0,0,0,0,0,0,0,0,0,0,0,0,0,0,0,0,0,0,0,0,0,0,0,0,0,0,0,0,0,0,0,0,0,0,0,0,0,0,0,0,0,{"$f":"UZC20-UZC23","v":0},0,0,0,0,0,0,0,0,0,0,0,0,0,0,0,0,0,0,0,0,0,0,0,0,0,0,0,0,0,0,0,0,0,0,0,0,0,0,0,0,0,0,0,0,0,0,0,0,0,0,0,0,0,0,0,0,0,0,0,0,0,0,0,{"$f":"VBO20-VBO23","v":0},0,0,0,0,0,0,0,0,0,0,0,0,0,0,0,0,0,0,0,0,0,0,0,0,0,0,0,0,0,0,0,0,0,0,0,0,0,0,0,0,0,0,0,0,0,0,0,0,0,0,0,0,0,0,0,0,0,0,0,0,0,0,0,{"$f":"VEA20-VEA23","v":0},0,0,0,0,0,0,0,0,0,0,0,0,0,0,0,0,0,0,0,0,0,0,0,0,0,0,0,0,0,0,0,0,0,0,0,0,0,0,0,0,0,0,0,0,0,0,0,0,0,0,0,0,0,0,0,0,0,0,0,0,0,0,0,{"$f":"VGM20-VGM23","v":0},0,0,0,0,0,0,0,0,0,0,0,0,0,0,0,0,0,0,0,0,0,0,0,0,0,0,0,0,0,0,0,0,0,0,0,0,0,0,0,0,0,0,0,0,0,0,0,0,0,0,0,0,0,0,0,0,0,0,0,0,0,0,0,{"$f":"VIY20-VIY23","v":0},0,0,0,0,0,0,0,0,0,0,0,0,0,0,0,0,0,0,0,0,0,0,0,0,0,0,0,0,0,0,0,0,0,0,0,0,0,0,0,0,0,0,0,0,0,0,0,0,0,0,0,0,0,0,0,0,0,0,0,0,0,0,0,{"$f":"VLK20-VLK23","v":0},0,0,0,0,0,0,0,0,0,0,0,0,0,0,0,0,0,0,0,0,0,0,0,0,0,0,0,0,0,0,0,0,0,0,0,0,0,0,0,0,0,0,0,0,0,0,0,0,0,0,0,0,0,0,0,0,0,0,0,0,0,0,0,{"$f":"VNW20-VNW23","v":0},0,0,0,0,0,0,0,0,0,0,0,0,0,0,0,0,0,0,0,0,0,0,0,0,0,0,0,0,0,0,0,0,0,0,0,0,0,0,0,0,0,0,0,0,0,0,0,0,0,0,0,0,0,0,0,0,0,0,0,0,0,0,0,{"$f":"VQI20-VQI23","v":0},0,0,0,0,0,0,0,0,0,0,0,0,0,0,0,0,0,0,0,0,0,0,0,0,0,0,0,0,0,0,0,0,0,0,0,0,0,0,0,0,0,0,0,0,0,0,0,0,0,0,0,0,0,0,0,0,0,0,0,0,0,0,0,{"$f":"VSU20-VSU23","v":0},0,0,0,0,0,0,0,0,0,0,0,0,0,0,0,0,0,0,0,0,0,0,0,0,0,0,0,0,0,0,0,0,0,0,0,0,0,0,0,0,0,0,0,0,0,0,0,0,0,0,0,0,0,0,0,0,0,0,0,0,0,0,0,{"$f":"VVG20-VVG23","v":0},0,0,0,0,0,0,0,0,0,0,0,0,0,0,0,0,0,0,0,0,0,0,0,0,0,0,0,0,0,0,0,0,0,0,0,0,0,0,0,0,0,0,0,0,0,0,0,0,0,0,0,0,0,0,0,0,0,0,0,0,0,0,0,{"$f":"VXS20-VXS23","v":0},0,0,0,0,0,0,0,0,0,0,0,0,0,0,0,0,0,0,0,0,0,0,0,0,0,0,0,0,0,0,0,0,0,0,0,0,0,0,0,0,0,0,0,0,0,0,0,0,0,0,0,0,0,0,0,0,0,0,0,0,0,0,0,{"$f":"WAE20-WAE23","v":0},0,0,0,0,0,0,0,0,0,0,0,0,0,0,0,0,0,0,0,0,0,0,0,0,0,0,0,0,0,0,0,0,0,0,0,0,0,0,0,0,0,0,0,0,0,0,0,0,0,0,0,0,0,0,0,0,0,0,0,0,0,0,0,{"$f":"WCQ20-WCQ23","v":0},0,0,0,0,0,0,0,0,0,0,0,0,0,0,0,0,0,0,0,0,0,0,0,0,0,0,0,0,0,0,0,0,0,0,0,0,0,0,0,0,0,0,0,0,0,0,0,0,0,0,0,0,0,0,0,0,0,0,0,0,0,0,0,{"$f":"WFC20-WFC23","v":0},0,0,0,0,0,0,0,0,0,0,0,0,0,0,0,0,0,0,0,0,0,0,0,0,0,0,0,0,0,0,0,0,0,0,0,0,0,0,0,0,0,0,0,0,0,0,0,0,0,0,0,0,0,0,0,0,0,0,0,0,0,0,0,{"$f":"WHO20-WHO23","v":0},0,0,0,0,0,0,0,0,0,0,0,0,0,0,0,0,0,0,0,0,0,0,0,0,0,0,0,0,0,0,0,0,0,0,0,0,0,0,0,0,0,0,0,0,0,0,0,0,0,0,0,0,0,0,0,0,0,0,0,0,0,0,0,{"$f":"WKA20-WKA23","v":0},0,0,0,0,0,0,0,0,0,0,0,0,0,0,0,0,0,0,0,0,0,0,0,0,0,0,0,0,0,0,0,0,0,0,0,0,0,0,0,0,0,0,0,0,0,0,0,0,0,0,0,0,0,0,0,0,0,0,0,0,0,0,0,{"$f":"WMM20-WMM23","v":0},0,0,0,0,0,0,0,0,0,0,0,0,0,0,0,0,0,0,0,0,0,0,0,0,0,0,0,0,0,0,0,0,0,0,0,0,0,0,0,0,0,0,0,0,0,0,0,0,0,0,0,0,0,0,0,0,0,0,0,0,0,0,0,{"$f":"WOY20-WOY23","v":0},0,0,0,0,0,0,0,0,0,0,0,0,0,0,0,0,0,0,0,0,0,0,0,0,0,0,0,0,0,0,0,0,0,0,0,0,0,0,0,0,0,0,0,0,0,0,0,0,0,0,0,0,0,0,0,0,0,0,0,0,0,0,0,{"$f":"WRK20-WRK23","v":0},0,0,0,0,0,0,0,0,0,0,0,0,0,0,0,0,0,0,0,0,0,0,0,0,0,0,0,0,0,0,0,0,0,0,0,0,0,0,0,0,0,0,0,0,0,0,0,0,0,0,0,0,0,0,0,0,0,0,0,0,0,0,0,{"$f":"WTW20-WTW23","v":0},0,0,0,0,0,0,0,0,0,0,0,0,0,0,0,0,0,0,0,0,0,0,0,0,0,0,0,0,0,0,0,0,0,0,0,0,0,0,0,0,0,0,0,0,0,0,0,0,0,0,0,0,0,0,0,0,0,0,0,0,0,0,0,{"$f":"WWI20-WWI23","v":0},0,0,0,0,0,0,0,0,0,0,0,0,0,0,0,0,0,0,0,0,0,0,0,0,0,0,0,0,0,0,0,0,0,0,0,0,0,0,0,0,0,0,0,0,0,0,0,0,0,0,0,0,0,0,0,0,0,0,0,0,0,0,0,{"$f":"WYU20-WYU23","v":0},0,0,0,0,0,0,0,0,0,0,0,0,0,0,0,0,0,0,0,0,0,0,0,0,0,0,0,0,0,0,0,0,0,0,0,0,0,0,0,0,0,0,0,0,0,0,0,0,0,0,0,0,0,0,0,0,0,0,0,0,0,0,0,{"$f":"XBG20-XBG23","v":0},0,0,0,0,0,0,0,0,0,0,0,0,0,0,0,0,0,0,0,0,0,0,0,0,0,0,0,0,0,0,0,0,0,0,0,0,0,0,0,0,0,0,0,0,0,0,0,0,0,0,0,0,0,0,0,0,0,0,0,0,0,0,0,{"$f":"XDS20-XDS23","v":0},0,0,0,0,0,0,0,0,0,0,0,0,0,0,0,0,0,0,0,0,0,0,0,0,0,0,0,0,0,0,0,0,0,0,0,0,0]
["(3) Split only available from 2009"]

{"sheet":"GDP","index":6,"n_rows":22,"n_cols":35,"rows_kept":22,"cut":false,"hidden":false,"merged":[]}
["POLAND",null,null,null,null,null,null,null,null,null,null,null,null,null,null,null,null,null,null,null,null,null,null,null,null,null,null,null,null,null,null,null,null,"Volume bn Euro (1)"]
["Gross Domestic Product",null,null,null,null,null,null,null,null,null,null,null,null,null,null,null,null,null,null,null,null,null,null,null,null,null,null,null,null,null,null,null,null,"Annual % change"]
[null,1985,1986,1987,1988,1989,1990,1991,1992,1993,1994,1995,1996,1997,1998,1999,2000,2001,2002,2003,2004,2005,2006,2007,2008,2009,2010,2011,2012,2013,2014,2015,2016,2017,2018]
["Private Consumption"," -"," -"," -"," -",{"$f":"G4*100/(100+G5)","v":106.39061877013846},92.559838330020469,99.409266366441983,104.57854821749697,110.12121127302431,114.85642335776436,120.02496240886376,129.98703428879944,138.9561396547266,145.62603435815348,153.19858814477746,157.18175143654167,160.32538646527249,165.61612421862645,168.26598220612448,175.33315345878171,179.54114914179249,187.97958315145675,200.01027647315001,212.21090333801214,219.4260740515046,225.35057805089522,232.11109539242207,234.43220634634628,237.24539282250242,244.6,{"$f":"(AE4*(100+AF5)/100)","v":252.18259999999998},{"$f":"(AF4*(100+AG5)/100)","v":260.25244319999996},{"$f":"(AG4*(100+AH5)/100)","v":269.10102626879996},278.51956218820794]
[null," -"," -"," -"," -",0.4,-13,7.4,5.2,5.3,4.3,4.5,8.3000000000000007,6.9,4.8,5.2,2.6,2,3.3,1.6,4.2,2.4,4.7,6.4,6.1,3.4,2.7,3,1,1.2,3.1,3.1,3.2,3.4,3.5]
["Public Consumption"," -"," -"," -"," -",{"$f":"G6*100/(100+G7)","v":42.755879480297324},42.755879480297324,39.891235555117404,41.686341155097686,43.270422118991398,44.481993938323157,45.771971762534534,47.28244683069817,49.173744703926097,49.960524619188909,{"$f":"Q6*100/(100+Q7)","v":50.610011439238363},52.178921793854748,52.387637481030168,53.068676768283559,54.926080455173484,57.01327151247007,59.065749286918994,62.314365497699541,64.183796462630525,67.457170082224678,69.885628205184759,72.191853935955862,70.531441295428877,70.672504178019736,72.015281757402107,75.400000000000006,{"$f":"(AE6*(100+AF7)/100)","v":77.81280000000001},{"$f":"(AF6*(100+AG7)/100)","v":80.458435200000011},{"$f":"(AG6*(100+AH7)/100)","v":83.274480432000018},86.605459649280021]
[null," -"," -"," -"," -",-14,0,-6.7,4.5,3.8,2.8,2.9,3.3,4,1.6,1.3,3.1,0.4,1.3,3.5,3.8,3.6,5.5,3,5.0999999999999996,3.6,3.3,-2.2999999999999998,0.2,1.9,4.7,3.2,3.4,3.5,4]
["Gross Domestic Fixed Capital Formation "," -"," -"," -"," -",{"$f":"G8*100/(100+G9)","v":23.217037955719832},20.895334160147851,19.955044122941199,20.094729431801788,20.55690820873323,22.242574681849355,26.046054952445591,31.046897503315144,37.939308749051108,43.326690591416366,46.272905551632675,47.707365623733288,43.509117448844762,40.376460992527939,40.860978524438281,43.598664085575649,47.391747861020733,53.694850326536489,64.004261589231504,69.316615301137716,67.999599610416098,67.727601211974431,74.026268124688045,72.915874102817725,73.717948717948715,80.5,{"$f":"(AE8*(100+AF9)/100)","v":87.745000000000005},{"$f":"(AF8*(100+AG9)/100)","v":92.921955000000011},{"$f":"(AG8*(100+AH9)/100)","v":98.776038165000003},106.18424102737501]
[null," -"," -"," -"," -",-2.4,-10,-4.5,0.7,2.2999999999999998,8.1999999999999993,17.100000000000001,19.2,22.2,14.2,6.8,3.1,-8.8000000000000007,-7.2,1.2,6.7,8.6999999999999993,13.3,19.2,8.3000000000000007,-1.9,-0.4,9.3000000000000007,-1.5,1.1000000000000001,9.1999999999999993,9,5.9,6.3,7.5]
["     of which construction","-","-","-","-","-","-","-","-","-","-","-","-","-","-","-","-","-","-","-",{"$f":"V10*100/(100+V11)","v":15.096674242273592},16.259118158928658,18.681726764609028,21.913665494886391,25.113060657139805,27.071879388396709,28.29011396087456,33.297464131949361,31.099831499240704,28.20754716981132,29.9,{"$f":"AE10*(100+AF11)/100","v":31.813600000000001},{"$f":"AF10*(100+AG11)/100","v":34.740451200000003},{"$f":"AG10*(100+AH11)/100","v":38.318717673600005},41.882358417244802]
[null,"-","-","-","-","-","-","-","-","-","-","-","-","-","-","-","-","-","-","-","-",7.7,14.9,17.3,14.6,7.8,4.5,17.7,-6.6,-9.3000000000000007,6,6.4,9.1999999999999993,10.3,9.3000000000000007]
["Stocks (2)"," -"," -"," -"," -"," -"," -"," -"," -"," -"," -"," -"," -"," -"," -","-","-","-","-","-","-","-","-","-","-","-",6.8,8.5,7.9,"-","-","-"]
[null," -"," -"," -"," -","-","-","-","-","-","-","-","-","-","-","-","-","-","-","-","-",50,0.3,1.6,-0.9,-3,2.1,0.7,-0.6,-0.4,0.4,0.7,1.2,1.2]
["Exports"," -"," -"," -"," -",{"$f":"G14*100/(100+G15)","v":27.335583045748646},31.463256085656688,31.998131439112854,35.45392963453704,35.063936408557133,39.657312078078114,46.280083195117157,49.38084876919001,55.405312319031189,63.328271980652644,{"$f":"Q14*100/(100+Q15)","v":61.681736909155681},75.991899872079799,78.347648768114269,82.108335908983761,93.685611272150467,98.276206224485847,107.80899822826098,124.62720195186968,137.33917655096039,146.95291890952763,137.69488501822738,155.45752518557873,167.73866967523946,174.95143247127476,183.34910122989592,193.8,{"$f":"(AE14*(100+AF15)/100)","v":208.52880000000002},{"$f":"(AF14*(100+AG15)/100)","v":221.6661144},{"$f":"(AG14*(100+AH15)/100)","v":236.73941017919998},254.02138712228157]
[null," -"," -"," -"," -",0.2,15.1,1.7,10.8,-1.1000000000000001,13.1,16.7,6.7,12.2,14.3,-2.6,23.2,3.1,4.8,14.1,4.9000000000000004,9.6999999999999993,15.6,10.199999999999999,7,-6.3,12.9,7.9,4.3,4.8,5.7,7.6,6.3,6.8,7.3]
["Imports"," -"," -"," -"," -",{"$f":"G16*100/(100+G17)","v":20.616456047987189},18.554810443188469,24.418130543236025,24.833238762471037,29.42738793352818,32.752682770016861,39.466982737870318,52.056950231250951,63.197137580738655,74.888608033175302,75.712382721540223,87.523514426100505,82.884768161517187,85.039772133716625,93.203590258553419,100.75308106949625,107.1005251768745,126.48572023388877,146.4704640308432,160.23868764974247,140.3690903811744,160.02076303453882,168.82190500143847,167.80897357142985,170.82953509571558,187.4,{"$f":"(AE16*(100+AF17)/100)","v":202.0172},{"$f":"(AF16*(100+AG17)/100)","v":218.17857599999999},{"$f":"(AG16*(100+AH17)/100)","v":236.94193353599999},256.37117208595197]
[null," -"," -"," -"," -",1.5,-10,31.6,1.7,18.5,11.3,20.5,31.9,21.4,18.5,1.1000000000000001,15.6,-5.3,2.6,9.6,8.1,6.3,18.100000000000001,15.8,9.4,-12.4,14,5.5,-0.6,1.8,9.6999999999999993,7.8,8,8.6,8.1999999999999993]
["GDP"," -"," -"," -"," -",{"$f":"G18*100/(100+G19)","v":202.46976614085213},178.17339420394987,164.63221624444969,168.91265386680539,175.33133471374398,184.44856411885866,197.35996360717877,209.20156142360949,223.42726760041492,234.15177644523482,243.75199927948941,{"$f":"R18*100/(100+R19)","v":253.50207925066897},256.03710004317566,259.62161944378016,268.9679977437562,282.68536562868775,292.57935342569181,310.71927333808469,333.09106101842679,{"$f":"Z18*100/(100+Z19)","v":346.08161239814541},355.07973432049715,368.21768449035551,385.8921333458926,392.8381917461187,399.51644100580268,413.1,{"$f":"(AE18*(100+AF19)/100)","v":427.55850000000004},{"$f":"(AF18*(100+AG19)/100)","v":442.0954890000001},{"$f":"(AG18*(100+AH19)/100)","v":458.01092660400008},476.33136366816007]
[null," -"," -"," -"," -",0.2,-12,-7.6,2.6,3.8,5.2,7,6,6.8,4.8,4.0999999999999996,4,1,1.4,3.6,5.0999999999999996,3.5,6.2,7.2,3.9,2.6,3.7,4.8,1.8,1.7,3.4,3.5,3.4,3.6,4]
[]
["(1) Billions Euro at 2014 Prices: 1 Euro = 4.1198 PLN"]
["(2) % of GDP"]